{"text_format":"3","workbook":"xlsx","n_sheets":19,"sheets":["Number of alcohol deaths (edu)","Number of alcohol deaths (occu)","Availability of causes of death","Table 1","Table 2","Figure 1","Table 3","Table 4ab","Table 4cd","Figure 2a","Figure 2b","Figure 3","Table A1","Table A2","Table A3","Table A4","Figure A1","Sheet1","Sheet2"],"not_rendered":{"charts":14,"external_links":8},"read":"whole","date_system":"1900"}

{"sheet":"Number of alcohol deaths (edu)","index":0,"n_rows":91,"n_cols":10,"rows_kept":91}
["Number of alcohol-related deaths by sex and education group"]
["the number of deaths is smaller than 5"]
[]
[null,null,"All alcohol deaths"]
[null,null,"men",null,null,"women"]
[null,null,"low","middle","high","low","middle","high"]
["Finland","1970-1974",1234.9999999999984,113.9999999999998,84.99999999999991,140.00000000000014,13,13.00000000000002]
[null,"1975-1979",1476.999999999998,175.99999999999946,166.99999999999963,241.99999999999974,27,28.000000000000004]
[null,"1980-1984",1926.9999999999966,375.0000000000009,223.9999999999998,354.9999999999995,77.00000000000001,30.000000000000004]
[null,"1985-1989",2371,600.9999999999978,363.99999999999983,514.9999999999993,108.99999999999976,65.00000000000023]
[null,"1990-1994",2481.000000000001,1013.9999999999983,416.00000000000097,553.9999999999998,182.00000000000026,86.99999999999993]
[null,"1995-1999",2725.9999999999973,1532.9999999999957,525.0000000000014,681.9999999999987,314.00000000000057,133.9999999999993]
[null,"2000-2004",2852.0000000000036,2103.000000000001,774.9999999999989,837.0000000000009,532,210.9999999999998]
[null,"2005-2009",3187.000000000002,2849.000000000003,964.9999999999995,961.9999999999991,681.0000000000008,306.9999999999998]
["Sweden","1990-1994",1210.000000000001,748,118,279.0000000000001,165,34]
[null,"1995-1999",1454.0000000000002,974.0000000000005,202.00000000000003,362.9999999999997,256.0000000000001,61]
[null,"2000-2004",1443,1193.9999999999995,244,378.0000000000001,360.00000000000006,99.00000000000006]
[null,"2005-2009",1054.0000000000005,1109,247.00000000000009,300.0000000000002,313.0000000000003,96.00000000000009]
["Norway","1970-1974",422,188,24,72,37,5]
[null,"1975-1979",552,304,48,135,75,6]
[null,"1980-1984",793.0000000000001,473,67.00000000000001,214.00000000000003,119.00000000000003,13]
[null,"1985-1989",786,509,71,198.00000000000006,143,17]
[null,"1990-1994",736.0000000000001,619,101,199,158,23]
[null,"1995-1999",698,636,137,203,177,22]
[null,"2000-2004",581.0000000000002,601,144,191,169,31]
[null,"2005-2009",301,309,76,117,104,28]
["Denmark","1990-1994",1670.000000000001,1006,265,715,310.00000000000006,104.00000000000003]
[null,"1995-1999",1818.000000000001,1460.0000000000005,400.99999999999983,812.0000000000001,394.0000000000001,152.00000000000006]
[null,"2000-2004",2356,1938.9999999999998,556,976.9999999999999,521,230.00000000000017]
["Scotland","1990-1994",{"v":28.698871499999996,"d":"29"},{"$error":"#VALUE!"},{"$error":"#VALUE!"},{"$error":"#VALUE!"},{"$error":"#VALUE!"},{"$error":"#VALUE!"},null,"VALUE betekent dat het sterfteCIJFER kleiner is dan 10; meestal is het aantal sterfgevallen kleiner dan 5"]
[null,"1995-1999",{"v":61.52284446,"d":"62"},{"$error":"#VALUE!"},{"v":4.144311255,"d":"4"},{"$error":"#VALUE!"},{"$error":"#VALUE!"},{"$error":"#VALUE!"}]
[null,"2000-2004",{"v":116.70334546,"d":"117"},{"v":34.044704771999996,"d":"34"},{"v":15.783765879,"d":"16"},{"v":55.57856451999999,"d":"56"},{"v":10.404686995999999,"d":"10"},{"v":7.824422922999999,"d":"8"}]
[null,"2005-2009",{"v":77.07248768,"d":"77"},{"v":28.224509388,"d":"28"},{"v":19.916978044999997,"d":"20"},{"v":40.2774908,"d":"40"},{"$error":"#VALUE!"},{"v":8.952375750000002,"d":"9"}]
["England & Wales","1970-1974",17.000000000000153,2,5,12,0,0]
[null,"1975-1979",23.999999999999886,4,3.000000000000003,12.000000000000124,0,0]
[null,"1980-1984",28.000000000000142,null,4,16.00000000000004,null,1]
[null,"1985-1989",33.00000000000015,null,4.999999999999886,23,null,2]
[null,"1990-1994",38.00000000000002,null,6.000000000000028,32.000000000000064,null,5.000000000000013]
[null,"1995-1999",65.00000000000026,null,16.000000000000078,42.99999999999976,null,6]
[null,"2000-2004",71.00000000000081,17.999999999999833,13.999999999999918,40.99999999999931,11.000000000000199,8.999999999999938]
[null,"2005-2009",59.00000000000155,17.000000000000025,11.999999999999906,33.00000000000053,12.000000000000048,10.000000000000169]
["Belgium","1990-1994",597.0000000000013,132.99999999999977,81.00000000000007,190.00000000000009,56.000000000000206,21.000000000000004]
[null,"2000-2004",889,295,190.00000000000003,409,138,71.00000000000001]
["France","1975-1979",{"$f":"[1]france!$H$125","v":282},{"$f":"[1]france!$J$125","v":26},{"$f":"[1]france!$L$125","v":0},{"$f":"[1]france!$H$126","v":102},{"$f":"[1]france!$J$126","v":7},{"$f":"[1]france!$L$126","v":0}]
[null,"1975-1979",{"$f":"[1]france!$H$127","v":93},{"$f":"[1]france!$J$127","v":8},{"$f":"[1]france!$L$127","v":1},{"$f":"[1]france!$H$128","v":37},{"$f":"[1]france!$J$128","v":2},{"$f":"[1]france!$L$128","v":1}]
[null,"1980-1984",{"$f":"[1]france!$H$130","v":293},{"$f":"[1]france!$J$130","v":45},{"$f":"[1]france!$L$130","v":5},{"$f":"[1]france!$H$131","v":104},{"$f":"[1]france!$J$131","v":10},{"$f":"[1]france!$L$131","v":0}]
[null,"1985-1989",{"$f":"[1]france!$H$132","v":127},{"$f":"[1]france!$J$132","v":23},{"$f":"[1]france!$L$132","v":6},{"$f":"[1]france!$H$133","v":60},{"$f":"[1]france!$J$133","v":7},{"$f":"[1]france!$L$133","v":0}]
[null,"1990-1994",{"$f":"[1]france!$H$135","v":187},{"$f":"[1]france!$J$135","v":49},{"$f":"[1]france!$L$135","v":6},{"$f":"[1]france!$H$136","v":72},{"$f":"[1]france!$J$136","v":15},{"$f":"[1]france!$L$136","v":3}]
[null,"1995-1999",{"$f":"[1]france!$H$137","v":148},{"$f":"[1]france!$J$137","v":43},{"$f":"[1]france!$L$137","v":4},{"$f":"[1]france!$H$138","v":58},{"$f":"[1]france!$J$138","v":16},{"$f":"[1]france!$L$138","v":0}]
[null,"2000-2004",{"$f":"[1]france!$H$140","v":151},{"$f":"[1]france!$J$140","v":89},{"$f":"[1]france!$L$140","v":13},{"$f":"[1]france!$H$141","v":67},{"$f":"[1]france!$J$141","v":23},{"$f":"[1]france!$L$141","v":6}]
[null,"2005-2009",{"$f":"[1]france!$H$142","v":98},{"$f":"[1]france!$J$142","v":75},{"$f":"[1]france!$L$142","v":13},{"$f":"[1]france!$H$143","v":43},{"$f":"[1]france!$J$143","v":14},{"$f":"[1]france!$L$143","v":1}]
["Switzerland","1990-1994",825.0000000000019,994.000000000001,193.99999999999963,405.00000000000017,312.00000000000006,35.00000000000006]
[null,"1995-1999",706.9999999999992,1134.9999999999982,269,381.9999999999995,414.0000000000003,40]
[null,"2000-2004",619.0000000000014,950.9999999999997,239.00000000000017,293,326.99999999999983,50]
[null,"2005-2009",284.00000000000034,528.9999999999994,164.00000000000003,193.99999999999974,238.00000000000097,25]
["Austria","1980-1984",111.00000000000014,73.99999999999987,2.000000000000004,38.000000000000064,9.000000000000027,0]
[null,"1990-1994",151.00000000000068,149,2.0000000000000018,35.99999999999993,25.99999999999991,0]
[null,"2000-2004",163.00000000000048,230.99999999999926,9,47,54.00000000000021,1]
["Barcelona","1990-1994",126,18,7,37.000000000000014,5,1.0000000000000002]
[null,"1995-1999",139,11,16,47,1.0000000000000002,3]
[null,"2000-2004",131,29,9,39,7,2.0000000000000004]
[null,"2005-2009",91.00000000000001,26.000000000000004,11,33,9,2]
["Basque Country","1995-1999",196,20.000000000000004,7.000000000000003,54,4.000000000000002,3.0000000000000004]
[null,"2000-2004",177.99999999999986,35.000000000000036,16,46.00000000000014,4.000000000000007,4.000000000000009]
["Madrid","1995-1999",50.999999984700004,11.999999996400001,0.9999999997000006,14.999999995499987,3.999999998799999,0]
[null,"2000-2004",76,12,9,18,2,1]
["Italy, Turin","1970-1974",42,2.000000000000017,1,9,0,0]
[null,"1975-1979",54.000000000000774,5.999999999999918,0,16.00000000000026,1.0000000000000095,0]
[null,"1980-1984",73.9999999999996,2.000000000000011,3.0000000000000204,14.000000000000146,1.000000000000008,0]
[null,"1985-1989",55.00000000000002,10.000000000000068,2.000000000000013,16.000000000000387,3.0000000000000013,1]
[null,"1990-1994",42.99999999999967,6.000000000000044,2.0000000000000107,18.000000000000014,3.0000000000000036,0]
[null,"1995-1999",43.99999999999946,8.000000000000014,2.0000000000000044,21.99999999999963,1.000000000000003,0]
[null,"2000-2004",62.99999999999932,5.999999999999948,7.000000000000014,25.999999999999748,8.000000000000085,0]
[null,"2005-2009",24.00000000000007,14,0,6.000000000000052,2.0000000000000107,1.00000000000001]
["Slovenia","1990-1994",1498.9999999999993,125.0000000000002,43.00000000000001,500.9999999999997,43.99999999999994,6]
[null,"1995-1999",1693.000000000002,187.99999999999963,56.99999999999993,611,52,12.000000000000005]
[null,"2000-2004",1021.0000000000006,751.0000000000001,96.00000000000006,399.00000000000006,140,25]
[null,"2005-2009",1457.9999999999998,1213.999999999999,148,629.999999999999,244.00000000000043,39.00000000000001]
["Hungary","1970-1974",1301,45,25,284,6,1]
[null,"1980-1984",4393,255.00000000000003,139,1301,70,13]
[null,"1990-1994",12171.99999999999,1120,437.9999999999997,4070.0000000000073,515,110.00000000000006]
[null,"2000-2004",15632.999999999995,2363.999999999999,881.0000000000001,4561.000000000002,1057.0000000000002,257]
["Czech Republic","1980-1984",30.000000000000007,6,2,8.000000000000002,1.0000000000000002,0]
[null,"2000-2004",451.0000000000001,57.000000000000014,22,120.00000000000003,21,5]
["Poland","1990-1994",3279.9999999999995,369.00000000000006,43.00000000000001,341.00000000000006,74,7]
[null,"2000-2004",2093.000000000001,283,44,230,62,6.000000000000002]
["Lithuania","1985-1989",310,129,8,95.00000000000001,28.000000000000007,4]
[null,"2000-2004",691,1405.9999999999998,178,327.0000000000009,472.00000000000244,64.00000000000006]
[null,"2005-2009",620.0000000000003,1582.9999999999907,187.0000000000001,241.00000000000026,651.0000000000013,75.00000000000018]
["Estonia","1985-1989",358,163,37,99.00000000000001,51,3]
[null,"2000-2004",516.9999999999998,620,80,192,250.00000000000003,24.000000000000004]

{"sheet":"Number of alcohol deaths (occu)","index":1,"n_rows":58,"n_cols":6,"rows_kept":58}
["Number of alcohol-related deaths by sex and education group"]
["the number of deaths is smaller than 5"]
[]
[null,null,"All alcohol deaths"]
[null,null,"men",null,"women"]
[null,null,"non-manual","manual","non-manual","manual"]
["Finland","1970-1974",175.9999999999999,958.9999999999964,46.99999999999984,89.00000000000003]
[null,"1975-1979",314.0000000000006,1145.9999999999977,108,128.00000000000017]
[null,"1980-1984",461.00000000000153,1566.0000000000002,164.00000000000009,225.00000000000009]
[null,"1985-1989",662.0000000000007,2114.0000000000023,267.99999999999955,322.99999999999926]
[null,"1990-1994",790.0000000000005,2479.9999999999977,329.00000000000057,376.9999999999995]
[null,"1995-1999",953.0000000000007,3110.0000000000073,462.00000000000074,524.0000000000011]
[null,"2000-2004",1265.9999999999982,3533.999999999993,687,687.9999999999994]
[null,"2005-2009",1519.0000000000018,4393.9999999999945,898.0000000000007,802.0000000000009]
["Sweden","1990-1994",209.00000000000006,493.0000000000001,63.00000000000004,103.00000000000003]
[null,"1995-1999",370.0000000000004,891.0000000000002,135.00000000000006,167]
[null,"2000-2004",370.0000000000004,891.0000000000002,135.00000000000006,167]
[null,"2005-2009",411.99999999999903,311,120.99999999999983,62.00000000000009]
["Denmark","1990-1994",295.00000000000006,684.0000000000006,61.00000000000002,248.00000000000003]
[null,"1995-1999",265.0000000000002,791.0000000000001,83.00000000000001,257.0000000000001]
[null,"2000-2004",255.00000000000014,922.9999999999993,86.00000000000004,279.00000000000006]
["England & Wales","1970-1974",12,12,2.000000000000004,4]
[null,"1975-1979",13.000000000000112,15,6.999999999999922,2]
[null,"1980-1984",10,18.00000000000001,2.000000000000015,1]
[null,"1985-1989",15.000000000000002,20.99999999999986,8.99999999999992,2.00000000000002]
[null,"1990-1994",24.00000000000009,29.00000000000004,15.999999999999888,15.999999999999908]
[null,"1995-1999",37.000000000000114,54.99999999999891,24.000000000000448,15.99999999999988]
[null,"2000-2004",35.999999999999524,59.000000000000234,24.99999999999983,28]
[null,"2005-2009",25.000000000000206,43.99999999999969,23.00000000000022,23.99999999999975]
["France","1975-1979",62,144,19,19]
[null,"1975-1979",20,54,7,2]
[null,"1980-1984",74,145,21,22]
[null,"1985-1989",27,86,12,7]
[null,"1990-1994",48,123,23,8]
[null,"1995-1999",41,99,21,9]
[null,"2000-2004",76,122,44,15]
[null,"2005-2009",64,100,27,9]
["Switzerland","1990-1994",411.99999999999903,311,120.99999999999983,62.00000000000009]
[null,"1995-1999",695,491.9999999999995,188.00000000000065,112.00000000000014]
[null,"2000-2004",192.00000000000003,132.00000000000048,55.99999999999992,35.00000000000001]
[null,"2005-2009",174.00000000000009,98.00000000000013,65.99999999999989,28.00000000000003]
["Austria","1980-1984",18.000000000000007,40.00000000000005,4.000000000000016,3.000000000000003]
[null,"1990-1994",29.00000000000003,73.00000000000007,8.000000000000005,5.0000000000000275]
[null,"2000-2004",40.99999999999993,84.99999999999977,16,9]
["Basque Country","2000-2004",42.00000000000007,164.0000000000002,9.000000000000009,17]
["Madrid","1995-1999",16.9999999949,32.999999990099994,1.9999999994000008,0.9999999996999998]
[null,"2000-2004",18,12.000000000000004,0,4]
["Italy, Turin","1970-1974",0,0,0,0]
[null,"1975-1979",0,0,0,0]
[null,"1980-1984",4.000000000000012,23.99999999999975,1.000000000000012,1.0000000000000084]
[null,"1985-1989",11.999999999999895,27.00000000000019,2.0000000000000053,3]
[null,"1990-1994",7,26.000000000000053,2.0000000000000044,4]
[null,"1995-1999",11,29.9999999999999,1.000000000000003,7.999999999999922]
[null,"2000-2004",15,34.99999999999982,5,6.00000000000001]
[null,"2005-2009",7.000000000000001,17.999999999999922,3,0]
["Lithuania","2000-2004",73.00000000000003,233.00000000000068,41.000000000000064,33.00000000000007]
[null,"2005-2009",102.99999999999994,390.00000000000097,73.0000000000002,95]
["Estonia","2000-2004",57,148.00000000000003,12.000000000000002,15]

{"sheet":"Availability of causes of death","index":2,"n_rows":110,"n_cols":8,"rows_kept":110}
[null,null,"Alcoholic cardiomyopathy","Alcoholic cirrhosis of liver","Alcoholic psychosis, dependence and abuse","Accidental poisoning by alcohol"]
["austria",1981,"x","x","x","x",null," The definition of this cause of death changed over time"]
[null,1991,"x","x","x","x",null,"This cause of death was missing in one period"]
[null,2001,"x","x","x","x"]
[]
["belgium","1 March 1991 - March 1996","x","x","x","x"]
[null,"March 1996 - March 2001","-","-","-","-"]
["*","Oct 2001 - Oct 2006","-","-","-","-"]
["*","Oct 2006 - 31 Dec 2009","-","-","-","-"]
[null,"2004-2005","x","x","x","x"]
[]
["czech republic","31 Dec 1983 *","-","-","x","x"]
[null,"1 Mar 2001","x","x","x","x"]
[]
["denmark","1 Jan 1991 - 31 Dec 1995","x","x","x","x"]
[null,"1 Jan 1996 - 31 Dec 2000","x","x","x","x"]
[null,"1 Jan 2001 - 31 Dec 2005","x","x","x","x"]
[]
["England &Wales","25 April 1971 - 24 April 1976","x","x","x","x"]
[null,"25 April 1976 - 04 April 1981","x","x","x","x"]
[null,"05 April 1981 - 04 April 1986","x","x","x","x"]
[null,"05 April 1986 - 20 April 1991","x","x","x","x"]
[null,"21 April 1991 - 20 April 1996","x","x","x","x"]
[null,"21 April 1996 - 28 April 2001","x","x","x","x"]
[null,"29 April 2001 - 28 April 2006","x","x","x","x"]
[null,"29 April 2006 - 31 Dec 2009","x","x","x","x"]
[]
["Estonia","1987-1991","-","x","x","x"]
[null,"1998-2002","x","x","x","x"]
[]
["Finland","31.12.1970 - 31.12.1975","x","x","x","x"]
[null,"31.12.1975 - 31.12.1980","x","x","x","x"]
[null,"31.12.1980 - 31.12.1985","x","x","x","x"]
[null,"31.12.1985 - 31.12.1990","x","x","x","x"]
[null,"31.12.1990 - 31.12.1995","x","x","x","x"]
[null,"31.12.1995 - 31.12.2000","x","x","x","x"]
[null,"31.12.2000 - 31.12.2005","x","x","x","x"]
[null,"31.12.2005 - 31.12.2010","x","x","x","x"]
[null,"31.12.1970 - 31.12.1975","x","x","x","x"]
[]
["France","10.1.1975 - 9.1.1980","-","-","-","-"]
[null,"10.1.1980 - 9.1.1982","-","-","-","-"]
[null,"10.1.1982 - 9.1.1987","-","-","-","-"]
[null,"10.1.1987 - 9.1.1990","-","-","-","-"]
[null,"10.1.1990 - 9.1.1995","-","-","-","-"]
[null,"10.1.1995 - 9.1.1999 ","-","-","-","-"]
[null,"10.1.1999 - 9.1.2004","-","-","-","-"]
[null,"10.1.2004 - 31.12.2007","-","-","-","-"]
[]
["Hungary","1971-1974","x","x","x","x"]
[null,"1978-1981","x","x","x","x"]
[null,"1988-1991","x","x","x","x"]
[null,"1999-2002","x","x","x","x"]
[]
["Italy (Turin)","24 Oct 1971 - 24 Oct 1976","x","x","x","x"]
[null,"25 Oct 1976 - 24 Oct 1981","x","x","x","x"]
[null,"25 Oct 1981 - 24 Oct 1986","x","x","x","x"]
[null,"25 Oct 1986 - 19 Oct 1991","x","x","x","x"]
[null,"20 Oct 1991 - 19 Oct 1996","x","x","x","x"]
[null,"20 Oct 1996 - 20 Oct 2001","x","x","x","x"]
[null,"21 Oct 2001 - 20 Oct 2006","x","x","x","x"]
[null,"21 Oct 2006 - 31 Dec 2010","x","x","x","x"]
[]
["Lithuania, cross-sectional","1 Jan 1988 - 31 Dec 1990","-","x","x","x"]
[null,"2000-2002","x","x","x","x"]
["Lithuania, longitudinal","06.04.2001 - 31.12.2005","x","x","x","x"]
[null,"1.1.2006 - 31.12.2009","x","x","x","x"]
[]
["Norway","Nov 1970 - Oct 1975","combined with the other alcohol causes","x, but also combined with the other alcohol causes","Combined with the 3 other ALCOHOL causes","combined with the other alcohol causes"]
[null,"Nov 1975 - Dec 1980","combined with the other alcohol causes","x, but also combined with the other alcohol causes","Combined with the 3 other ALCOHOL causes","combined with the other alcohol causes"]
[null,"Nov 1980 - Oct 1985","combined with the other alcohol causes","x, but also combined with the other alcohol causes","Combined with the 3 other ALCOHOL causes","combined with the other alcohol causes"]
[null,"Nov 1985 - Dec 1990","combined with the other alcohol causes","x, but also combined with the other alcohol causes","Combined with the 3 other ALCOHOL causes","combined with the other alcohol causes"]
[null,"Nov 1990 - Oct 1995","combined with the other alcohol causes","x, but also combined with the other alcohol causes","Combined with the 3 other ALCOHOL causes","combined with the other alcohol causes"]
[null,"Nov 1995 - Dec 2001","combined with the other alcohol causes","x, but also combined with the other alcohol causes","Combined with the 3 other ALCOHOL causes","combined with the other alcohol causes"]
[null,"Nov 2001 - Oct 2006","combined with the other alcohol causes","x, but also combined with the other alcohol causes","Combined with the 3 other ALCOHOL causes","combined with the other alcohol causes"]
[null,"Nov 2006 - Dec 2009","combined with the other alcohol causes","x, but also combined with the other alcohol causes","Combined with the 3 other ALCOHOL causes","combined with the other alcohol causes"]
[]
["Poland","1991-1993","-","-","x","x"]
[null,"2001-2003","x","x","x","x"]
[]
["Scotland","1991-1995","-","-","-","-"]
[null,"1996-2000","-","-","-","-"]
[null,"2001-2005","-","-","-","-"]
[null,"2006-2010","-","-","-","-"]
[]
["Slovenia","1.1.1991 - 31.12.1995","x","x","x","x"]
[null,"1.1.1996 – 31.12.2001 ","x","x","x","x"]
[null,"1.1.2002 – 31.12.2006 ","x","x","x","x"]
[null,"1.1.2007 – 31.12.2011 ","x","x","x","x"]
[]
["Spain (Barcelona)","1992-1996","x","x","x","x"]
[null,"1997-2001","x","x","x","x"]
[null,"2002-2006","x","x","x","x"]
[null,"2007-2010","x","x","x","x"]
[]
["Spain (Basque Country)","1.5.1996 - 30.4.2001","x","x","x","x"]
[null,"1.11.2001 - 31.10.2006","x","x","x","x"]
[]
["Spain (Madrid)","1.5.1996 - 31.12.1997","x","x","x","x"]
[null,"1.11.2001 - 30.6.2003","x","x","x","x"]
[]
["Sweden","Jan 1990 - Dec 1994","x","x","x","x"]
[null,"Jan 1995 - Dec 1999","x","x","x","x"]
[null,"Jan 2000 - Dec 2004","x","x","x","x"]
[null,"Jan 2005 - Dec 2008","x","x","x","x"]
[]
["Switzerland","4.12.1990 - 4.12.1995","x","x","x","x"]
[null,"5.12.1995 - 4.12.2000","x","x","x","x"]
[null,"5.12.2000 - 4.12.2005","x","x","x","x"]
[null,"5.12.2005 - 31.12.2008","x","x","x","x"]

{"sheet":"Table 1","index":3,"n_rows":24,"n_cols":9,"rows_kept":24}
[null,"Table 1. Overview of data sources"]
[]
[]
[null,"Country","Design","Years covered by the analysis"]
["North","Finland","longitudinal ","1980-1985","1986-1990","1991-1995","1996-2000","2001-2005","2006-2010"]
[null,"Sweden","longitudinal ",null,null,"1990-1994","1995-1999","2000-2004","2005-2008"]
[null,"Norway","longitudinal ","1980-1985","1985-1990","1990-1995","1995-2001","2001-2006","2006-2009"]
[null,"Denmark","longitudinal ",null,null,"1991-1995","1996-2000","2001-2005"]
["West","Scotland (UK)","longitudinal ",null,null,"1991-1995","1996-2000","2001-2005","2006-2010"]
[null,"England & Wales (UK)","longitudinal ","1981-1986","1986-1991","1991-1996","1996-2001","2001-2006","2006-2009"]
[null,"Belgium","longitudinal ",{"$nulls":4},"2004-2005"]
[null,"France","longitudinal ","1980-1985","1985-1990","1990-1995","1995-1999","1999-2004","2004-2007"]
[null,"Switzerland","longitudinal ",null,null,"1990-1995","1995-2000","2000-2005","2005-2008"]
[null,"Austria","longitudinal ","1981-1982",null,"1991-1992",null,"2001-2002"]
["South","Barcelona (Spain)","cross-sectional",null,null,"1992-1996","1997-2001","2002-2006","2007-2010"]
[null,"Basque Country (Spain)","longitudinal",{"$nulls":3},"1996-2001","2001-2006"]
[null,"Madrid (Spain)","longitudinal ",{"$nulls":3},"1996-1997","2001-2003"]
[null,"Turin (Italy)","longitudinal ","1981-1986","1986-1991","1991-1996","1996-2001","2001-2006","2006-2010"]
["East","Slovenia","longitudinal ",null,null,"1991-1996",null,"2002-2006"]
[null,"Hungary","cross-sectional","1978-1981",null,"1988-1991",null,"1999-2002"]
[null,"Czech Republic","cross-sectional",{"$nulls":4},"1998-2003"]
[null,"Poland","cross-sectional",{"$nulls":4},"2001-2003"]
[null,"Lithuania","cross-sectional, longitudinal",null,"1988-1990",null,null,"2001-2005","2006-2009"]
[null,"Estonia","cross-sectional",null,"1987-1991",null,null,"1998-2002"]

{"sheet":"Table 2","index":4,"n_rows":59,"n_cols":18,"rows_kept":59,"merged":[[2,2,2,16],[3,2,3,4],[3,5,3,7],[3,8,3,10],[3,11,3,13],[3,14,3,16],[4,3,4,4],[4,6,4,7],[4,9,4,10],[4,12,4,13],[4,15,4,16],[33,2,33,4],[33,5,33,7],[33,8,33,10],[33,11,33,13],[33,14,33,16],[34,3,34,4],[34,6,34,7],[34,9,34,10],[34,12,34,13],[34,15,34,16]]}
[null,"Table 2. Latest observed mortality from alcohol-related causes, by country and sex (deaths per 100,000 person-years, age-standardized, with 95% confidence intervals)"]
[]
[null,null,"MEN"]
[null,"Country (period)","Alcoholic cardiomyopathy",null,null,"Alcoholic liver cirrhosis",null,null,"Alcoholic psychosis, dependence and abuse",null,null,"Alcoholic poisoning",null,null,"Total alcohol-related causes",null,null,"Total alcohol-related deaths as % of total mortality"]
[null,null,"ASMR","95% CI",null,"ASMR","95% CI",null,"ASMR","95% CI",null,"ASMR","95% CI",null,"ASMR","95% CI",null,"%"]
["North","Finland (2006–2010)",{"v":7.29,"d":"7.3"},{"v":6.67,"d":"(6.7 -"},{"v":7.92,"d":"7.9)"},{"v":55.77,"d":"55.8"},{"v":54.03,"d":"(54.0 -"},{"v":57.52,"d":"57.5)"},{"v":8.78,"d":"8.8"},{"v":8.1,"d":"(8.1 -"},{"v":9.52,"d":"9.5)"},{"v":27.45,"d":"27.5"},{"v":26.18,"d":"(26.2 -"},{"v":28.83,"d":"28.8)"},{"v":99.28,"d":"99.3"},{"v":96.94,"d":"(96.9 -"},{"v":101.57,"d":"101.6)"},{"v":0.09766174488721878,"d":"9.8%"}]
[null,"Sweden (2005–2008)",{"v":1.18,"d":"1.2"},{"v":0.97,"d":"(1.0 -"},{"v":1.38,"d":"1.4)"},{"v":10.73,"d":"10.7"},{"v":10.12,"d":"(10.1 -"},{"v":11.44,"d":"11.4)"},{"v":9.35,"d":"9.4"},{"v":8.78,"d":"(8.8 -"},{"v":9.95,"d":"10.0)"},{"v":3.62,"d":"3.6"},{"v":3.26,"d":"(3.3 -"},{"v":4.01,"d":"4.0)"},{"v":24.88,"d":"24.9"},{"v":23.86,"d":"(23.9 -"},{"v":25.94,"d":"25.9)"},{"v":0.032468125644338305,"d":"3.2%"}]
[null,"Norway (2006–2009)","-","-","-",{"v":9.71,"d":"9.7"},{"v":8.52,"d":"(8.5 -"},{"v":10.86,"d":"10.9)"},"-","-","-","-","-","-",{"v":25.66,"d":"25.7"},{"v":23.65,"d":"(23.7 -"},{"v":27.76,"d":"27.8)"},{"v":0.027480589022757698,"d":"2.7%"}]
[null,"Denmark (2001–2005)","-","-","-",{"v":37.64,"d":"37.6"},{"v":36.26,"d":"(36.3 -"},{"v":38.99,"d":"39.0)"},{"v":35.13,"d":"35.1"},{"v":33.75,"d":"(33.8 -"},{"v":36.68,"d":"36.7)"},{"v":0.58,"d":"0.6"},{"v":0.4,"d":"(0.4 -"},{"v":0.77,"d":"0.8)"},{"v":74.49,"d":"74.5"},{"v":72.51,"d":"(72.5 -"},{"v":76.57,"d":"76.6)"},{"v":0.06465472346630559,"d":"6.5%"}]
["West","Scotland (2006-2010)","-","-","-","-","-","-","-","-","-","-","-","-",{"v":44.42,"d":"44.4"},{"v":37.45,"d":"(37.5 -"},{"v":51.75,"d":"51.8)"},{"v":0.04527894152064667,"d":"4.5%"}]
[null,"England & Wales (2006–2009)",{"v":0.69,"d":"0.7"},{"v":0,"d":"(0.0"},{"v":1.57,"d":"1.6)"},{"v":15.15,"d":"15.2"},{"v":11.83,"d":"(11.8 -"},{"v":18.5,"d":"18.5)"},{"v":1.93,"d":"1.9"},{"v":0.83,"d":"(0.8 -"},{"v":3.33,"d":"3.3)"},{"v":1.11,"d":"1.1"},{"v":0.23,"d":"(0.2 -"},{"v":2.28,"d":"2.3)"},{"v":18.88,"d":"18.9"},{"v":15.05,"d":"(15.1 -"},{"v":22.95,"d":"23.0)"},{"v":0.02331180777636469,"d":"2.3%"}]
[null,"Belgium (2004–2005)","-","-","-",{"v":19.52,"d":"19.5"},{"v":18.3,"d":"(18.3 -"},{"v":20.53,"d":"20.5)"},7.4,{"v":6.67,"d":"(6.7 -"},{"v":8.05,"d":"8.1)"},"-","-","-",{"v":28.03,"d":"28.0"},{"v":26.58,"d":"(26.6 -"},{"v":29.44,"d":"29.4)"},{"v":0.024859869447992056,"d":"2.5%"}]
[null,"France (2003–2007)","-","-","-","-","-","-","-","-","-","-","-","-",39.1,{"v":33.5,"d":"(33.5 -"},{"v":44.8,"d":"44.8)"},{"v":0.041889865009642174,"d":"4.2%"}]
[null,"Switzerland (2005–2008)",{"v":1,"d":"1.0"},{"v":0.73,"d":"(0.7 -"},{"v":1.3,"d":"1.3)"},{"v":16.82,"d":"16.8"},{"v":15.57,"d":"(15.6 -"},{"v":17.99,"d":"18.0)"},6.6,{"v":5.84,"d":"(5.8 -"},{"v":7.43,"d":"7.4)"},{"v":0.39,"d":"0.4"},{"v":0.22,"d":"(0.2 -"},{"v":0.6,"d":"0.6)"},{"v":24.81,"d":"24.8"},{"v":23.28,"d":"(23.3 -"},{"v":26.27,"d":"26.3)"},{"v":0.03341549153501151,"d":"3.3%"}]
[null,"Austria (2001–2002)",{"v":0.58,"d":"0.6"},{"v":0.29,"d":"(0.3 -"},{"v":0.94,"d":"0.9)"},{"v":9.51,"d":"9.5"},{"v":8.15,"d":"(8.2 -"},{"v":10.88,"d":"10.9)"},{"v":11.75,"d":"11.8"},{"v":10.25,"d":"(10.3 -"},{"v":13.2,"d":"13.2)"},{"v":0.04,"d":"0.0"},"(0,0 -",{"v":0.16,"d":"0.2)"},{"v":21.89,"d":"21.9"},{"v":19.82,"d":"(19.8 -"},{"v":23.97,"d":"24.0)"},{"v":0.0206976106504288,"d":"2.1%"}]
["South","Barcelona (2007–2010)",{"v":0.35,"d":"0.4"},{"v":0.08,"d":"(0.1 -"},{"v":0.71,"d":"0.7)"},{"v":6.77,"d":"6.8"},{"v":5.58,"d":"(5.6 -"},{"v":8.05,"d":"8.1)"},{"v":0.83,"d":"0.8"},{"v":0.4,"d":"(0.4 -"},{"v":1.32,"d":"1.3)"},{"v":0.15,"d":"0.2"},"(0,0 -",{"v":0.37,"d":"0.4)"},8.1,{"v":6.78,"d":"(6.8 -"},{"v":9.49,"d":"9.5)"},{"v":0.00964170932031901,"d":"1.0%"}]
[null,"Basque Country (2001–2006)",{"v":0.48,"d":"0.5"},{"v":0.24,"d":"(0.2 -"},{"v":0.75,"d":"0.8)"},{"v":6.41,"d":"6.4"},{"v":5.47,"d":"(5.5 -"},{"v":7.35,"d":"7.4)"},{"v":1.09,"d":"1.1"},{"v":0.72,"d":"(0.7 -"},{"v":1.47,"d":"1.5)"},{"v":0.19,"d":"0.2"},{"v":0.04,"d":"(0.0 -"},{"v":0.38,"d":"0.4)"},{"v":8.17,"d":"8.2"},{"v":7.13,"d":"(7.1 -"},{"v":9.28,"d":"9.3)"},{"v":0.009088380888814728,"d":"0.9%"}]
[null,"Madrid (2001–2003)",{"v":0.07,"d":"0.1"},"(0,0 -",{"v":0.22,"d":"0.2)"},{"v":5.07,"d":"5.1"},{"v":4.08,"d":"(4.1 -"},{"v":6.11,"d":"6.1)"},{"v":1.31,"d":"1.3"},{"v":0.81,"d":"(0.8 -"},{"v":1.86,"d":"1.9)"},{"v":0,"d":"0.0"},"(0,0 -",{"v":0,"d":"0.0)"},{"v":6.44,"d":"6.4"},{"v":5.29,"d":"(5.3 -"},{"v":7.55,"d":"7.6)"},{"v":0.005849546750958272,"d":"0.6%"}]
[null,"Turin (2006–2010)",{"v":0.14,"d":"0.1"},"(0,0 -",{"v":0.41,"d":"0.4)"},{"v":2.74,"d":"2.7"},{"v":1.7,"d":"(1.7 -"},{"v":3.83,"d":"3.8)"},{"v":1.28,"d":"1.3"},{"v":0.53,"d":"(0.5 -"},{"v":2.22,"d":"2.2)"},{"v":0,"d":"0.0"},"(0,0 -",{"v":0,"d":"0.0)"},{"v":4.16,"d":"4.2"},{"v":2.84,"d":"(2.8 -"},{"v":5.57,"d":"5.6)"},{"v":0.005816636138648471,"d":"0.6%"}]
["East","Slovenia (2002–2006)",{"v":6.21,"d":"6.2"},{"v":5.19,"d":"(5.2 -"},{"v":7.25,"d":"7.3)"},{"v":48.72,"d":"48.7"},{"v":45.92,"d":"(45.9 -"},{"v":51.6,"d":"51.6)"},{"v":20.86,"d":"20.9"},{"v":18.99,"d":"(19.0 -"},{"v":22.69,"d":"22.7)"},"-","-","-",75.7,{"v":72.3,"d":"(72.3 -"},{"v":79.14,"d":"79.1)"},{"v":0.06199023878934783,"d":"6.2%"}]
[null,"Hungary (1999–2002)",{"v":12.18,"d":"12.2"},{"v":11.48,"d":"(11.5 -"},{"v":12.88,"d":"12.9)"},{"v":166.16,"d":"166.2"},{"v":163.42,"d":"(163.4 -"},{"v":168.77,"d":"168.8)"},19.1,{"v":18.29,"d":"(18.3 -"},{"v":19.95,"d":"20.0)"},{"v":0.68,"d":"0.7"},{"v":0.52,"d":"(0.5 -"},{"v":0.85,"d":"0.9)"},{"v":198.11,"d":"198.1"},{"v":195.08,"d":"(195.1 -"},{"v":200.89,"d":"200.9)"},{"v":0.09027527785245909,"d":"9.0%"}]
[null,"Czech Republic (1998–2003)",{"v":0.32,"d":"0.3"},{"v":0.23,"d":"(0.2 -"},{"v":0.42,"d":"0.4)"},{"v":27.05,"d":"27.1"},{"v":26.38,"d":"(26.4 -"},{"v":27.76,"d":"27.8)"},{"v":3.01,"d":"3.0"},{"v":2.75,"d":"(2.8 -"},{"v":3.27,"d":"3.3)"},{"v":3.58,"d":"3.6"},{"v":3.26,"d":"(3.3 -"},{"v":3.88,"d":"3.9)"},{"v":33.96,"d":"34.0"},{"v":33.27,"d":"(33.3 -"},{"v":34.88,"d":"34.9)"},{"v":0.020628325679714267,"d":"2.1%"}]
[null,"Poland (2001–2003)",0.8,{"v":0.68,"d":"(0.7 -"},{"v":0.93,"d":"0.9)"},{"v":10.81,"d":"10.8"},{"v":10.34,"d":"(10.3 -"},{"v":11.28,"d":"11.3)"},13.9,{"v":13.39,"d":"(13.4 -"},{"v":14.44,"d":"14.4)"},{"v":11.47,"d":"11.5"},{"v":10.99,"d":"(11.0 -"},{"v":11.93,"d":"11.9)"},{"v":36.98,"d":"37.0"},{"v":36.16,"d":"(36.2 -"},{"v":37.84,"d":"37.8)"},{"v":0.0362360734128345,"d":"3.6%"}]
[null,"Lithuania (2006–2009)",{"v":23.95,"d":"24.0"},{"v":22.03,"d":"(22.0 -"},{"v":25.68,"d":"25.7)"},{"v":65.79,"d":"65.8"},{"v":62.66,"d":"(62.7 -"},{"v":68.87,"d":"68.9)"},{"v":3.87,"d":"3.9"},{"v":3.15,"d":"(3.2 -"},{"v":4.62,"d":"4.6)"},{"v":45.83,"d":"45.8"},{"v":43.3,"d":"(43.3 -"},{"v":48.28,"d":"48.3)"},{"v":139.44,"d":"139.4"},{"v":135.18,"d":"(135.2 -"},{"v":143.79,"d":"143.8)"},{"v":0.07365035098005039,"d":"7.4%"}]
[null,"Estonia (1998–2002)",{"v":48.24,"d":"48.2"},{"v":44.91,"d":"(44.9 -"},{"v":52.12,"d":"52.1)"},{"v":27.91,"d":"27.9"},{"v":25.27,"d":"(25.3 -"},{"v":30.7,"d":"30.7)"},{"v":8.57,"d":"8.6"},{"v":7.12,"d":"(7.1 -"},{"v":10.07,"d":"10.1)"},{"v":58.13,"d":"58.1"},{"v":54.1,"d":"(54.1 -"},{"v":61.74,"d":"61.7)"},{"v":142.84,"d":"142.8"},{"v":136.79,"d":"(136.8 -"},{"v":148.81,"d":"148.8)"},{"v":0.058539304200289334,"d":"5.9%"}]
[]
[null,"Median (interquartile range)",{"$f":"_xlfn.QUARTILE.INC(C6:C25,2)","v":0.8},{"$f":"_xlfn.QUARTILE.INC(C6:C25,1)","v":{"v":0.415,"d":"(0.4 -"}},{"$f":"_xlfn.QUARTILE.INC(C6:C25,3)","v":{"v":6.75,"d":"6.8)"}},{"$f":"_xlfn.QUARTILE.INC(F6:F25,2)","v":{"v":15.985,"d":"16.0"}},{"$f":"_xlfn.QUARTILE.INC(F6:F25,1)","v":{"v":9.56,"d":"(9.6 -"}},{"$f":"_xlfn.QUARTILE.INC(F6:F25,3)","v":{"v":35.2075,"d":"35.2)"}},{"$f":"_xlfn.QUARTILE.INC(I6:I25,2)","v":7.4},{"$f":"_xlfn.QUARTILE.INC(I6:I25,1)","v":{"v":1.93,"d":"(1.9 -"}},{"$f":"_xlfn.QUARTILE.INC(I6:I25,3)","v":{"v":11.75,"d":"11.8)"}},{"$f":"_xlfn.QUARTILE.INC(L6:L25,2)","v":{"v":0.68,"d":"0.7"}},{"$f":"_xlfn.QUARTILE.INC(L6:L25,1)","v":{"v":0.16999999999999998,"d":"(0.2 -"}},{"$f":"_xlfn.QUARTILE.INC(L6:L25,3)","v":{"v":7.545,"d":"7.5)"}},{"$f":"_xlfn.QUARTILE.INC(O6:O25,2)","v":{"v":30.995,"d":"31.0"}},{"$f":"_xlfn.QUARTILE.INC(O6:O25,1)","v":{"v":21.1375,"d":"(21.1 -"}},{"$f":"_xlfn.QUARTILE.INC(O6:O25,3)","v":{"v":74.79249999999999,"d":"74.8)"}},{"$f":"_xlfn.QUARTILE.INC(R6:R25,2)","v":{"v":0.03294180858967491,"d":"3.3%"}}]
[]
[null,"ASMR= Age-standardized mortality rate"]
[]
[]
[]
[null,null,"WOMEN"]
[null,"Country (period)","Alcoholic cardiomyopathy",null,null,"Alcoholic liver cirrhosis",null,null,"Alcoholic psychosis, dependence and abuse",null,null,"Alcoholic poisoning",null,null,"Total alcohol-related causes",null,null,"Total alcohol-related deaths as % of total mortality"]
[null,null,"ASMR","95% CI",null,"ASMR","95% CI",null,"ASMR","95% CI",null,"ASMR","95% CI",null,"ASMR","95% CI",null,"%"]
["North","Finland (2006–2010)",{"v":0.62,"d":"0.6"},{"v":0.46,"d":"(0.5 -"},{"v":0.81,"d":"0.8)"},16.8,{"v":15.84,"d":"(15.8 -"},{"v":17.77,"d":"17.8)"},{"v":1.72,"d":"1.7"},{"v":1.44,"d":"(1.4 -"},{"v":2.02,"d":"2.0)"},{"v":7.24,"d":"7.2"},{"v":6.61,"d":"(6.6 -"},{"v":7.92,"d":"7.9)"},{"v":26.39,"d":"26.4"},{"v":25.22,"d":"(25.2 -"},{"v":27.55,"d":"27.6)"},{"v":0.05618121048261767,"d":"5.6%"}]
[null,"Sweden (2005–2008)",{"v":0.16,"d":"0.2"},{"v":0.08,"d":"(0.1 -"},{"v":0.24,"d":"0.2)"},{"v":7.87,"d":"7.9"},{"v":7.04,"d":"(7.0 -"},{"v":8.73,"d":"8.7)"},{"v":2.04,"d":"2.0"},{"v":1.76,"d":"(1.8 -"},{"v":2.37,"d":"2.4)"},{"v":1.08,"d":"1.1"},{"v":0.87,"d":"(0.9 -"},{"v":1.3,"d":"1.3)"},7.2,{"v":6.67,"d":"(6.7 -"},{"v":7.74,"d":"7.7)"},{"v":0.014977533699450823,"d":"1.5%"}]
[null,"Norway (2006–2009)","-","-","-",{"v":4.35,"d":"4.4"},{"v":3.59,"d":"(3.6 -"},{"v":5.02,"d":"5.0)"},"-","-","-","-","-","-",{"v":8.98,"d":"9.0"},{"v":7.94,"d":"(7.9 -"},{"v":10.16,"d":"10.2)"},{"v":0.01569765409222809,"d":"1.6%"}]
[null,"Denmark (2001–2005)","-","-","-",{"v":16.04,"d":"16.0"},{"v":15.14,"d":"(15.1 -"},{"v":16.99,"d":"17.0)"},{"v":9.44,"d":"9.4"},{"v":8.73,"d":"(8.7 -"},{"v":10.24,"d":"10.2)"},{"v":0.26,"d":"0.3"},{"v":0.15,"d":"(0.2 -"},{"v":0.38,"d":"0.4)"},{"v":25.93,"d":"25.9"},{"v":24.7,"d":"(24.7 -"},{"v":27.09,"d":"27.1)"},{"v":0.03468339530777668,"d":"3.5%"}]
["West","Scotland (2006-2010)","-","-","-","-","-","-","-","-","-","-","-","-",{"v":16.71,"d":"16.7"},{"v":12.19,"d":"(12.2 -"},{"v":20.86,"d":"20.9)"},{"v":0.024960043019104663,"d":"2.5%"}]
[null,"England & Wales (2006–2009)",{"v":0,"d":"0.0"},"(0,0 -",{"v":0,"d":"0.0)"},8.4,{"v":5.98,"d":"(6.0 -"},{"v":11.05,"d":"11.1)"},{"v":1.91,"d":"1.9"},{"v":0.87,"d":"(0.9 -"},{"v":3.32,"d":"3.3)"},{"v":0.14,"d":"0.1"},"(0,0 -",{"v":0.43,"d":"0.4)"},{"v":10.45,"d":"10.5"},{"v":7.59,"d":"(7.6 -"},{"v":13.49,"d":"13.5)"},{"v":0.018344597559905203,"d":"1.8%"}]
[null,"Belgium (2004–2005)","-","-","-",{"v":8.58,"d":"8.6"},{"v":7.84,"d":"(7.8 -"},{"v":9.31,"d":"9.3)"},{"v":2.87,"d":"2.9"},{"v":2.46,"d":"(2.5 -"},{"v":3.25,"d":"3.3)"},"-","-","-",11.6,{"v":10.42,"d":"(10.4 -"},{"v":12.34,"d":"12.3)"},{"v":0.019297632712814625,"d":"1.9%"}]
[null,"France (2003–2007)","-","-","-","-","-","-","-","-","-","-","-","-",{"v":10.799999999999999,"d":"10.8"},{"v":8,"d":"(8.0 -"},{"v":13.6,"d":"13.6)"},{"v":0.025239541949053517,"d":"2.5%"}]
[null,"Switzerland (2005–2008)",{"v":0.11,"d":"0.1"},{"v":0.02,"d":"(0.0 -"},{"v":0.23,"d":"0.2)"},{"v":7.87,"d":"7.9"},{"v":7.04,"d":"(7.0 -"},{"v":8.73,"d":"8.7)"},{"v":2.15,"d":"2.2"},{"v":1.78,"d":"(1.8 -"},{"v":2.57,"d":"2.6)"},{"v":0.06,"d":"0.1"},"(0,0 -",{"v":0.15,"d":"0.2)"},10.2,{"v":9.29,"d":"(9.3 -"},{"v":11.18,"d":"11.2)"},{"v":0.02424876378851274,"d":"2.4%"}]
[null,"Austria (2001–2002)",{"v":0.17,"d":"0.2"},{"v":0.02,"d":"(0.0 -"},{"v":0.37,"d":"0.4)"},{"v":2.47,"d":"2.5"},{"v":1.8,"d":"(1.8 -"},{"v":3.2,"d":"3.2)"},{"v":2.51,"d":"2.5"},{"v":1.84,"d":"(1.8 -"},{"v":3.22,"d":"3.2)"},{"v":0.04,"d":"0.0"},"(0,0 -",{"v":0.1,"d":"0.1)"},{"v":5.19,"d":"5.2"},{"v":4.26,"d":"(4.3 -"},{"v":6.26,"d":"6.3)"},{"v":0.009452863179367626,"d":"0.9%"}]
["South","Barcelona (2007–2010)",{"v":0.05,"d":"0.1"},"(0,0 -",{"v":0.16,"d":"0.2)"},{"v":2.18,"d":"2.2"},{"v":1.57,"d":"(1.6 -"},{"v":2.86,"d":"2.9)"},{"v":0.15,"d":"0.2"},{"v":0,"d":"(0.0"},{"v":0.34,"d":"0.3)"},{"v":0.06,"d":"0.1"},"(0,0 -",{"v":0.24,"d":"0.2)"},{"v":2.45,"d":"2.5"},{"v":1.76,"d":"(1.8 -"},{"v":3.16,"d":"3.2)"},{"v":0.006618223074637349,"d":"0.7%"}]
[null,"Basque Country (2001–2006)",{"v":0.08,"d":"0.1"},"(0,0 -",{"v":0.19,"d":"0.2)"},{"v":1.16,"d":"1.2"},{"v":0.79,"d":"(0.8 -"},{"v":1.54,"d":"1.5)"},{"v":0.29,"d":"0.3"},{"v":0.11,"d":"(0.1 -"},{"v":0.51,"d":"0.5)"},{"v":0.27,"d":"0.3"},{"v":0.11,"d":"(0.1 -"},{"v":0.48,"d":"0.5)"},{"v":1.79,"d":"1.8"},{"v":1.3,"d":"(1.3 -"},{"v":2.29,"d":"2.3)"},{"v":0.004944205060214341,"d":"0.5%"}]
[null,"Madrid (2001–2003)",{"v":0,"d":"0.0"},"(0,0 -",{"v":0,"d":"0.0)"},{"v":0.95,"d":"1.0"},{"v":0.58,"d":"(0.6 -"},{"v":1.37,"d":"1.4)"},{"v":0.16,"d":"0.2"},{"v":0.03,"d":"(0.0 -"},{"v":0.33,"d":"0.3)"},{"v":0,"d":"0.0"},"(0,0 -",{"v":0,"d":"0.0)"},{"v":1.11,"d":"1.1"},{"v":0.73,"d":"(0.7 -"},{"v":1.57,"d":"1.6)"},{"v":2.3731132680549025E-3,"d":"0.2%"}]
[null,"Turin (2006–2010)",{"v":0,"d":"0.0"},"(0,0 -",{"v":0,"d":"0.0)"},{"v":0.92,"d":"0.9"},{"v":0.32,"d":"(0.3 -"},{"v":1.7,"d":"1.7)"},{"v":0.11,"d":"0.1"},"(0,0 -",{"v":0.34,"d":"0.3)"},{"v":0,"d":"0.0"},"(0,0 -",{"v":0,"d":"0.0)"},{"v":1.04,"d":"1.0"},{"v":0.4,"d":"(0.4 -"},{"v":1.77,"d":"1.8)"},{"v":0.002827469958131695,"d":"0.3%"}]
["East","Slovenia (2002–2006)",{"v":0.77,"d":"0.8"},{"v":0.46,"d":"(0.5 -"},{"v":1.14,"d":"1.1)"},{"v":16.26,"d":"16.3"},{"v":14.58,"d":"(14.6 -"},{"v":17.91,"d":"17.9)"},3.5,{"v":2.86,"d":"(2.9 -"},{"v":4.26,"d":"4.3)"},"-","-","-",{"v":20.41,"d":"20.4"},{"v":18.55,"d":"(18.6 -"},{"v":22.07,"d":"22.1)"},{"v":0.035846637511635665,"d":"3.6%"}]
[null,"Hungary (1999–2002)",{"v":1.88,"d":"1.9"},{"v":1.64,"d":"(1.6 -"},{"v":2.14,"d":"2.1)"},{"v":46.48,"d":"46.5"},{"v":45.18,"d":"(45.2 -"},{"v":47.72,"d":"47.7)"},{"v":2.88,"d":"2.9"},{"v":2.59,"d":"(2.6 -"},{"v":3.19,"d":"3.2)"},{"v":0.13,"d":"0.1"},{"v":0.07,"d":"(0.1 -"},{"v":0.2,"d":"0.2)"},{"v":51.36,"d":"51.4"},{"v":50.04,"d":"(50.0 -"},{"v":52.73,"d":"52.7)"},{"v":0.050218041731036236,"d":"5.0%"}]
[null,"Czech Republic (1998–2003)",{"v":0.05,"d":"0.1"},{"v":0.02,"d":"(0.0 -"},{"v":0.09,"d":"0.1)"},{"v":7.48,"d":"7.5"},{"v":7.01,"d":"(7.0 -"},{"v":7.86,"d":"7.9)"},{"v":0.66,"d":"0.7"},{"v":0.52,"d":"(0.5 -"},{"v":0.78,"d":"0.8)"},{"v":0.95,"d":"1.0"},{"v":0.76,"d":"(0.8 -"},{"v":1.07,"d":"1.1)"},{"v":9.15,"d":"9.2"},{"v":8.67,"d":"(8.7 -"},{"v":9.59,"d":"9.6)"},{"v":0.011068369865002179,"d":"1.1%"}]
[null,"Poland (2001–2003)",{"v":0.06,"d":"0.1"},{"v":0.03,"d":"(0.0 -"},{"v":0.1,"d":"0.1)"},{"v":1.96,"d":"2.0"},{"v":1.78,"d":"(1.8 -"},{"v":2.16,"d":"2.2)"},{"v":1.25,"d":"1.3"},{"v":1.11,"d":"(1.1 -"},{"v":1.41,"d":"1.4)"},{"v":1.32,"d":"1.3"},{"v":1.18,"d":"(1.2 -"},{"v":1.47,"d":"1.5)"},{"v":4.59,"d":"4.6"},{"v":4.32,"d":"(4.3 -"},{"v":4.88,"d":"4.9)"},{"v":0.011984647118723726,"d":"1.2%"}]
[null,"Lithuania (2006–2009)",{"v":5.92,"d":"5.9"},{"v":5.15,"d":"(5.2 -"},{"v":6.79,"d":"6.8)"},{"v":24.15,"d":"24.2"},{"v":22.46,"d":"(22.5 -"},{"v":25.97,"d":"26.0)"},{"v":0.73,"d":"0.7"},{"v":0.44,"d":"(0.4 -"},{"v":1.03,"d":"1.0)"},{"v":12.09,"d":"12.1"},{"v":10.92,"d":"(10.9 -"},{"v":13.29,"d":"13.3)"},{"v":42.89,"d":"42.9"},{"v":40.58,"d":"(40.6 -"},{"v":45.29,"d":"45.3)"},{"v":0.06900712757228131,"d":"6.9%"}]
[null,"Estonia (1998–2002)",{"v":13.32,"d":"13.3"},{"v":11.76,"d":"(11.8 -"},{"v":14.98,"d":"15.0)"},{"v":11.98,"d":"12.0"},{"v":10.45,"d":"(10.5 -"},{"v":13.79,"d":"13.8)"},{"v":2.19,"d":"2.2"},{"v":1.56,"d":"(1.6 -"},{"v":2.89,"d":"2.9)"},{"v":14.61,"d":"14.6"},{"v":12.83,"d":"(12.8 -"},{"v":16.46,"d":"16.5)"},42.1,{"v":39.19,"d":"(39.2 -"},{"v":45.04,"d":"45.0)"},{"v":0.04279455563800482,"d":"4.3%"}]
[]
[null,"Median (interquartile range)",{"$f":"_xlfn.QUARTILE.INC(C36:C55,2)","v":{"v":0.11,"d":"0.1"}},{"$f":"_xlfn.QUARTILE.INC(C36:C55,1)","v":{"v":0.05,"d":"(0.1 -"}},{"$f":"_xlfn.QUARTILE.INC(C36:C55,3)","v":{"v":0.6950000000000001,"d":"0.7)"}},{"$f":"_xlfn.QUARTILE.INC(F36:F55,2)","v":{"v":7.87,"d":"7.9"}},{"$f":"_xlfn.QUARTILE.INC(F36:F55,1)","v":{"v":2.2525000000000004,"d":"(2.3 -"}},{"$f":"_xlfn.QUARTILE.INC(F36:F55,3)","v":{"v":15.024999999999999,"d":"15.0)"}},{"$f":"_xlfn.QUARTILE.INC(I36:I55,2)","v":{"v":1.91,"d":"1.9"}},{"$f":"_xlfn.QUARTILE.INC(I36:I55,1)","v":{"v":0.66,"d":"(0.7 -"}},{"$f":"_xlfn.QUARTILE.INC(I36:I55,3)","v":{"v":2.51,"d":"2.5)"}},{"$f":"_xlfn.QUARTILE.INC(L36:L55,2)","v":{"v":0.26,"d":"0.3"}},{"$f":"_xlfn.QUARTILE.INC(L36:L55,1)","v":{"v":0.06,"d":"(0.1 -"}},{"$f":"_xlfn.QUARTILE.INC(L36:L55,3)","v":{"v":1.2000000000000002,"d":"1.2)"}},{"$f":"_xlfn.QUARTILE.INC(O36:O55,2)","v":{"v":10.325,"d":"10.3"}},{"$f":"_xlfn.QUARTILE.INC(O36:O55,1)","v":{"v":5.04,"d":"(5.0 -"}},{"$f":"_xlfn.QUARTILE.INC(O36:O55,3)","v":{"v":21.79,"d":"21.8)"}},{"$f":"_xlfn.QUARTILE.INC(R36:R55,2)","v":{"v":0.018821115136359916,"d":"1.9%"}}]
[]
[null,"ASMR= Age-standardized mortality rate"]

{"sheet":"Figure 1","index":5,"n_rows":56,"n_cols":36,"rows_kept":56,"merged":[[3,2,3,12],[3,19,3,29]]}
["Age-standardized mortality rates (per 100,000 person-years) by education, total alcohol-related causes, 35–79 years, education"]
["Pas op: aantallen sterfgevallen kleiner dan 5"]
[]
[null,null,"Men - education",{"$nulls":16},"Women - education"]
["Country","Period","low","95% CI","95% CI","95% ci help","95% ci help","mid","95% CI","95% CI","95% ci help","95% ci help","high","95% CI","95% CI","95% ci help","95% ci help",null,null,"low","95% CI","95% CI","95% ci help","95% ci help","mid","95% CI","95% CI","95% ci help","95% ci help","high","95% CI","95% CI","95% ci help","95% ci help"]
["Finland","2006–2010",{"$f":"[2]ALCOHOL!$D$125","v":{"v":144.61,"d":"144.6"}},{"$f":"[2]ALCOHOL!$E$125","v":{"v":139.32,"d":"139.3"}},{"$f":"[2]ALCOHOL!$F$125","v":150.5},{"$f":"C6-D6","v":{"v":5.2900000000000205,"d":"5.3"}},{"$f":"E6-C6","v":{"v":5.889999999999986,"d":"5.9"}},{"$f":"[2]ALCOHOL!$G$125","v":{"v":106,"d":"106.0"}},{"$f":"[2]ALCOHOL!$H$125","v":{"v":101.91,"d":"101.9"}},{"$f":"[2]ALCOHOL!$I$125","v":{"v":110,"d":"110.0"}},{"$f":"H6-I6","v":{"v":4.090000000000003,"d":"4.1"}},{"$f":"J6-H6","v":{"v":4,"d":"4.0"}},{"$f":"[2]ALCOHOL!$J$125","v":{"v":48.61,"d":"48.6"}},{"$f":"[2]ALCOHOL!$K$125","v":{"v":45.43,"d":"45.4"}},{"$f":"[2]ALCOHOL!$L$125","v":{"v":51.54,"d":"51.5"}},{"$f":"M6-N6","v":{"v":3.1799999999999997,"d":"3.2"}},{"$f":"O6-M6","v":{"v":2.9299999999999997,"d":"2.9"}},null,null,{"$f":"[2]ALCOHOL!$D$133","v":{"v":49.97,"d":"50.0"}},{"$f":"[2]ALCOHOL!$E$133","v":{"v":46.02,"d":"46.0"}},{"$f":"[2]ALCOHOL!$F$133","v":{"v":54.09,"d":"54.1"}},{"$f":"T6-U6","v":{"v":3.9499999999999957,"d":"4.0"}},{"$f":"V6-T6","v":{"v":4.1200000000000045,"d":"4.1"}},{"$f":"[2]ALCOHOL!$G$133","v":{"v":25.27,"d":"25.3"}},{"$f":"[2]ALCOHOL!$H$133","v":{"v":23.43,"d":"23.4"}},{"$f":"[2]ALCOHOL!$I$133","v":{"v":27.25,"d":"27.3"}},{"$f":"Y6-Z6","v":{"v":1.8399999999999999,"d":"1.8"}},{"$f":"AA6-Y6","v":{"v":1.9800000000000004,"d":"2.0"}},{"$f":"[2]ALCOHOL!$J$133","v":{"v":13.79,"d":"13.8"}},{"$f":"[2]ALCOHOL!$K$133","v":{"v":12.16,"d":"12.2"}},{"$f":"[2]ALCOHOL!$L$133","v":{"v":15.35,"d":"15.4"}},{"$f":"AD6-AE6","v":{"v":1.629999999999999,"d":"1.6"}},{"$f":"AF6-AD6","v":{"v":1.5600000000000005,"d":"1.6"}}]
["Sweden","2005–2008",{"$f":"[2]ALCOHOL!$D$341","v":{"v":35.36,"d":"35.4"}},{"$f":"[2]ALCOHOL!$E$341","v":{"v":32.86,"d":"32.9"}},{"$f":"[2]ALCOHOL!$F$341","v":{"v":37.79,"d":"37.8"}},{"$f":"C7-D7","v":2.5},{"$f":"E7-C7","v":{"v":2.4299999999999997,"d":"2.4"}},{"$f":"[2]ALCOHOL!$G$341","v":{"v":27.31,"d":"27.3"}},{"$f":"[2]ALCOHOL!$H$341","v":{"v":25.78,"d":"25.8"}},{"$f":"[2]ALCOHOL!$I$341","v":{"v":28.96,"d":"29.0"}},{"$f":"H7-I7","v":{"v":1.5299999999999976,"d":"1.5"}},{"$f":"J7-H7","v":{"v":1.6500000000000021,"d":"1.7"}},{"$f":"[2]ALCOHOL!$J$341","v":{"v":10.06,"d":"10.1"}},{"$f":"[2]ALCOHOL!$K$341","v":{"v":8.71,"d":"8.7"}},{"$f":"[2]ALCOHOL!$L$341","v":{"v":11.29,"d":"11.3"}},{"$f":"M7-N7","v":{"v":1.3499999999999996,"d":"1.4"}},{"$f":"O7-M7","v":{"v":1.2299999999999986,"d":"1.2"}},null,null,{"$f":"[2]ALCOHOL!$D$345","v":{"v":12.11,"d":"12.1"}},{"$f":"[2]ALCOHOL!$E$345","v":{"v":10.67,"d":"10.7"}},{"$f":"[2]ALCOHOL!$F$345","v":{"v":13.79,"d":"13.8"}},{"$f":"T7-U7","v":{"v":1.4399999999999995,"d":"1.4"}},{"$f":"V7-T7","v":{"v":1.6799999999999997,"d":"1.7"}},{"$f":"[2]ALCOHOL!$G$345","v":{"v":7.47,"d":"7.5"}},{"$f":"[2]ALCOHOL!$H$345","v":{"v":6.66,"d":"6.7"}},{"$f":"[2]ALCOHOL!$I$345","v":{"v":8.31,"d":"8.3"}},{"$f":"Y7-Z7","v":{"v":0.8099999999999996,"d":"0.8"}},{"$f":"AA7-Y7","v":{"v":0.8400000000000007,"d":"0.8"}},{"$f":"[2]ALCOHOL!$J$345","v":{"v":3.67,"d":"3.7"}},{"$f":"[2]ALCOHOL!$K$345","v":{"v":2.95,"d":"3.0"}},{"$f":"[2]ALCOHOL!$L$345","v":{"v":4.46,"d":"4.5"}},{"$f":"AD7-AE7","v":{"v":0.7199999999999998,"d":"0.7"}},{"$f":"AF7-AD7","v":{"v":0.79,"d":"0.8"}}]
["Norway ","2006–2009 #",{"$f":"[2]ALCOHOL!$D$244","v":{"v":47.16,"d":"47.2"}},{"$f":"[2]ALCOHOL!$E$244","v":{"v":41.67,"d":"41.7"}},{"$f":"[2]ALCOHOL!$F$244","v":{"v":53.99,"d":"54.0"}},{"v":5.489999999999995,"d":"5.5"},{"v":6.830000000000005,"d":"6.8"},{"$f":"[2]ALCOHOL!$G$244","v":{"v":22.83,"d":"22.8"}},{"$f":"[2]ALCOHOL!$H$244","v":{"v":20.01,"d":"20.0"}},{"$f":"[2]ALCOHOL!$I$244","v":{"v":25.86,"d":"25.9"}},{"v":2.8199999999999967,"d":"2.8"},{"v":3.030000000000001,"d":"3.0"},{"$f":"[2]ALCOHOL!$J$244","v":{"v":11.87,"d":"11.9"}},{"$f":"[2]ALCOHOL!$K$244","v":{"v":9.38,"d":"9.4"}},{"$f":"[2]ALCOHOL!$L$244","v":{"v":15.22,"d":"15.2"}},{"v":2.4899999999999984,"d":"2.5"},{"v":3.3500000000000014,"d":"3.4"},null,null,{"$f":"[2]ALCOHOL!$D$252","v":{"v":15.28,"d":"15.3"}},{"$f":"[2]ALCOHOL!$E$252","v":{"v":12.51,"d":"12.5"}},{"$f":"[2]ALCOHOL!$F$252","v":{"v":17.95,"d":"18.0"}},{"v":2.7699999999999996,"d":"2.8"},{"v":2.67,"d":"2.7"},{"$f":"[2]ALCOHOL!$G$252","v":{"v":7.56,"d":"7.6"}},{"$f":"[2]ALCOHOL!$H$252","v":{"v":6.06,"d":"6.1"}},{"$f":"[2]ALCOHOL!$I$252","v":9.1},1.5,{"v":1.54,"d":"1.5"},{"$f":"[2]ALCOHOL!$J$252","v":{"v":4.63,"d":"4.6"}},{"$f":"[2]ALCOHOL!$K$252","v":{"v":3.34,"d":"3.3"}},{"$f":"[2]ALCOHOL!$L$252","v":{"v":6.32,"d":"6.3"}},{"v":1.29,"d":"1.3"},{"v":1.6900000000000004,"d":"1.7"}]
["Denmark","2001–2005",{"$f":"[2]ALCOHOL!$D$50","v":{"v":106.71,"d":"106.7"}},{"$f":"[2]ALCOHOL!$E$50","v":{"v":102.34,"d":"102.3"}},{"$f":"[2]ALCOHOL!$F$50","v":{"v":110.83,"d":"110.8"}},{"v":4.36999999999999,"d":"4.4"},{"v":4.1200000000000045,"d":"4.1"},{"$f":"[2]ALCOHOL!$G$50","v":{"v":69.29,"d":"69.3"}},{"$f":"[2]ALCOHOL!$H$50","v":{"v":66.03,"d":"66.0"}},{"$f":"[2]ALCOHOL!$I$50","v":{"v":72.14,"d":"72.1"}},{"v":3.260000000000005,"d":"3.3"},{"v":2.8499999999999943,"d":"2.8"},{"$f":"[2]ALCOHOL!$J$50","v":{"v":37.12,"d":"37.1"}},{"$f":"[2]ALCOHOL!$K$50","v":{"v":33.84,"d":"33.8"}},{"$f":"[2]ALCOHOL!$L$50","v":{"v":40.61,"d":"40.6"}},{"v":3.279999999999994,"d":"3.3"},{"v":3.490000000000002,"d":"3.5"},null,null,{"$f":"[2]ALCOHOL!$D$53","v":{"v":36.52,"d":"36.5"}},{"$f":"[2]ALCOHOL!$E$53","v":{"v":34.29,"d":"34.3"}},{"$f":"[2]ALCOHOL!$F$53","v":{"v":38.87,"d":"38.9"}},{"v":2.230000000000004,"d":"2.2"},{"v":2.3499999999999943,"d":"2.3"},{"$f":"[2]ALCOHOL!$G$53","v":{"v":23.12,"d":"23.1"}},{"$f":"[2]ALCOHOL!$H$53","v":21.1},{"$f":"[2]ALCOHOL!$I$53","v":25.2},{"v":2.0199999999999996,"d":"2.0"},{"v":2.0799999999999983,"d":"2.1"},{"$f":"[2]ALCOHOL!$J$53","v":{"v":15.44,"d":"15.4"}},{"$f":"[2]ALCOHOL!$K$53","v":{"v":13.29,"d":"13.3"}},{"$f":"[2]ALCOHOL!$L$53","v":{"v":17.97,"d":"18.0"}},{"v":2.1500000000000004,"d":"2.2"},{"v":2.5299999999999994,"d":"2.5"}]
["Scotland","2006-2010",{"$f":"[2]ALCOHOL!$D$274","v":{"v":47.12,"d":"47.1"}},{"$f":"[2]ALCOHOL!$E$274","v":{"v":36.91,"d":"36.9"}},{"$f":"[2]ALCOHOL!$F$274","v":{"v":57.56,"d":"57.6"}},{"v":10.21,"d":"10.2"},{"v":10.440000000000005,"d":"10.4"},{"$f":"[2]ALCOHOL!$G$274","v":{"v":45.96,"d":"46.0"}},{"$f":"[2]ALCOHOL!$H$274","v":{"v":27.69,"d":"27.7"}},{"$f":"[2]ALCOHOL!$I$274","v":64.8},{"v":18.27,"d":"18.3"},{"v":18.839999999999996,"d":"18.8"},{"$f":"[2]ALCOHOL!$J$274","v":{"v":30.95,"d":"31.0"}},{"$f":"[2]ALCOHOL!$K$274","v":{"v":18.53,"d":"18.5"}},{"$f":"[2]ALCOHOL!$L$274","v":{"v":45.34,"d":"45.3"}},{"v":12.419999999999998,"d":"12.4"},{"v":14.390000000000004,"d":"14.4"},null,null,{"$f":"[2]ALCOHOL!$D$278","v":20.6},{"$f":"[2]ALCOHOL!$E$278","v":{"v":13.76,"d":"13.8"}},{"$f":"[2]ALCOHOL!$F$278","v":{"v":27.74,"d":"27.7"}},{"v":6.840000000000002,"d":"6.8"},{"v":7.139999999999997,"d":"7.1"},{"$f":"[2]ALCOHOL!$G$278","v":"<10"},{"$f":"[2]ALCOHOL!$H$278","v":{"v":0,"d":"0.0"}},{"$f":"[2]ALCOHOL!$I$278","v":"<20"},null,null,{"$f":"[2]ALCOHOL!$J$278","v":{"v":13.25,"d":"13.3"}},{"$f":"[2]ALCOHOL!$K$278","v":{"v":5.68,"d":"5.7"}},{"$f":"[2]ALCOHOL!$L$278","v":22.4},{"v":7.57,"d":"7.6"},{"v":9.149999999999999,"d":"9.2"},null,"* Scotland mid edu not available, because number of cases is too low"]
["England & Wales","2006–2009",{"$f":"[2]ALCOHOL!$D$68","v":{"v":26.04,"d":"26.0"}},{"$f":"[2]ALCOHOL!$E$68","v":{"v":19.62,"d":"19.6"}},{"$f":"[2]ALCOHOL!$F$68","v":32.6},{"v":6.419999999999998,"d":"6.4"},{"v":6.560000000000002,"d":"6.6"},{"$f":"[2]ALCOHOL!$G$68","v":{"v":16.51,"d":"16.5"}},{"$f":"[2]ALCOHOL!$H$68","v":{"v":8.49,"d":"8.5"}},{"$f":"[2]ALCOHOL!$I$68","v":{"v":24.69,"d":"24.7"}},{"$f":"H11-I11","v":{"v":8.020000000000001,"d":"8.0"}},{"$f":"J11-H11","v":{"v":8.18,"d":"8.2"}},{"$f":"[2]ALCOHOL!$J$68","v":{"v":11.87,"d":"11.9"}},{"$f":"[2]ALCOHOL!$K$68","v":{"v":5.76,"d":"5.8"}},{"$f":"[2]ALCOHOL!$L$68","v":{"v":19,"d":"19.0"}},{"v":6.109999999999999,"d":"6.1"},{"v":7.130000000000001,"d":"7.1"},null,null,{"$f":"[2]ALCOHOL!$D$76","v":{"v":12,"d":"12.0"}},{"$f":"[2]ALCOHOL!$E$76","v":{"v":8.34,"d":"8.3"}},{"$f":"[2]ALCOHOL!$F$76","v":{"v":16.56,"d":"16.6"}},{"v":3.66,"d":"3.7"},{"v":4.559999999999999,"d":"4.6"},{"$f":"[2]ALCOHOL!$G$76","v":{"v":9.25,"d":"9.3"}},{"$f":"[2]ALCOHOL!$H$76","v":{"v":4.25,"d":"4.3"}},{"$f":"[2]ALCOHOL!$I$76","v":{"v":14.77,"d":"14.8"}},{"$f":"Y11-Z11","v":{"v":5,"d":"5.0"}},{"$f":"AA11-Y11","v":{"v":5.52,"d":"5.5"}},{"$f":"[2]ALCOHOL!$J$76","v":{"v":9.79,"d":"9.8"}},{"$f":"[2]ALCOHOL!$K$76","v":{"v":3.88,"d":"3.9"}},{"$f":"[2]ALCOHOL!$L$76","v":{"v":16.38,"d":"16.4"}},{"v":5.909999999999999,"d":"5.9"},{"v":6.59,"d":"6.6"}]
["Belgium","2004-2005",{"$f":"[2]ALCOHOL!$D$24","v":{"v":31.95,"d":"32.0"}},{"$f":"[2]ALCOHOL!$E$24","v":{"v":29.76,"d":"29.8"}},{"$f":"[2]ALCOHOL!$F$24","v":34.2},{"v":2.1899999999999977,"d":"2.2"},{"v":2.2500000000000036,"d":"2.3"},{"$f":"[2]ALCOHOL!$G$24","v":27.2},{"$f":"[2]ALCOHOL!$H$24","v":{"v":24.03,"d":"24.0"}},{"$f":"[2]ALCOHOL!$I$24","v":{"v":30.13,"d":"30.1"}},{"v":3.169999999999998,"d":"3.2"},{"v":2.9299999999999997,"d":"2.9"},{"$f":"[2]ALCOHOL!$J$24","v":{"v":16.91,"d":"16.9"}},{"$f":"[2]ALCOHOL!$K$24","v":{"v":14.33,"d":"14.3"}},{"$f":"[2]ALCOHOL!$L$24","v":{"v":19.11,"d":"19.1"}},{"v":2.58,"d":"2.6"},{"v":2.1999999999999993,"d":"2.2"},null,null,{"$f":"[2]ALCOHOL!$D$29","v":{"v":12.97,"d":"13.0"}},{"$f":"[2]ALCOHOL!$E$29","v":11.9},{"$f":"[2]ALCOHOL!$F$29","v":{"v":14.13,"d":"14.1"}},{"v":1.0700000000000003,"d":"1.1"},{"v":1.1600000000000001,"d":"1.2"},{"$f":"[2]ALCOHOL!$G$29","v":{"v":13.19,"d":"13.2"}},{"$f":"[2]ALCOHOL!$H$29","v":{"v":11.61,"d":"11.6"}},{"$f":"[2]ALCOHOL!$I$29","v":{"v":15.75,"d":"15.8"}},{"v":1.58,"d":"1.6"},{"v":2.5600000000000005,"d":"2.6"},{"$f":"[2]ALCOHOL!$J$29","v":{"v":7.07,"d":"7.1"}},{"$f":"[2]ALCOHOL!$K$29","v":{"v":5.32,"d":"5.3"}},{"$f":"[2]ALCOHOL!$L$29","v":{"v":8.97,"d":"9.0"}},{"v":1.75,"d":"1.8"},{"v":1.9000000000000004,"d":"1.9"}]
["France","2003–2007",{"$f":"[2]ALCOHOL!$D$148","v":{"v":57.46619,"d":"57.5"}},{"$f":"[2]ALCOHOL!$E$148","v":{"v":45.3961,"d":"45.4"}},{"$f":"[2]ALCOHOL!$F$148","v":{"v":69.522,"d":"69.5"}},{"v":12.07009,"d":"12.1"},{"v":12.055810000000008,"d":"12.1"},{"$f":"[2]ALCOHOL!$G$148","v":{"v":35.75444,"d":"35.8"}},{"$f":"[2]ALCOHOL!$H$148","v":{"v":28.0205,"d":"28.0"}},{"$f":"[2]ALCOHOL!$I$148","v":{"v":44.403,"d":"44.4"}},{"v":7.733940000000004,"d":"7.7"},{"v":8.648559999999996,"d":"8.6"},{"$f":"[2]ALCOHOL!$J$148","v":{"v":16.27264,"d":"16.3"}},{"$f":"[2]ALCOHOL!$K$148","v":{"v":8.12318,"d":"8.1"}},{"$f":"[2]ALCOHOL!$L$148","v":{"v":25.90366,"d":"25.9"}},{"v":8.14946,"d":"8.1"},{"v":9.63102,"d":"9.6"},null,null,{"$f":"[2]ALCOHOL!$D$156","v":{"v":16.53984,"d":"16.5"}},{"$f":"[2]ALCOHOL!$E$156","v":{"v":11.7351,"d":"11.7"}},{"$f":"[2]ALCOHOL!$F$156","v":{"v":22.3814,"d":"22.4"}},{"v":4.8047400000000025,"d":"4.8"},{"v":5.841559999999998,"d":"5.8"},{"$f":"[2]ALCOHOL!$G$156","v":{"v":7.82023,"d":"7.8"}},{"$f":"[2]ALCOHOL!$H$156","v":{"v":3.95972,"d":"4.0"}},{"$f":"[2]ALCOHOL!$I$156","v":{"v":12.17874,"d":"12.2"}},{"v":3.8605099999999997,"d":"3.9"},{"v":4.35851,"d":"4.4"},{"$f":"[2]ALCOHOL!$J$156","v":{"v":1.11768,"d":"1.1"}},{"$f":"[2]ALCOHOL!$K$156","v":{"v":0,"d":"0.0"}},{"$f":"[2]ALCOHOL!$L$156","v":{"v":3.35303,"d":"3.4"}},{"v":1.11768,"d":"1.1"},{"v":2.23535,"d":"2.2"}]
["Switzerland","2006–2008",{"$f":"[2]ALCOHOL!$D$356","v":{"v":41.73,"d":"41.7"}},{"$f":"[2]ALCOHOL!$E$356","v":{"v":36.87,"d":"36.9"}},{"$f":"[2]ALCOHOL!$F$356","v":{"v":47.09,"d":"47.1"}},{"v":4.859999999999999,"d":"4.9"},{"v":5.3600000000000065,"d":"5.4"},{"$f":"[2]ALCOHOL!$G$356","v":{"v":23.35,"d":"23.4"}},{"$f":"[2]ALCOHOL!$H$356","v":{"v":21.57,"d":"21.6"}},{"$f":"[2]ALCOHOL!$I$356","v":{"v":25.35,"d":"25.4"}},{"v":1.7800000000000011,"d":"1.8"},{"v":2,"d":"2.0"},{"$f":"[2]ALCOHOL!$J$356","v":{"v":12.49,"d":"12.5"}},{"$f":"[2]ALCOHOL!$K$356","v":{"v":10.57,"d":"10.6"}},{"$f":"[2]ALCOHOL!$L$356","v":{"v":14.55,"d":"14.6"}},{"v":1.92,"d":"1.9"},{"v":2.0600000000000005,"d":"2.1"},null,null,{"$f":"[2]ALCOHOL!$D$360","v":{"v":12.43,"d":"12.4"}},{"$f":"[2]ALCOHOL!$E$360","v":{"v":10.69,"d":"10.7"}},{"$f":"[2]ALCOHOL!$F$360","v":{"v":14.21,"d":"14.2"}},{"v":1.7400000000000002,"d":"1.7"},{"v":1.7800000000000011,"d":"1.8"},{"$f":"[2]ALCOHOL!$G$360","v":{"v":9.23,"d":"9.2"}},{"$f":"[2]ALCOHOL!$H$360","v":{"v":8.02,"d":"8.0"}},{"$f":"[2]ALCOHOL!$I$360","v":{"v":10.44,"d":"10.4"}},{"v":1.2100000000000009,"d":"1.2"},{"v":1.209999999999999,"d":"1.2"},{"$f":"[2]ALCOHOL!$J$360","v":{"v":5.28,"d":"5.3"}},{"$f":"[2]ALCOHOL!$K$360","v":{"v":3.37,"d":"3.4"}},{"$f":"[2]ALCOHOL!$L$360","v":{"v":7.57,"d":"7.6"}},{"v":1.9100000000000001,"d":"1.9"},{"v":2.29,"d":"2.3"}]
["Austria","2001–2002",{"$f":"[2]ALCOHOL!$D$9","v":{"v":37.42,"d":"37.4"}},{"$f":"[2]ALCOHOL!$E$9","v":{"v":31.86,"d":"31.9"}},{"$f":"[2]ALCOHOL!$F$9","v":{"v":43.64,"d":"43.6"}},{"v":5.560000000000002,"d":"5.6"},{"v":6.219999999999999,"d":"6.2"},{"$f":"[2]ALCOHOL!$G$9","v":{"v":18.88,"d":"18.9"}},{"$f":"[2]ALCOHOL!$H$9","v":{"v":16.54,"d":"16.5"}},{"$f":"[2]ALCOHOL!$I$9","v":21.3},{"v":2.34,"d":"2.3"},{"v":2.4200000000000017,"d":"2.4"},{"$f":"[2]ALCOHOL!$J$9","v":{"v":6.16,"d":"6.2"}},{"$f":"[2]ALCOHOL!$K$9","v":2.2},{"$f":"[2]ALCOHOL!$L$9","v":{"v":10.33,"d":"10.3"}},{"v":3.96,"d":"4.0"},{"v":4.17,"d":"4.2"},null,null,{"$f":"[2]ALCOHOL!$D$12","v":{"v":5.43,"d":"5.4"}},{"$f":"[2]ALCOHOL!$E$12","v":{"v":3.85,"d":"3.9"}},{"$f":"[2]ALCOHOL!$F$12","v":{"v":7.09,"d":"7.1"}},{"v":1.5799999999999996,"d":"1.6"},{"v":1.6600000000000001,"d":"1.7"},{"$f":"[2]ALCOHOL!$G$12","v":{"v":5.61,"d":"5.6"}},{"$f":"[2]ALCOHOL!$H$12","v":{"v":4.17,"d":"4.2"}},{"$f":"[2]ALCOHOL!$I$12","v":{"v":7.12,"d":"7.1"}},{"v":1.4400000000000004,"d":"1.4"},{"v":1.5099999999999998,"d":"1.5"},{"$f":"[2]ALCOHOL!$J$12","v":{"v":0.41,"d":"0.4"}},{"$f":"[2]ALCOHOL!$K$12","v":{"v":0,"d":"0.0"}},{"$f":"[2]ALCOHOL!$L$12","v":{"v":1.12,"d":"1.1"}},{"v":0.41,"d":"0.4"},{"v":0.7100000000000002,"d":"0.7"}]
["Barcelona","2007–2010",{"$f":"[2]ALCOHOL!$D$304","v":{"v":11.17,"d":"11.2"}},{"$f":"[2]ALCOHOL!$E$304","v":{"v":8.94,"d":"8.9"}},{"$f":"[2]ALCOHOL!$F$304","v":{"v":13.68,"d":"13.7"}},{"v":2.2300000000000004,"d":"2.2"},{"v":2.51,"d":"2.5"},{"$f":"[2]ALCOHOL!$G$304","v":7.4},{"$f":"[2]ALCOHOL!$H$304","v":{"v":4.72,"d":"4.7"}},{"$f":"[2]ALCOHOL!$I$304","v":{"v":10.28,"d":"10.3"}},{"v":2.6800000000000006,"d":"2.7"},{"v":2.879999999999999,"d":"2.9"},{"$f":"[2]ALCOHOL!$J$304","v":{"v":2.97,"d":"3.0"}},{"$f":"[2]ALCOHOL!$K$304","v":1.3},{"$f":"[2]ALCOHOL!$L$304","v":{"v":4.87,"d":"4.9"}},{"v":1.6700000000000002,"d":"1.7"},1.9,null,null,{"$f":"[2]ALCOHOL!$D$308","v":{"v":3.23,"d":"3.2"}},{"$f":"[2]ALCOHOL!$E$308","v":{"v":2.04,"d":"2.0"}},{"$f":"[2]ALCOHOL!$F$308","v":{"v":4.42,"d":"4.4"}},{"v":1.19,"d":"1.2"},{"v":1.19,"d":"1.2"},{"$f":"[2]ALCOHOL!$G$308","v":{"v":2.97,"d":"3.0"}},{"$f":"[2]ALCOHOL!$H$308","v":{"v":1.28,"d":"1.3"}},{"$f":"[2]ALCOHOL!$I$308","v":{"v":5.02,"d":"5.0"}},{"v":1.6900000000000002,"d":"1.7"},{"v":2.0499999999999994,"d":"2.1"},{"$f":"[2]ALCOHOL!$J$308","v":{"v":0.65,"d":"0.7"}},{"$f":"[2]ALCOHOL!$K$308","v":{"v":0,"d":"0.0"}},{"$f":"[2]ALCOHOL!$L$308","v":{"v":1.71,"d":"1.7"}},{"v":0.65,"d":"0.7"},{"v":1.06,"d":"1.1"}]
["Basque Country","2001–2006",{"$f":"[2]ALCOHOL!$D$317","v":{"v":9.91,"d":"9.9"}},{"$f":"[2]ALCOHOL!$E$317","v":{"v":8.45,"d":"8.5"}},{"$f":"[2]ALCOHOL!$F$317","v":{"v":11.43,"d":"11.4"}},{"v":1.4600000000000009,"d":"1.5"},{"v":1.5199999999999996,"d":"1.5"},{"$f":"[2]ALCOHOL!$G$317","v":{"v":7.28,"d":"7.3"}},{"$f":"[2]ALCOHOL!$H$317","v":{"v":4.84,"d":"4.8"}},{"$f":"[2]ALCOHOL!$I$317","v":{"v":9.82,"d":"9.8"}},{"v":2.4400000000000004,"d":"2.4"},{"v":2.54,"d":"2.5"},{"$f":"[2]ALCOHOL!$J$317","v":{"v":3.86,"d":"3.9"}},{"$f":"[2]ALCOHOL!$K$317","v":{"v":2.06,"d":"2.1"}},{"$f":"[2]ALCOHOL!$L$317","v":{"v":5.83,"d":"5.8"}},{"v":1.7999999999999998,"d":"1.8"},{"v":1.9700000000000002,"d":"2.0"},null,null,{"$f":"[2]ALCOHOL!$D$319","v":2.1},{"$f":"[2]ALCOHOL!$E$319","v":{"v":1.49,"d":"1.5"}},{"$f":"[2]ALCOHOL!$F$319","v":{"v":2.74,"d":"2.7"}},{"v":0.6100000000000001,"d":"0.6"},{"v":0.6400000000000001,"d":"0.6"},{"$f":"[2]ALCOHOL!$G$319","v":1.3},{"$f":"[2]ALCOHOL!$H$319","v":{"v":0.12,"d":"0.1"}},{"$f":"[2]ALCOHOL!$I$319","v":{"v":3.15,"d":"3.2"}},{"v":1.1800000000000002,"d":"1.2"},{"v":1.8499999999999999,"d":"1.9"},{"$f":"[2]ALCOHOL!$J$319","v":{"v":1.04,"d":"1.0"}},{"$f":"[2]ALCOHOL!$K$319","v":{"v":0,"d":"0.0"}},{"$f":"[2]ALCOHOL!$L$319","v":{"v":2.28,"d":"2.3"}},{"v":1.04,"d":"1.0"},{"v":1.2399999999999998,"d":"1.2"}]
["Madrid","2001–2003",{"$f":"[2]ALCOHOL!$D$328","v":{"v":7.92,"d":"7.9"}},{"$f":"[2]ALCOHOL!$E$328","v":{"v":6.38,"d":"6.4"}},{"$f":"[2]ALCOHOL!$F$328","v":{"v":9.58,"d":"9.6"}},{"v":1.54,"d":"1.5"},{"v":1.6600000000000001,"d":"1.7"},{"$f":"[2]ALCOHOL!$G$328","v":{"v":3.28,"d":"3.3"}},{"$f":"[2]ALCOHOL!$H$328","v":{"v":1.65,"d":"1.7"}},{"$f":"[2]ALCOHOL!$I$328","v":{"v":5.25,"d":"5.3"}},{"v":1.63,"d":"1.6"},{"v":1.9700000000000002,"d":"2.0"},{"$f":"[2]ALCOHOL!$J$328","v":{"v":3.07,"d":"3.1"}},{"$f":"[2]ALCOHOL!$K$328","v":{"v":1.38,"d":"1.4"}},{"$f":"[2]ALCOHOL!$L$328","v":{"v":5,"d":"5.0"}},{"v":1.69,"d":"1.7"},{"v":1.9300000000000002,"d":"1.9"},null,null,{"$f":"[2]ALCOHOL!$D$330","v":{"v":1.28,"d":"1.3"}},{"$f":"[2]ALCOHOL!$E$330","v":{"v":0.76,"d":"0.8"}},{"$f":"[2]ALCOHOL!$F$330","v":{"v":1.87,"d":"1.9"}},{"v":0.52,"d":"0.5"},{"v":0.5900000000000001,"d":"0.6"},{"$f":"[2]ALCOHOL!$G$330","v":0.4},{"$f":"[2]ALCOHOL!$H$330","v":{"v":0,"d":"0.0"}},{"$f":"[2]ALCOHOL!$I$330","v":{"v":0.97,"d":"1.0"}},0.4,{"v":0.57,"d":"0.6"},{"$f":"[2]ALCOHOL!$J$330","v":{"v":0.31,"d":"0.3"}},{"$f":"[2]ALCOHOL!$K$330","v":{"v":0,"d":"0.0"}},{"$f":"[2]ALCOHOL!$L$330","v":{"v":0.98,"d":"1.0"}},{"v":0.31,"d":"0.3"},{"v":0.6699999999999999,"d":"0.7"}]
["Turin","2006–2010",{"$f":"[2]ALCOHOL!$D$186","v":{"v":4.95,"d":"5.0"}},{"$f":"[2]ALCOHOL!$E$186","v":{"v":2.84,"d":"2.8"}},{"$f":"[2]ALCOHOL!$F$186","v":{"v":7.75,"d":"7.8"}},{"v":2.1100000000000003,"d":"2.1"},2.8,{"$f":"[2]ALCOHOL!$G$186","v":{"v":5.38,"d":"5.4"}},{"$f":"[2]ALCOHOL!$H$186","v":2.7},{"$f":"[2]ALCOHOL!$I$186","v":{"v":8.44,"d":"8.4"}},{"v":2.6799999999999997,"d":"2.7"},{"v":3.0599999999999996,"d":"3.1"},{"$f":"[2]ALCOHOL!$J$186","v":{"v":0,"d":"0.0"}},{"$f":"[2]ALCOHOL!$K$186","v":{"v":0,"d":"0.0"}},{"$f":"[2]ALCOHOL!$L$186","v":{"v":0,"d":"0.0"}},{"v":0,"d":"0.0"},{"v":0,"d":"0.0"},null,null,{"$f":"[2]ALCOHOL!$D$194","v":1.5},{"$f":"[2]ALCOHOL!$E$194","v":0.4},{"$f":"[2]ALCOHOL!$F$194","v":{"v":2.91,"d":"2.9"}},1.1,{"v":1.4100000000000001,"d":"1.4"},{"$f":"[2]ALCOHOL!$G$194","v":{"v":0.76,"d":"0.8"}},{"$f":"[2]ALCOHOL!$H$194","v":{"v":0,"d":"0.0"}},{"$f":"[2]ALCOHOL!$I$194","v":{"v":1.97,"d":"2.0"}},{"v":0.76,"d":"0.8"},{"v":1.21,"d":"1.2"},{"$f":"[2]ALCOHOL!$J$194","v":{"v":0.79,"d":"0.8"}},{"$f":"[2]ALCOHOL!$K$194","v":{"v":0,"d":"0.0"}},{"$f":"[2]ALCOHOL!$L$194","v":{"v":2.37,"d":"2.4"}},{"v":0.79,"d":"0.8"},{"v":1.58,"d":"1.6"}]
["Slovenia","2002-2006",{"$f":"[2]ALCOHOL!$D$288","v":{"v":133.92,"d":"133.9"}},{"$f":"[2]ALCOHOL!$E$288","v":{"v":125.91,"d":"125.9"}},{"$f":"[2]ALCOHOL!$F$288","v":{"v":142.35,"d":"142.4"}},{"v":8.009999999999991,"d":"8.0"},{"v":8.430000000000007,"d":"8.4"},{"$f":"[2]ALCOHOL!$G$288","v":{"v":57.64,"d":"57.6"}},{"$f":"[2]ALCOHOL!$H$288","v":{"v":53.45,"d":"53.5"}},{"$f":"[2]ALCOHOL!$I$288","v":{"v":62.16,"d":"62.2"}},{"v":4.189999999999998,"d":"4.2"},{"v":4.519999999999996,"d":"4.5"},{"$f":"[2]ALCOHOL!$J$288","v":{"v":24.73,"d":"24.7"}},{"$f":"[2]ALCOHOL!$K$288","v":{"v":19.78,"d":"19.8"}},{"$f":"[2]ALCOHOL!$L$288","v":{"v":29.98,"d":"30.0"}},{"v":4.949999999999999,"d":"5.0"},{"v":5.25,"d":"5.3"},null,null,{"$f":"[2]ALCOHOL!$D$292","v":{"v":32.13,"d":"32.1"}},{"$f":"[2]ALCOHOL!$E$292","v":{"v":28.65,"d":"28.7"}},{"$f":"[2]ALCOHOL!$F$292","v":{"v":35.71,"d":"35.7"}},{"v":3.480000000000004,"d":"3.5"},{"v":3.5799999999999983,"d":"3.6"},{"$f":"[2]ALCOHOL!$G$292","v":{"v":12.85,"d":"12.9"}},{"$f":"[2]ALCOHOL!$H$292","v":{"v":10.78,"d":"10.8"}},{"$f":"[2]ALCOHOL!$I$292","v":{"v":15,"d":"15.0"}},{"v":2.0700000000000003,"d":"2.1"},{"v":2.1500000000000004,"d":"2.2"},{"$f":"[2]ALCOHOL!$J$292","v":{"v":7.52,"d":"7.5"}},{"$f":"[2]ALCOHOL!$K$292","v":{"v":4.33,"d":"4.3"}},{"$f":"[2]ALCOHOL!$L$292","v":{"v":10.94,"d":"10.9"}},{"v":3.1899999999999995,"d":"3.2"},{"v":3.42,"d":"3.4"}]
["Hungary","1999–2002",{"$f":"[2]ALCOHOL!$D$167","v":{"v":251.08,"d":"251.1"}},{"$f":"[2]ALCOHOL!$E$167","v":{"v":247.46,"d":"247.5"}},{"$f":"[2]ALCOHOL!$F$167","v":{"v":255.12,"d":"255.1"}},{"v":3.6200000000000045,"d":"3.6"},{"v":4.039999999999992,"d":"4.0"},{"$f":"[2]ALCOHOL!$G$167","v":{"v":119.58,"d":"119.6"}},{"$f":"[2]ALCOHOL!$H$167","v":{"v":114.41,"d":"114.4"}},{"$f":"[2]ALCOHOL!$I$167","v":{"v":124.56,"d":"124.6"}},{"v":5.170000000000002,"d":"5.2"},{"v":4.980000000000004,"d":"5.0"},{"$f":"[2]ALCOHOL!$J$167","v":{"v":63.66,"d":"63.7"}},{"$f":"[2]ALCOHOL!$K$167","v":{"v":59.72,"d":"59.7"}},{"$f":"[2]ALCOHOL!$L$167","v":{"v":67.68,"d":"67.7"}},{"v":3.9399999999999977,"d":"3.9"},{"v":4.02000000000001,"d":"4.0"},null,null,{"$f":"[2]ALCOHOL!$D$171","v":{"v":64.98,"d":"65.0"}},{"$f":"[2]ALCOHOL!$E$171","v":{"v":62.91,"d":"62.9"}},{"$f":"[2]ALCOHOL!$F$171","v":{"v":66.89,"d":"66.9"}},{"v":2.0700000000000074,"d":"2.1"},{"v":1.9099999999999966,"d":"1.9"},{"$f":"[2]ALCOHOL!$G$171","v":{"v":34.64,"d":"34.6"}},{"$f":"[2]ALCOHOL!$H$171","v":{"v":32.47,"d":"32.5"}},{"$f":"[2]ALCOHOL!$I$171","v":{"v":36.79,"d":"36.8"}},{"v":2.1700000000000017,"d":"2.2"},{"v":2.1499999999999986,"d":"2.2"},{"$f":"[2]ALCOHOL!$J$171","v":{"v":21.64,"d":"21.6"}},{"$f":"[2]ALCOHOL!$K$171","v":{"v":18.86,"d":"18.9"}},{"$f":"[2]ALCOHOL!$L$171","v":{"v":24.42,"d":"24.4"}},{"v":2.780000000000001,"d":"2.8"},{"v":2.780000000000001,"d":"2.8"}]
["Czech Republic","1998–2003",{"$f":"[2]ALCOHOL!$D$38","v":{"v":45.39,"d":"45.4"}},{"$f":"[2]ALCOHOL!$E$38","v":{"v":44.02,"d":"44.0"}},{"$f":"[2]ALCOHOL!$F$38","v":46.9},{"$f":"C22-D22","v":{"v":1.3699999999999974,"d":"1.4"}},{"$f":"E22-C22","v":{"v":1.509999999999998,"d":"1.5"}},{"$f":"[2]ALCOHOL!$G$38","v":{"v":16.93,"d":"16.9"}},{"$f":"[2]ALCOHOL!$H$38","v":{"v":15.71,"d":"15.7"}},{"$f":"[2]ALCOHOL!$I$38","v":{"v":18.01,"d":"18.0"}},{"$f":"H22-I22","v":{"v":1.2199999999999989,"d":"1.2"}},{"$f":"J22-H22","v":{"v":1.0800000000000018,"d":"1.1"}},{"$f":"[2]ALCOHOL!$J$38","v":{"v":9.79,"d":"9.8"}},{"$f":"[2]ALCOHOL!$K$38","v":{"v":8.51,"d":"8.5"}},{"$f":"[2]ALCOHOL!$L$38","v":{"v":11.23,"d":"11.2"}},{"$f":"M22-N22","v":{"v":1.2799999999999994,"d":"1.3"}},{"$f":"O22-M22","v":{"v":1.4400000000000013,"d":"1.4"}},null,null,{"$f":"[2]ALCOHOL!$D$40","v":{"v":11.64,"d":"11.6"}},{"$f":"[2]ALCOHOL!$E$40","v":{"v":10.88,"d":"10.9"}},{"$f":"[2]ALCOHOL!$F$40","v":{"v":12.43,"d":"12.4"}},{"$f":"T22-U22","v":{"v":0.7599999999999998,"d":"0.8"}},{"$f":"V22-T22","v":{"v":0.7899999999999991,"d":"0.8"}},{"$f":"[2]ALCOHOL!$G$40","v":{"v":5.58,"d":"5.6"}},{"$f":"[2]ALCOHOL!$H$40","v":{"v":4.98,"d":"5.0"}},{"$f":"[2]ALCOHOL!$I$40","v":{"v":6.08,"d":"6.1"}},{"$f":"Y22-Z22","v":{"v":0.5999999999999996,"d":"0.6"}},{"$f":"AA22-Y22","v":0.5},{"$f":"[2]ALCOHOL!$J$40","v":{"v":4.77,"d":"4.8"}},{"$f":"[2]ALCOHOL!$K$40","v":{"v":3.63,"d":"3.6"}},{"$f":"[2]ALCOHOL!$L$40","v":{"v":5.99,"d":"6.0"}},{"$f":"AD22-AE22","v":{"v":1.1399999999999997,"d":"1.1"}},{"$f":"AF22-AD22","v":{"v":1.2200000000000006,"d":"1.2"}}]
["Poland","2001–2003 ",{"$f":"[2]ALCOHOL!$D$261","v":{"v":53.29,"d":"53.3"}},{"$f":"[2]ALCOHOL!$E$261","v":{"v":52.06,"d":"52.1"}},{"$f":"[2]ALCOHOL!$F$261","v":{"v":54.54,"d":"54.5"}},{"v":1.2299999999999969,"d":"1.2"},{"v":1.25,"d":"1.3"},{"$f":"[2]ALCOHOL!$G$261","v":{"v":16.04,"d":"16.0"}},{"$f":"[2]ALCOHOL!$H$261","v":{"v":15.03,"d":"15.0"}},{"$f":"[2]ALCOHOL!$I$261","v":{"v":17.05,"d":"17.1"}},{"$f":"H23-I23","v":{"v":1.0099999999999998,"d":"1.0"}},{"$f":"J23-H23","v":{"v":1.0100000000000016,"d":"1.0"}},{"$f":"[2]ALCOHOL!$J$261","v":{"v":7.41,"d":"7.4"}},{"$f":"[2]ALCOHOL!$K$261","v":{"v":6.34,"d":"6.3"}},{"$f":"[2]ALCOHOL!$L$261","v":8.5},{"$f":"M23-N23","v":{"v":1.0700000000000003,"d":"1.1"}},{"$f":"O23-M23","v":{"v":1.0899999999999999,"d":"1.1"}},null,null,{"$f":"[2]ALCOHOL!$D$263","v":{"v":7.15,"d":"7.2"}},{"$f":"[2]ALCOHOL!$E$263","v":{"v":6.64,"d":"6.6"}},{"$f":"[2]ALCOHOL!$F$263","v":{"v":7.65,"d":"7.7"}},{"$f":"T23-U23","v":{"v":0.5100000000000007,"d":"0.5"}},{"$f":"V23-T23","v":0.5},{"$f":"[2]ALCOHOL!$G$263","v":{"v":2.92,"d":"2.9"}},{"$f":"[2]ALCOHOL!$H$263","v":{"v":2.56,"d":"2.6"}},{"$f":"[2]ALCOHOL!$I$263","v":{"v":3.31,"d":"3.3"}},{"$f":"Y23-Z23","v":{"v":0.3599999999999999,"d":"0.4"}},{"$f":"AA23-Y23","v":{"v":0.3900000000000001,"d":"0.4"}},{"$f":"[2]ALCOHOL!$J$263","v":{"v":1.05,"d":"1.1"}},{"$f":"[2]ALCOHOL!$K$263","v":{"v":0.68,"d":"0.7"}},{"$f":"[2]ALCOHOL!$L$263","v":{"v":1.45,"d":"1.5"}},{"$f":"AD23-AE23","v":{"v":0.37,"d":"0.4"}},{"$f":"AF23-AD23","v":{"v":0.3999999999999999,"d":"0.4"}}]
["Lithuania","2006–2009",{"$f":"[2]ALCOHOL!$D$226","v":{"v":205.73,"d":"205.7"}},{"$f":"[2]ALCOHOL!$E$226","v":{"v":190.09,"d":"190.1"}},{"$f":"[2]ALCOHOL!$F$226","v":{"v":222.17,"d":"222.2"}},{"v":15.639999999999986,"d":"15.6"},{"v":16.439999999999998,"d":"16.4"},{"$f":"[2]ALCOHOL!$G$226","v":{"v":122.46,"d":"122.5"}},{"$f":"[2]ALCOHOL!$H$226","v":{"v":117.01,"d":"117.0"}},{"$f":"[2]ALCOHOL!$I$226","v":{"v":128.42,"d":"128.4"}},{"v":5.449999999999989,"d":"5.4"},{"v":5.959999999999994,"d":"6.0"},{"$f":"[2]ALCOHOL!$J$226","v":{"v":50.95,"d":"51.0"}},{"$f":"[2]ALCOHOL!$K$226","v":{"v":44.51,"d":"44.5"}},{"$f":"[2]ALCOHOL!$L$226","v":{"v":57.89,"d":"57.9"}},{"v":6.440000000000005,"d":"6.4"},{"v":6.939999999999998,"d":"6.9"},null,null,{"$f":"[2]ALCOHOL!$D$229","v":{"v":79.22,"d":"79.2"}},{"$f":"[2]ALCOHOL!$E$229","v":{"v":67.48,"d":"67.5"}},{"$f":"[2]ALCOHOL!$F$229","v":{"v":91.88,"d":"91.9"}},{"v":11.739999999999995,"d":"11.7"},{"v":12.659999999999997,"d":"12.7"},{"$f":"[2]ALCOHOL!$G$229","v":{"v":40.32,"d":"40.3"}},{"$f":"[2]ALCOHOL!$H$229","v":{"v":37.61,"d":"37.6"}},{"$f":"[2]ALCOHOL!$I$229","v":{"v":43.06,"d":"43.1"}},{"v":2.710000000000001,"d":"2.7"},{"v":2.740000000000002,"d":"2.7"},{"$f":"[2]ALCOHOL!$J$229","v":{"v":13.78,"d":"13.8"}},{"$f":"[2]ALCOHOL!$K$229","v":{"v":10.73,"d":"10.7"}},{"$f":"[2]ALCOHOL!$L$229","v":{"v":16.52,"d":"16.5"}},{"v":3.049999999999999,"d":"3.1"},{"v":2.74,"d":"2.7"}]
["Estonia","1998–2002",{"$f":"[2]ALCOHOL!$D$108","v":{"v":210.86,"d":"210.9"}},{"$f":"[2]ALCOHOL!$E$108","v":{"v":194.38,"d":"194.4"}},{"$f":"[2]ALCOHOL!$F$108","v":{"v":226.46,"d":"226.5"}},{"v":16.480000000000018,"d":"16.5"},{"v":15.599999999999994,"d":"15.6"},{"$f":"[2]ALCOHOL!$G$108","v":{"v":130.94,"d":"130.9"}},{"$f":"[2]ALCOHOL!$H$108","v":{"v":122.57,"d":"122.6"}},{"$f":"[2]ALCOHOL!$I$108","v":{"v":140.22,"d":"140.2"}},{"v":8.370000000000005,"d":"8.4"},{"v":9.280000000000001,"d":"9.3"},{"$f":"[2]ALCOHOL!$J$108","v":49.8},{"$f":"[2]ALCOHOL!$K$108","v":{"v":41.05,"d":"41.1"}},{"$f":"[2]ALCOHOL!$L$108","v":{"v":58.06,"d":"58.1"}},{"v":8.75,"d":"8.8"},{"v":8.260000000000005,"d":"8.3"},null,null,{"$f":"[2]ALCOHOL!$D$110","v":{"v":91.07,"d":"91.1"}},{"$f":"[2]ALCOHOL!$E$110","v":{"v":78.41,"d":"78.4"}},{"$f":"[2]ALCOHOL!$F$110","v":{"v":103.91,"d":"103.9"}},{"v":12.659999999999997,"d":"12.7"},{"v":12.840000000000003,"d":"12.8"},{"$f":"[2]ALCOHOL!$G$110","v":{"v":38.35,"d":"38.4"}},{"$f":"[2]ALCOHOL!$H$110","v":{"v":34.37,"d":"34.4"}},{"$f":"[2]ALCOHOL!$I$110","v":{"v":42.34,"d":"42.3"}},{"v":3.980000000000004,"d":"4.0"},{"v":3.990000000000002,"d":"4.0"},{"$f":"[2]ALCOHOL!$J$110","v":10.5},{"$f":"[2]ALCOHOL!$K$110","v":{"v":7.06,"d":"7.1"}},{"$f":"[2]ALCOHOL!$L$110","v":{"v":13.85,"d":"13.9"}},{"v":3.4400000000000004,"d":"3.4"},{"v":3.3499999999999996,"d":"3.4"}]
[]
[]
["# age range 40–79 years"]
["Figure 1. Latest observed mortality from alcohol-related causes, by country, sex and level of education (deaths per 100,000 person-years, age-standardized)"]
["a. Men"]
{"$rows_empty":25}
["b. Women"]

{"sheet":"Table 3","index":6,"n_rows":27,"n_cols":16,"rows_kept":27,"merged":[[2,2,2,7],[2,9,2,14],[3,3,3,4],[3,6,3,7],[3,10,3,11],[3,13,3,14]]}
["Table 3. Educational inequalities in mortality from alcohol-related causes, latest observed period, by country and sex (Relative Index of Inequality and Slope Index of Inequality, with 95% Confidence Intervals) "]
[]
[null,null,"MEN",{"$nulls":6},"WOMEN"]
[null,"Country (period)","RII","95%-CI",null,"SII           ","95%-CI",null,"% of SII in total mortality","RII","95%-CI",null,"SII           ","95%-CI",null,"% of SII in total mortality"]
["North","Finland (2006–2010)",{"$f":"'[2]Abs_rel diff'!CG124","v":{"v":3.6155,"d":"3.6"}},{"$f":"'[2]Abs_rel diff'!CH124","v":{"v":3.293,"d":"(3.3 -"}},{"$f":"'[2]Abs_rel diff'!CI124","v":{"v":3.9696,"d":"4.0)"}},{"$f":"'[2]Abs_rel diff'!BJ124","v":{"v":112.5242,"d":"112.5"}},{"$f":"'[2]Abs_rel diff'!BK124","v":{"v":106.1605,"d":"(106.2 -"}},{"$f":"'[2]Abs_rel diff'!BL124","v":{"v":118.8464,"d":"118.8)"}},{"$f":"'[3]Abs_rel diff'!$CZ$124/'[3]Abs_rel diff'!$DO$124","v":{"v":0.12791611598780364,"d":"12.8%"}},{"$f":"'[2]Abs_rel diff'!CG132","v":{"v":5.6346,"d":"5.6"}},{"$f":"'[2]Abs_rel diff'!CH132","v":{"v":4.6838,"d":"(4.7 -"}},{"$f":"'[2]Abs_rel diff'!CI132","v":{"v":6.7784,"d":"6.8)"}},{"$f":"'[2]Abs_rel diff'!BJ132","v":{"v":36.8653,"d":"36.9"}},{"$f":"'[2]Abs_rel diff'!BK132","v":{"v":33.8493,"d":"(33.8 -"}},{"$f":"'[2]Abs_rel diff'!BL132","v":{"v":40.1164,"d":"40.1)"}},{"$f":"'[3]Abs_rel diff'!$CZ$132/'[3]Abs_rel diff'!$DO$132","v":{"v":0.10327672979760838,"d":"10.3%"}}]
[null,"Sweden (2005–2008)",{"$f":"'[2]Abs_rel diff'!CG340","v":{"v":3.7581,"d":"3.8"}},{"$f":"'[2]Abs_rel diff'!CH340","v":{"v":3.2117,"d":"(3.2 -"}},{"$f":"'[2]Abs_rel diff'!CI340","v":{"v":4.3975,"d":"4.4)"}},{"$f":"'[2]Abs_rel diff'!BJ340","v":{"v":28.8404,"d":"28.8"}},{"$f":"'[2]Abs_rel diff'!BK340","v":{"v":26.1224,"d":"(26.1 -"}},{"$f":"'[2]Abs_rel diff'!BL340","v":{"v":31.5794,"d":"31.6)"}},{"$f":"'[3]Abs_rel diff'!$CZ$340/'[3]Abs_rel diff'!$DO$340","v":{"v":0.05478747352323781,"d":"5.5%"}},{"$f":"'[2]Abs_rel diff'!CG344","v":{"v":4.3325,"d":"4.3"}},{"$f":"'[2]Abs_rel diff'!CH344","v":{"v":3.2323,"d":"(3.2 -"}},{"$f":"'[2]Abs_rel diff'!CI344","v":{"v":5.8072,"d":"5.8)"}},{"$f":"'[2]Abs_rel diff'!BJ344","v":{"v":9.0051,"d":"9.0"}},{"$f":"'[2]Abs_rel diff'!BK344","v":{"v":7.5026,"d":"(7.5 -"}},{"$f":"'[2]Abs_rel diff'!BL344","v":{"v":10.4746,"d":"10.5)"}},{"$f":"'[3]Abs_rel diff'!$CZ$344/'[3]Abs_rel diff'!$DO$344","v":{"v":0.026284342936668426,"d":"2.6%"}}]
[null,"Norway (2006–2009)",{"$f":"'[2]Abs_rel diff'!CG243","v":{"v":6.3627,"d":"6.4"}},{"$f":"'[2]Abs_rel diff'!CH243","v":{"v":4.7174,"d":"(4.7 -"}},{"$f":"'[2]Abs_rel diff'!CI243","v":{"v":8.5819,"d":"8.6)"}},{"$f":"'[2]Abs_rel diff'!BJ243","v":{"v":37.3792,"d":"37.4"}},{"$f":"'[2]Abs_rel diff'!BK243","v":{"v":31.4276,"d":"(31.4 -"}},{"$f":"'[2]Abs_rel diff'!BL243","v":{"v":41.6931,"d":"41.7)"}},{"$f":"'[3]Abs_rel diff'!$CZ$243/'[3]Abs_rel diff'!$DO$243","v":{"v":0.04500995345741158,"d":"4.5%"}},{"$f":"'[2]Abs_rel diff'!CG251","v":{"v":4.7077,"d":"4.7"}},{"$f":"'[2]Abs_rel diff'!CH251","v":{"v":2.8658,"d":"(2.9 -"}},{"$f":"'[2]Abs_rel diff'!CI251","v":{"v":7.7333,"d":"7.7)"}},{"$f":"'[2]Abs_rel diff'!BJ251","v":{"v":11.6686,"d":"11.7"}},{"$f":"'[2]Abs_rel diff'!BK251","v":{"v":9.4114,"d":"(9.4 -"}},{"$f":"'[2]Abs_rel diff'!BL251","v":{"v":14.3164,"d":"14.3)"}},{"$f":"'[3]Abs_rel diff'!$CZ$251/'[3]Abs_rel diff'!$DO$251","v":{"v":0.023046273067307537,"d":"2.3%"}}]
[null,"Denmark (2001–2005)",{"$f":"'[2]Abs_rel diff'!CG49","v":{"v":3.8921,"d":"3.9"}},{"$f":"'[2]Abs_rel diff'!CH49","v":{"v":3.4777,"d":"(3.5 -"}},{"$f":"'[2]Abs_rel diff'!CI49","v":{"v":4.3557,"d":"4.4)"}},{"$f":"'[2]Abs_rel diff'!BJ49","v":{"v":88.0787,"d":"88.1"}},{"$f":"'[2]Abs_rel diff'!BK49","v":{"v":82.0231,"d":"(82.0 -"}},{"$f":"'[2]Abs_rel diff'!BL49","v":{"v":94.3434,"d":"94.3)"}},{"$f":"'[3]Abs_rel diff'!$CZ$49/'[3]Abs_rel diff'!$DO$49","v":{"v":0.10777084799583397,"d":"10.8%"}},{"$f":"'[2]Abs_rel diff'!CG52","v":{"v":3.7942,"d":"3.8"}},{"$f":"'[2]Abs_rel diff'!CH52","v":{"v":3.1172,"d":"(3.1 -"}},{"$f":"'[2]Abs_rel diff'!CI52","v":{"v":4.6181,"d":"4.6)"}},{"$f":"'[2]Abs_rel diff'!BJ52","v":{"v":30.2303,"d":"30.2"}},{"$f":"'[2]Abs_rel diff'!BK52","v":{"v":26.4592,"d":"(26.5 -"}},{"$f":"'[2]Abs_rel diff'!BL52","v":{"v":33.7228,"d":"33.7)"}},{"$f":"'[3]Abs_rel diff'!$CZ$52/'[3]Abs_rel diff'!$DO$52","v":{"v":0.055050450879296116,"d":"5.5%"}}]
["West","Scotland (2006 - 2010)",{"$f":"'[2]Abs_rel diff'!CG273","v":{"v":1.0383,"d":"1.0"}},{"$f":"'[2]Abs_rel diff'!CH273","v":{"v":0.4936,"d":"(0.5 -"}},{"$f":"'[2]Abs_rel diff'!CI273","v":{"v":2.184,"d":"2.2)"}},{"$f":"'[2]Abs_rel diff'!BJ273","v":{"v":1.5465,"d":"1.5"}},{"$f":"'[2]Abs_rel diff'!BK273","v":{"v":-25.6876,"d":"(-25.7 -"}},{"$f":"'[2]Abs_rel diff'!BL273","v":{"v":30.8751,"d":"30.9)"}},{"$f":"'[3]Abs_rel diff'!$CZ$273/'[3]Abs_rel diff'!$DO$273","v":{"v":2.6172100557728902E-3,"d":"0.3%"}},{"$f":"'[2]Abs_rel diff'!CG277","v":{"v":1.6487,"d":"1.6"}},{"$f":"'[2]Abs_rel diff'!CH277","v":{"v":0.4555,"d":"(0.5 -"}},{"$f":"'[2]Abs_rel diff'!CI277","v":{"v":5.9669,"d":"6.0)"}},{"$f":"'[2]Abs_rel diff'!BJ277","v":{"v":7.3746,"d":"7.4"}},{"$f":"'[2]Abs_rel diff'!BK277","v":{"v":-10.2429,"d":"(-10.2 -"}},{"$f":"'[2]Abs_rel diff'!BL277","v":{"v":24.0126,"d":"24.0)"}},{"$f":"'[3]Abs_rel diff'!$CZ$277/'[3]Abs_rel diff'!$DO$277","v":{"v":0.023276660402406637,"d":"2.3%"}}]
[null,"England & Wales (2006–2009)",{"$f":"'[2]Abs_rel diff'!$CG$67","v":{"v":3.4456,"d":"3.4"}},{"$f":"'[2]Abs_rel diff'!$CH$67","v":{"v":1.4056,"d":"(1.4 -"}},{"$f":"'[2]Abs_rel diff'!$CI$67","v":{"v":8.4463,"d":"8.4)"}},{"$f":"'[2]Abs_rel diff'!$BJ$67","v":{"v":20.7764,"d":"20.8"}},{"$f":"'[2]Abs_rel diff'!$BK$67","v":{"v":6.7098,"d":"(6.7 -"}},{"$f":"'[2]Abs_rel diff'!$BL$67","v":{"v":32.0807,"d":"32.1)"}},{"$f":"'[3]Abs_rel diff'!$CZ$67/'[3]Abs_rel diff'!$DO$67","v":{"v":0.03213131395769098,"d":"3.2%"}},{"$f":"'[2]Abs_rel diff'!$CG$75","v":{"v":1.5054,"d":"1.5"}},{"$f":"'[2]Abs_rel diff'!$CH$75","v":{"v":0.5118,"d":"(0.5 -"}},{"$f":"'[2]Abs_rel diff'!$CI$75","v":{"v":4.4273,"d":"4.4)"}},{"$f":"'[2]Abs_rel diff'!$BJ$75","v":{"v":4.2151,"d":"4.2"}},{"$f":"'[2]Abs_rel diff'!$BK$75","v":{"v":-5.4342,"d":"(-5.4 -"}},{"$f":"'[2]Abs_rel diff'!$BL$75","v":{"v":14.2556,"d":"14.3)"}},{"$f":"'[3]Abs_rel diff'!$CZ$75/'[3]Abs_rel diff'!$DO$75","v":{"v":0.010501901758347879,"d":"1.1%"}}]
[null,"Belgium (2004–2005)",{"$f":"'[2]Abs_rel diff'!CG23","v":{"v":2.4263,"d":"2.4"}},{"$f":"'[2]Abs_rel diff'!CH23","v":{"v":1.9406,"d":"(1.9 -"}},{"$f":"'[2]Abs_rel diff'!CI23","v":{"v":3.0336,"d":"3.0)"}},{"$f":"'[2]Abs_rel diff'!BJ23","v":{"v":23.3382,"d":"23.3"}},{"$f":"'[2]Abs_rel diff'!BK23","v":{"v":18.8463,"d":"(18.8 -"}},{"$f":"'[2]Abs_rel diff'!BL23","v":{"v":27.7889,"d":"27.8)"}},{"$f":"'[3]Abs_rel diff'!$CZ$23/'[3]Abs_rel diff'!$DO$23","v":{"v":0.026525996060347088,"d":"2.7%"}},{"$f":"'[2]Abs_rel diff'!CG28","v":{"v":1.935,"d":"1.9"}},{"$f":"'[2]Abs_rel diff'!CH28","v":{"v":1.3652,"d":"(1.4 -"}},{"$f":"'[2]Abs_rel diff'!CI28","v":{"v":2.7425,"d":"2.7)"}},{"$f":"'[2]Abs_rel diff'!BJ28","v":{"v":7.3931,"d":"7.4"}},{"$f":"'[2]Abs_rel diff'!BK28","v":{"v":3.8217,"d":"(3.8 -"}},{"$f":"'[2]Abs_rel diff'!BL28","v":{"v":11.0159,"d":"11.0)"}},{"$f":"'[3]Abs_rel diff'!$CZ$28/'[3]Abs_rel diff'!$DO$28","v":{"v":0.01926217463440663,"d":"1.9%"}}]
[null,"France (2003–2007)",{"$f":"'[2]Abs_rel diff'!CG147","v":{"v":4.11319,"d":"4.1"}},{"$f":"'[2]Abs_rel diff'!CH147","v":{"v":2.28654,"d":"(2.3 -"}},{"$f":"'[2]Abs_rel diff'!CI147","v":{"v":7.39911,"d":"7.4)"}},{"$f":"'[2]Abs_rel diff'!BJ147","v":{"v":47.65554,"d":"47.7"}},{"$f":"'[2]Abs_rel diff'!BK147","v":{"v":29.2825,"d":"(29.3 -"}},{"$f":"'[2]Abs_rel diff'!BL147","v":{"v":61.3556,"d":"61.4)"}},{"$f":"'[3]Abs_rel diff'!$CZ$147/'[3]Abs_rel diff'!$DO$147","v":{"v":0.06637397452117859,"d":"6.6%"}},{"$f":"'[2]Abs_rel diff'!CG155","v":{"v":10.2773,"d":"10.3"}},{"$f":"'[2]Abs_rel diff'!CH155","v":{"v":2.89128,"d":"(2.9 -"}},{"$f":"'[2]Abs_rel diff'!CI155","v":{"v":36.5315,"d":"36.5)"}},{"$f":"'[2]Abs_rel diff'!BJ155","v":{"v":17.95347,"d":"18.0"}},{"$f":"'[2]Abs_rel diff'!BK155","v":{"v":10.681,"d":"(10.7 -"}},{"$f":"'[2]Abs_rel diff'!BL155","v":{"v":24.0319,"d":"24.0)"}},{"$f":"'[3]Abs_rel diff'!$CZ$155/'[3]Abs_rel diff'!$DO$155","v":{"v":0.05959077118356959,"d":"6.0%"}}]
[null,"Switzerland (2005–2008)",{"$f":"'[2]Abs_rel diff'!CG355","v":{"v":4.7318,"d":"4.7"}},{"$f":"'[2]Abs_rel diff'!CH355","v":{"v":3.6701,"d":"(3.7 -"}},{"$f":"'[2]Abs_rel diff'!CI355","v":{"v":6.1006,"d":"6.1)"}},{"$f":"'[2]Abs_rel diff'!BJ355","v":{"v":32.3064,"d":"32.3"}},{"$f":"'[2]Abs_rel diff'!BK355","v":{"v":28.1426,"d":"(28.1 -"}},{"$f":"'[2]Abs_rel diff'!BL355","v":{"v":36.1444,"d":"36.1)"}},{"$f":"'[3]Abs_rel diff'!$CZ$355/'[3]Abs_rel diff'!$DO$355","v":{"v":0.05031061820279354,"d":"5.0%"}},{"$f":"'[2]Abs_rel diff'!CG359","v":{"v":2.267,"d":"2.3"}},{"$f":"'[2]Abs_rel diff'!CH359","v":{"v":1.5691,"d":"(1.6 -"}},{"$f":"'[2]Abs_rel diff'!CI359","v":{"v":3.2751,"d":"3.3)"}},{"$f":"'[2]Abs_rel diff'!BJ359","v":{"v":7.9139,"d":"7.9"}},{"$f":"'[2]Abs_rel diff'!BK359","v":{"v":4.4431,"d":"(4.4 -"}},{"$f":"'[2]Abs_rel diff'!BL359","v":{"v":10.7914,"d":"10.8)"}},{"$f":"'[3]Abs_rel diff'!$CZ$359/'[3]Abs_rel diff'!$DO$359","v":{"v":0.03483508149196745,"d":"3.5%"}}]
[null,"Austria (2001–2002)",{"$f":"'[2]Abs_rel diff'!CG8","v":{"v":5.7641,"d":"5.8"}},{"$f":"'[2]Abs_rel diff'!CH8","v":{"v":3.8941,"d":"(3.9 -"}},{"$f":"'[2]Abs_rel diff'!CI8","v":{"v":8.5322,"d":"8.5)"}},{"$f":"'[2]Abs_rel diff'!BJ8","v":{"v":30.8289,"d":"30.8"}},{"$f":"'[2]Abs_rel diff'!BK8","v":{"v":25.6219,"d":"(25.6 -"}},{"$f":"'[2]Abs_rel diff'!BL8","v":{"v":35.4323,"d":"35.4)"}},{"$f":"'[3]Abs_rel diff'!$CZ$8/'[3]Abs_rel diff'!$DO$8","v":{"v":0.046638130111864406,"d":"4.7%"}},{"$f":"'[2]Abs_rel diff'!CG11","v":{"v":1.4264,"d":"1.4"}},{"$f":"'[2]Abs_rel diff'!CH11","v":{"v":0.6604,"d":"(0.7 -"}},{"$f":"'[2]Abs_rel diff'!CI11","v":{"v":3.081,"d":"3.1)"}},{"$f":"'[2]Abs_rel diff'!BJ11","v":{"v":1.8236,"d":"1.8"}},{"$f":"'[2]Abs_rel diff'!BK11","v":{"v":-1.7924,"d":"(-1.8 -"}},{"$f":"'[2]Abs_rel diff'!BL11","v":{"v":5.3195,"d":"5.3)"}},{"$f":"'[3]Abs_rel diff'!$CZ$11/'[3]Abs_rel diff'!$DO$11","v":{"v":0.006772631083242158,"d":"0.7%"}}]
["South","Barcelona (2007–2010)",{"$f":"'[2]Abs_rel diff'!CG303","v":{"v":6.0222,"d":"6.0"}},{"$f":"'[2]Abs_rel diff'!CH303","v":{"v":2.7521,"d":"(2.8 -"}},{"$f":"'[2]Abs_rel diff'!CI303","v":{"v":13.178,"d":"13.2)"}},{"$f":"'[2]Abs_rel diff'!BJ303","v":{"v":11.587,"d":"11.6"}},{"$f":"'[2]Abs_rel diff'!BK303","v":{"v":7.999,"d":"(8.0 -"}},{"$f":"'[2]Abs_rel diff'!BL303","v":{"v":14.8803,"d":"14.9)"}},{"$f":"'[3]Abs_rel diff'!$CZ$303/'[3]Abs_rel diff'!$DO$303","v":{"v":0.01876313273552128,"d":"1.9%"}},{"$f":"'[2]Abs_rel diff'!CG307","v":{"v":5.5688,"d":"5.6"}},{"$f":"'[2]Abs_rel diff'!CH307","v":{"v":1.2822,"d":"(1.3 -"}},{"$f":"'[2]Abs_rel diff'!CI307","v":{"v":24.1862,"d":"24.2)"}},{"$f":"'[2]Abs_rel diff'!BJ307","v":{"v":3.4017,"d":"3.4"}},{"$f":"'[2]Abs_rel diff'!BK307","v":{"v":0.9648,"d":"(1.0 -"}},{"$f":"'[2]Abs_rel diff'!BL307","v":{"v":5.1491,"d":"5.1)"}},{"$f":"'[3]Abs_rel diff'!$CZ$307/'[3]Abs_rel diff'!$DO$307","v":{"v":0.017952098184788875,"d":"1.8%"}}]
[null,"Basque Country (2001–2006)",{"$f":"'[2]Abs_rel diff'!CG316","v":{"v":3.7363,"d":"3.7"}},{"$f":"'[2]Abs_rel diff'!CH316","v":{"v":1.9451,"d":"(1.9 -"}},{"$f":"'[2]Abs_rel diff'!CI316","v":{"v":7.1771,"d":"7.2)"}},{"$f":"'[2]Abs_rel diff'!BJ316","v":{"v":9.4408,"d":"9.4"}},{"$f":"'[2]Abs_rel diff'!BK316","v":{"v":5.3472,"d":"(5.3 -"}},{"$f":"'[2]Abs_rel diff'!BL316","v":{"v":13.2066,"d":"13.2)"}},{"$f":"'[3]Abs_rel diff'!$CZ$316/'[3]Abs_rel diff'!$DO$316","v":{"v":0.018844175467521502,"d":"1.9%"}},{"$f":"'[2]Abs_rel diff'!CG318","v":{"v":3.7049,"d":"3.7"}},{"$f":"'[2]Abs_rel diff'!CH318","v":{"v":0.7462,"d":"(0.7 -"}},{"$f":"'[2]Abs_rel diff'!CI318","v":{"v":18.3939,"d":"18.4)"}},{"$f":"'[2]Abs_rel diff'!BJ318","v":{"v":2.058,"d":"2.1"}},{"$f":"'[2]Abs_rel diff'!BK318","v":{"v":-0.3465,"d":"(-0.3 -"}},{"$f":"'[2]Abs_rel diff'!BL318","v":{"v":3.6143,"d":"3.6)"}},{"$f":"'[3]Abs_rel diff'!$CZ$318/'[3]Abs_rel diff'!$DO$318","v":{"v":0.015460711162663506,"d":"1.5%"}}]
[null,"Madrid (2001–2003)",{"$f":"'[2]Abs_rel diff'!CG327","v":{"v":5.9118,"d":"5.9"}},{"$f":"'[2]Abs_rel diff'!CH327","v":{"v":2.4348,"d":"(2.4 -"}},{"$f":"'[2]Abs_rel diff'!CI327","v":{"v":14.3542,"d":"14.4)"}},{"$f":"'[2]Abs_rel diff'!BJ327","v":{"v":9.1549,"d":"9.2"}},{"$f":"'[2]Abs_rel diff'!BK327","v":{"v":5.6777,"d":"(5.7 -"}},{"$f":"'[2]Abs_rel diff'!BL327","v":{"v":11.9529,"d":"12.0)"}},{"$f":"'[3]Abs_rel diff'!$CZ$327/'[3]Abs_rel diff'!$DO$327","v":{"v":0.015161614975566428,"d":"1.5%"}},{"$f":"'[2]Abs_rel diff'!CG329","v":{"v":5.3973,"d":"5.4"}},{"$f":"'[2]Abs_rel diff'!CH329","v":{"v":0.5462,"d":"(0.5 -"}},{"$f":"'[2]Abs_rel diff'!CI329","v":{"v":53.3322,"d":"53.3)"}},{"$f":"'[2]Abs_rel diff'!BJ329","v":{"v":1.5229,"d":"1.5"}},{"$f":"'[2]Abs_rel diff'!BK329","v":{"v":0.1029,"d":"(0.1 -"}},{"$f":"'[2]Abs_rel diff'!BL329","v":{"v":2.6623,"d":"2.7)"}},{"$f":"'[3]Abs_rel diff'!$CZ$329/'[3]Abs_rel diff'!$DO$329","v":{"v":0.011823234530769989,"d":"1.2%"}}]
[null,"Turin (2006–2010)",{"$f":"'[2]Abs_rel diff'!CG185","v":{"v":2.5312,"d":"2.5"}},{"$f":"'[2]Abs_rel diff'!CH185","v":{"v":0.6357,"d":"(0.6 -"}},{"$f":"'[2]Abs_rel diff'!CI185","v":{"v":10.0789,"d":"10.1)"}},{"$f":"'[2]Abs_rel diff'!BJ185","v":{"v":3.6064,"d":"3.6"}},{"$f":"'[2]Abs_rel diff'!BK185","v":{"v":-0.7558,"d":"(-0.8 -"}},{"$f":"'[2]Abs_rel diff'!BL185","v":{"v":7.8254,"d":"7.8)"}},{"$f":"'[3]Abs_rel diff'!$CZ$185/'[3]Abs_rel diff'!$DO$185","v":{"v":0.007199726736192421,"d":"0.7%"}},{"$f":"'[2]Abs_rel diff'!CG193","v":{"v":2.9629,"d":"3.0"}},{"$f":"'[2]Abs_rel diff'!CH193","v":{"v":0.1766,"d":"(0.2 -"}},{"$f":"'[2]Abs_rel diff'!CI193","v":{"v":49.711,"d":"49.7)"}},{"$f":"'[2]Abs_rel diff'!BJ193","v":{"v":1.0259,"d":"1.0"}},{"$f":"'[2]Abs_rel diff'!BK193","v":{"v":-1.7318,"d":"(-1.7 -"}},{"$f":"'[2]Abs_rel diff'!BL193","v":{"v":2.8136,"d":"2.8)"}},{"$f":"'[3]Abs_rel diff'!$CZ$193/'[3]Abs_rel diff'!$DO$193","v":{"v":5.7790313376832395E-3,"d":"0.6%"}}]
["East","Slovenia (2002–2006)",{"$f":"'[2]Abs_rel diff'!CG287","v":{"v":8.0128,"d":"8.0"}},{"$f":"'[2]Abs_rel diff'!CH287","v":{"v":6.6128,"d":"(6.6 -"}},{"$f":"'[2]Abs_rel diff'!CI287","v":{"v":9.7092,"d":"9.7)"}},{"$f":"'[2]Abs_rel diff'!BJ287","v":{"v":117.811,"d":"117.8"}},{"$f":"'[2]Abs_rel diff'!BK287","v":{"v":109.8683,"d":"(109.9 -"}},{"$f":"'[2]Abs_rel diff'!BL287","v":{"v":124.919,"d":"124.9)"}},{"$f":"'[3]Abs_rel diff'!$CZ$287/'[3]Abs_rel diff'!$DO$287","v":{"v":0.10468386336956913,"d":"10.5%"}},{"$f":"'[2]Abs_rel diff'!CG291","v":{"v":8.5017,"d":"8.5"}},{"$f":"'[2]Abs_rel diff'!CH291","v":{"v":5.6949,"d":"(5.7 -"}},{"$f":"'[2]Abs_rel diff'!CI291","v":{"v":12.6917,"d":"12.7)"}},{"$f":"'[2]Abs_rel diff'!BJ291","v":{"v":32.222,"d":"32.2"}},{"$f":"'[2]Abs_rel diff'!BK291","v":{"v":27.988,"d":"(28.0 -"}},{"$f":"'[2]Abs_rel diff'!BL291","v":{"v":36.2099,"d":"36.2)"}},{"$f":"'[3]Abs_rel diff'!$CZ$291/'[3]Abs_rel diff'!$DO$291","v":{"v":0.08160854592576515,"d":"8.2%"}}]
[null,"Hungary (1999–2002)",{"$f":"'[2]Abs_rel diff'!CG166","v":{"v":7.2276,"d":"7.2"}},{"$f":"'[2]Abs_rel diff'!CH166","v":{"v":6.6903,"d":"(6.7 -"}},{"$f":"'[2]Abs_rel diff'!CI166","v":{"v":7.8079,"d":"7.8)"}},{"$f":"'[2]Abs_rel diff'!BJ166","v":{"v":299.9119,"d":"299.9"}},{"$f":"'[2]Abs_rel diff'!BK166","v":{"v":292.5715,"d":"(292.6 -"}},{"$f":"'[2]Abs_rel diff'!BL166","v":{"v":307.4364,"d":"307.4)"}},{"$f":"'[3]Abs_rel diff'!$CZ$166/'[3]Abs_rel diff'!$DO$166","v":{"v":0.10936737622212009,"d":"10.9%"}},{"$f":"'[2]Abs_rel diff'!CG170","v":{"v":4.7477,"d":"4.7"}},{"$f":"'[2]Abs_rel diff'!CH170","v":{"v":4.1793,"d":"(4.2 -"}},{"$f":"'[2]Abs_rel diff'!CI170","v":{"v":5.3933,"d":"5.4)"}},{"$f":"'[2]Abs_rel diff'!BJ170","v":{"v":66.982,"d":"67.0"}},{"$f":"'[2]Abs_rel diff'!BK170","v":{"v":62.8574,"d":"(62.9 -"}},{"$f":"'[2]Abs_rel diff'!BL170","v":{"v":70.8019,"d":"70.8)"}},{"$f":"'[3]Abs_rel diff'!$CZ$170/'[3]Abs_rel diff'!$DO$170","v":{"v":0.07048680853195347,"d":"7.0%"}}]
[null,"Czech Republic (1998–2003)",{"$f":"'[2]Abs_rel diff'!CG37","v":{"v":10.5835,"d":"10.6"}},{"$f":"'[2]Abs_rel diff'!CH37","v":{"v":9.0438,"d":"(9.0 -"}},{"$f":"'[2]Abs_rel diff'!CI37","v":{"v":12.3853,"d":"12.4)"}},{"$f":"'[2]Abs_rel diff'!BJ37","v":{"v":56.1929,"d":"56.2"}},{"$f":"'[2]Abs_rel diff'!BK37","v":{"v":53.8508,"d":"(53.9 -"}},{"$f":"'[2]Abs_rel diff'!BL37","v":{"v":58.52,"d":"58.5)"}},{"$f":"'[3]Abs_rel diff'!$CZ$37/'[3]Abs_rel diff'!$DO$37","v":{"v":0.002848996695960111,"d":"0.3%"}},{"$f":"'[2]Abs_rel diff'!CG39","v":{"v":4.843,"d":"4.8"}},{"$f":"'[2]Abs_rel diff'!CH39","v":{"v":3.7536,"d":"(3.8 -"}},{"$f":"'[2]Abs_rel diff'!CI39","v":{"v":6.2487,"d":"6.2)"}},{"$f":"'[2]Abs_rel diff'!BJ39","v":{"v":12.0392,"d":"12.0"}},{"$f":"'[2]Abs_rel diff'!BK39","v":{"v":10.4434,"d":"(10.4 -"}},{"$f":"'[2]Abs_rel diff'!BL39","v":{"v":13.4731,"d":"13.5)"}},{"$f":"'[3]Abs_rel diff'!$CZ$39/'[3]Abs_rel diff'!$DO$39","v":{"v":2.3889863413586615E-3,"d":"0.2%"}}]
[null,"Poland (2001–2003)",{"$f":"'[2]Abs_rel diff'!CG260","v":{"v":18.5029,"d":"18.5"}},{"$f":"'[2]Abs_rel diff'!CH260","v":{"v":16.2199,"d":"(16.2 -"}},{"$f":"'[2]Abs_rel diff'!CI260","v":{"v":21.1072,"d":"21.1)"}},{"$f":"'[2]Abs_rel diff'!BJ260","v":{"v":66.3799,"d":"66.4"}},{"$f":"'[2]Abs_rel diff'!BK260","v":{"v":64.6818,"d":"(64.7 -"}},{"$f":"'[2]Abs_rel diff'!BL260","v":{"v":68.3083,"d":"68.3)"}},{"$f":"'[3]Abs_rel diff'!$CZ$260/'[3]Abs_rel diff'!$DO$260","v":{"v":0.014838411803929122,"d":"1.5%"}},{"$f":"'[2]Abs_rel diff'!CG262","v":{"v":10.1283,"d":"10.1"}},{"$f":"'[2]Abs_rel diff'!CH262","v":{"v":7.6091,"d":"(7.6 -"}},{"$f":"'[2]Abs_rel diff'!CI262","v":{"v":13.4815,"d":"13.5)"}},{"$f":"'[2]Abs_rel diff'!BJ262","v":{"v":7.5313,"d":"7.5"}},{"$f":"'[2]Abs_rel diff'!BK262","v":{"v":6.9309,"d":"(6.9 -"}},{"$f":"'[2]Abs_rel diff'!BL262","v":{"v":8.139,"d":"8.1)"}},{"$f":"'[3]Abs_rel diff'!$CZ$262/'[3]Abs_rel diff'!$DO$262","v":{"v":6.442782892557869E-3,"d":"0.6%"}}]
[null,"Lithuania (2006–2009)",{"$f":"'[2]Abs_rel diff'!CG225","v":{"v":4.5096,"d":"4.5"}},{"$f":"'[2]Abs_rel diff'!CH225","v":{"v":3.8573,"d":"(3.9 -"}},{"$f":"'[2]Abs_rel diff'!CI225","v":{"v":5.2722,"d":"5.3)"}},{"$f":"'[2]Abs_rel diff'!BJ225","v":{"v":177.6395,"d":"177.6"}},{"$f":"'[2]Abs_rel diff'!BK225","v":{"v":163.1674,"d":"(163.2 -"}},{"$f":"'[2]Abs_rel diff'!BL225","v":{"v":191.0229,"d":"191.0)"}},{"$f":"'[3]Abs_rel diff'!$CZ$225/'[3]Abs_rel diff'!$DO$225","v":{"v":0.08790451456569634,"d":"8.8%"}},{"$f":"'[2]Abs_rel diff'!CG228","v":{"v":6.9434,"d":"6.9"}},{"$f":"'[2]Abs_rel diff'!CH228","v":{"v":5.3332,"d":"(5.3 -"}},{"$f":"'[2]Abs_rel diff'!CI228","v":{"v":9.04,"d":"9.0)"}},{"$f":"'[2]Abs_rel diff'!BJ228","v":{"v":64.178,"d":"64.2"}},{"$f":"'[2]Abs_rel diff'!BK228","v":{"v":57.9542,"d":"(58.0 -"}},{"$f":"'[2]Abs_rel diff'!BL228","v":{"v":70.3585,"d":"70.4)"}},{"$f":"'[3]Abs_rel diff'!$CZ$228/'[3]Abs_rel diff'!$DO$228","v":{"v":0.09064376877407049,"d":"9.1%"}}]
[null,"Estonia (1998–2002)",{"$f":"'[2]Abs_rel diff'!CG107","v":{"v":4.4805,"d":"4.5"}},{"$f":"'[2]Abs_rel diff'!CH107","v":{"v":3.7399,"d":"(3.7 -"}},{"$f":"'[2]Abs_rel diff'!CI107","v":{"v":5.3677,"d":"5.4)"}},{"$f":"'[2]Abs_rel diff'!BJ107","v":{"v":181.4306,"d":"181.4"}},{"$f":"'[2]Abs_rel diff'!BK107","v":{"v":162.8175,"d":"(162.8 -"}},{"$f":"'[2]Abs_rel diff'!BL107","v":{"v":196.727,"d":"196.7)"}},{"$f":"'[3]Abs_rel diff'!$CZ$107/'[3]Abs_rel diff'!$DO$107","v":{"v":0.05115605510604354,"d":"5.1%"}},{"$f":"'[2]Abs_rel diff'!CG109","v":{"v":9.0338,"d":"9.0"}},{"$f":"'[2]Abs_rel diff'!CH109","v":{"v":6.5771,"d":"(6.6 -"}},{"$f":"'[2]Abs_rel diff'!CI109","v":{"v":12.4083,"d":"12.4)"}},{"$f":"'[2]Abs_rel diff'!BJ109","v":{"v":67.424,"d":"67.4"}},{"$f":"'[2]Abs_rel diff'!BK109","v":{"v":60.6758,"d":"(60.7 -"}},{"$f":"'[2]Abs_rel diff'!BL109","v":{"v":73.9289,"d":"73.9)"}},{"$f":"'[3]Abs_rel diff'!$CZ$109/'[3]Abs_rel diff'!$DO$109","v":{"v":0.06201943426605259,"d":"6.2%"}}]
[null,"Median (interquartile range)",{"$f":"_xlfn.QUARTILE.INC(C5:C24,2)","v":{"v":4.49505,"d":"4.5"}},{"$f":"_xlfn.QUARTILE.INC(C5:C24,1)","v":{"v":3.7061,"d":"(3.7 -"}},{"$f":"_xlfn.QUARTILE.INC(C5:C24,3)","v":{"v":6.1073249999999994,"d":"6.1)"}},{"$f":"_xlfn.QUARTILE.INC(F5:F24,2)","v":{"v":34.8428,"d":"34.8"}},{"$f":"_xlfn.QUARTILE.INC(F5:F24,1)","v":{"v":18.47905,"d":"(18.5 -"}},{"$f":"_xlfn.QUARTILE.INC(F5:F24,3)","v":{"v":94.190075,"d":"94.2)"}},{"$f":"_xlfn.QUARTILE.INC(I5:I24,2)","v":{"v":0.04582404178463799,"d":"4.6%"}},{"$f":"_xlfn.QUARTILE.INC(J5:J24,2)","v":{"v":4.7277000000000005,"d":"4.7"}},{"$f":"_xlfn.QUARTILE.INC(J5:J24,1)","v":{"v":2.788925,"d":"(2.8 -"}},{"$f":"_xlfn.QUARTILE.INC(J5:J24,3)","v":{"v":5.9618,"d":"6.0)"}},{"$f":"_xlfn.QUARTILE.INC(M5:M24,2)","v":{"v":8.4595,"d":"8.5"}},{"$f":"_xlfn.QUARTILE.INC(M5:M24,1)","v":{"v":4.011749999999999,"d":"(4.0 -"}},{"$f":"_xlfn.QUARTILE.INC(M5:M24,3)","v":{"v":30.728225000000002,"d":"30.7)"}},{"$f":"_xlfn.QUARTILE.INC(P5:P24,2)","v":{"v":0.023161466734857087,"d":"2.3%"}}]
[]
["N/E: not estimatable"]

{"sheet":"Table 4ab","index":7,"n_rows":45,"n_cols":30,"rows_kept":45,"merged":[[3,3,3,14],[3,18,3,29],[4,3,4,14],[4,18,4,29],[5,3,5,4],[5,5,5,6],[5,7,5,8],[5,9,5,10],[5,11,5,12],[5,13,5,14],[5,18,5,19],[5,20,5,21],[5,22,5,23],[5,24,5,25],[5,26,5,27],[5,28,5,29],[6,3,6,4],[6,5,6,6],[6,7,6,8],[6,9,6,10],[6,11,6,12],[6,13,6,14],[6,18,6,19],[6,20,6,21],[6,22,6,23],[6,24,6,25],[6,26,6,27],[6,28,6,29],[8,7,8,8],[8,9,8,10],[8,11,8,12],[8,13,8,14],[8,22,8,23],[8,24,8,25],[8,26,8,27],[8,28,8,29],[10,3,10,4],[10,5,10,6],[10,7,10,8],[10,9,10,10],[10,11,10,12],[10,13,10,14],[10,18,10,19],[10,20,10,21],[10,22,10,23],[10,24,10,25],[10,26,10,27],[10,28,10,29],[12,7,12,8],[12,9,12,10],[12,11,12,12],[12,22,12,23],[12,24,12,25],[12,26,12,27],[14,7,14,8],[14,9,14,10],[14,11,14,12],[14,13,14,14],[14,22,14,23],[14,24,14,25],[14,26,14,27],[14,28,14,29],[16,11,16,12],[16,13,16,14],[16,26,16,27],[16,28,16,29],[18,3,18,4],[18,5,18,6],[18,7,18,8],[18,9,18,10],[18,11,18,12],[18,13,18,14],[18,18,18,19],[18,20,18,21],[18,22,18,23],[18,24,18,25],[18,26,18,27],[18,28,18,29],[20,7,20,8],[20,9,20,10],[20,11,20,12],[20,13,20,14],[20,22,20,23],[20,24,20,25],[20,26,20,27],[20,28,20,29],[22,3,22,4],[22,7,22,8],[22,11,22,12],[22,18,22,19],[22,22,22,23],[22,26,22,27],[24,7,24,8],[24,9,24,10],[24,11,24,12],[24,13,24,14],[24,22,24,23],[24,24,24,25],[24,26,24,27],[24,28,24,29],[26,9,26,10],[26,11,26,12],[26,24,26,25],[26,26,26,27],[28,9,28,10],[28,11,28,12],[28,24,28,25],[28,26,28,27],[30,3,30,4],[30,5,30,6],[30,7,30,8],[30,9,30,10],[30,11,30,12],[30,13,30,14],[30,18,30,19],[30,20,30,21],[30,22,30,23],[30,24,30,25],[30,26,30,27],[30,28,30,29],[32,7,32,8],[32,9,32,10],[32,11,32,12],[32,13,32,14],[32,22,32,23],[32,24,32,25],[32,26,32,27],[32,28,32,29],[34,3,34,4],[34,7,34,8],[34,11,34,12],[34,18,34,19],[34,22,34,23],[34,26,34,27],[36,5,36,6],[36,11,36,12],[36,13,36,14],[36,20,36,21],[36,26,36,27],[36,28,36,29],[38,5,38,6],[38,11,38,12],[38,20,38,21],[38,26,38,27]]}
["Table 4. Trends in educational inequalities in mortality from alcohol-related causes, ca. 1980-2010, by country and sex (Relative Index of Inequality and Slope Index of Inequality, with 95% Confidence Intervals) "]
["a. Men Relative Index of Inequality",{"$nulls":15},"b. Men Slope Index of Inequality"]
[]
[{"$nulls":3},"Relative Index of Inequality",{"$nulls":14},"Slope Index of Inequality"]
[{"$nulls":3},"(95% CI)",{"$nulls":14},"(95% CI)"]
[{"$nulls":3},"1980-4",null,"1985-9",null,"1990-4",null,"1995-9",null,"2000-4",null,"2005-9",{"$nulls":4},"1980-4",null,"1985-9",null,"1990-4",null,"1995-9",null,"2000-4",null,"2005-9"]
[null,"North","Finland",{"$f":"'[2]Abs_rel diff'!$CG$119","v":{"v":2.6846,"d":"2.7"}},null,{"$f":"'[2]Abs_rel diff'!$CG$120","v":{"v":2.5775,"d":"2.6"}},null,{"$f":"'[2]Abs_rel diff'!$CG$121","v":{"v":3.0291,"d":"3.0"}},null,{"$f":"'[2]Abs_rel diff'!$CG$122","v":{"v":3.2795,"d":"3.3"}},null,{"$f":"'[2]Abs_rel diff'!$CG$123","v":{"v":3.1755,"d":"3.2"}},null,{"$f":"'[2]Abs_rel diff'!$CG$124","v":{"v":3.6155,"d":"3.6"}},null,null,"North","Finland",{"$f":"'[2]Abs_rel diff'!$BJ$119","v":{"v":46.3581,"d":"46.4"}},null,{"$f":"'[2]Abs_rel diff'!$BJ$120","v":{"v":57.4196,"d":"57.4"}},null,{"$f":"'[2]Abs_rel diff'!$BJ$121","v":{"v":66.5885,"d":"66.6"}},null,{"$f":"'[2]Abs_rel diff'!$BJ$122","v":{"v":83.2215,"d":"83.2"}},null,{"$f":"'[2]Abs_rel diff'!$BJ$123","v":{"v":87.0926,"d":"87.1"}},null,{"$f":"'[2]Abs_rel diff'!$BJ$124","v":{"v":112.5242,"d":"112.5"}}]
[{"$nulls":3},{"$f":"'[2]Abs_rel diff'!$CH$119","v":{"v":2.2222,"d":"(2.2 -"}},{"$f":"'[2]Abs_rel diff'!$CI$119","v":{"v":3.2433,"d":"3.2)"}},{"$f":"'[2]Abs_rel diff'!$CH$120","v":{"v":2.2082,"d":"(2.2 -"}},{"$f":"'[2]Abs_rel diff'!$CI$120","v":{"v":3.0086,"d":"3.0)"}},{"$f":"'[2]Abs_rel diff'!$CH$121","v":{"v":2.6467,"d":"(2.6 -"}},{"$f":"'[2]Abs_rel diff'!$CI$121","v":{"v":3.4667,"d":"3.5)"}},{"$f":"'[2]Abs_rel diff'!$CH$122","v":{"v":2.9127,"d":"(2.9 -"}},{"$f":"'[2]Abs_rel diff'!$CI$122","v":{"v":3.6925,"d":"3.7)"}},{"$f":"'[2]Abs_rel diff'!$CH$123","v":{"v":2.8625,"d":"(2.9 -"}},{"$f":"'[2]Abs_rel diff'!$CI$123","v":{"v":3.5227,"d":"3.5)"}},{"$f":"'[2]Abs_rel diff'!$CH$124","v":{"v":3.293,"d":"(3.3 -"}},{"$f":"'[2]Abs_rel diff'!$CI$124","v":{"v":3.9696,"d":"4.0)"}},{"$nulls":3},{"$f":"'[2]Abs_rel diff'!$BK$119","v":{"v":39.0945,"d":"(39.1 -"}},{"$f":"'[2]Abs_rel diff'!$BL$119","v":{"v":54.2333,"d":"54.2)"}},{"$f":"'[2]Abs_rel diff'!$BK$120","v":{"v":49.4743,"d":"(49.5 -"}},{"$f":"'[2]Abs_rel diff'!$BL$120","v":{"v":65.2775,"d":"65.3)"}},{"$f":"'[2]Abs_rel diff'!$BK$121","v":{"v":60.479,"d":"(60.5 -"}},{"$f":"'[2]Abs_rel diff'!$BL$121","v":{"v":73.4173,"d":"73.4)"}},{"$f":"'[2]Abs_rel diff'!$BK$122","v":{"v":76.8918,"d":"(76.9 -"}},{"$f":"'[2]Abs_rel diff'!$BL$122","v":{"v":89.7251,"d":"89.7)"}},{"$f":"'[2]Abs_rel diff'!$BK$123","v":{"v":80.7169,"d":"(80.7 -"}},{"$f":"'[2]Abs_rel diff'!$BL$123","v":{"v":94.0151,"d":"94.0)"}},{"$f":"'[2]Abs_rel diff'!$BK$124","v":{"v":106.1605,"d":"(106.2 -"}},{"$f":"'[2]Abs_rel diff'!$BL$124","v":{"v":118.8464,"d":"118.8)"}}]
[null,null,"Sweden",{"$nulls":4},{"$f":"'[2]Abs_rel diff'!$CG$337","v":{"v":4.3293,"d":"4.3"}},null,{"$f":"'[2]Abs_rel diff'!$CG$338","v":{"v":4.0686,"d":"4.1"}},null,{"$f":"'[2]Abs_rel diff'!$CG$339","v":{"v":4.6589,"d":"4.7"}},null,{"$f":"'[2]Abs_rel diff'!$CG$340","v":{"v":3.7581,"d":"3.8"}},{"$nulls":3},"Sweden",{"$nulls":4},{"$f":"'[2]Abs_rel diff'!$BJ$337","v":{"v":33.4153,"d":"33.4"}},null,{"$f":"'[2]Abs_rel diff'!$BJ$338","v":{"v":30.8236,"d":"30.8"}},null,{"$f":"'[2]Abs_rel diff'!$BJ$339","v":{"v":33.5272,"d":"33.5"}},null,{"$f":"'[2]Abs_rel diff'!$BJ$340","v":{"v":28.8404,"d":"28.8"}}]
[{"$nulls":7},{"$f":"'[2]Abs_rel diff'!$CH$337","v":{"v":3.6121,"d":"(3.6 -"}},{"$f":"'[2]Abs_rel diff'!$CI$337","v":{"v":5.189,"d":"5.2)"}},{"$f":"'[2]Abs_rel diff'!$CH$338","v":{"v":3.4772,"d":"(3.5 -"}},{"$f":"'[2]Abs_rel diff'!$CI$338","v":{"v":4.7607,"d":"4.8)"}},{"$f":"'[2]Abs_rel diff'!$CH$339","v":{"v":4.0189,"d":"(4.0 -"}},{"$f":"'[2]Abs_rel diff'!$CI$339","v":{"v":5.4008,"d":"5.4)"}},{"$f":"'[2]Abs_rel diff'!$CH$340","v":{"v":3.2117,"d":"(3.2 -"}},{"$f":"'[2]Abs_rel diff'!$CI$340","v":{"v":4.3975,"d":"4.4)"}},{"$nulls":7},{"$f":"'[2]Abs_rel diff'!$BK$337","v":{"v":30.3411,"d":"(30.3 -"}},{"$f":"'[2]Abs_rel diff'!$BL$337","v":{"v":36.4725,"d":"36.5)"}},{"$f":"'[2]Abs_rel diff'!$BK$338","v":{"v":28.1604,"d":"(28.2 -"}},{"$f":"'[2]Abs_rel diff'!$BL$338","v":{"v":33.5119,"d":"33.5)"}},{"$f":"'[2]Abs_rel diff'!$BK$339","v":{"v":30.7899,"d":"(30.8 -"}},{"$f":"'[2]Abs_rel diff'!$BL$339","v":{"v":35.8159,"d":"35.8)"}},{"$f":"'[2]Abs_rel diff'!$BK$340","v":{"v":26.1224,"d":"(26.1 -"}},{"$f":"'[2]Abs_rel diff'!$BL$340","v":{"v":31.5794,"d":"31.6)"}}]
[null,null,"Norway",{"$f":"'[2]Abs_rel diff'!$CG$238","v":{"v":2.6072,"d":"2.6"}},null,{"$f":"'[2]Abs_rel diff'!$CG$239","v":{"v":2.9185,"d":"2.9"}},null,{"$f":"'[2]Abs_rel diff'!$CG$240","v":{"v":3.8621,"d":"3.9"}},null,{"$f":"'[2]Abs_rel diff'!$CG$241","v":{"v":4.1543,"d":"4.2"}},null,{"$f":"'[2]Abs_rel diff'!$CG$242","v":{"v":5.1648,"d":"5.2"}},null,{"$f":"'[2]Abs_rel diff'!$CG$243","v":{"v":6.3627,"d":"6.4"}},{"$nulls":3},"Norway",{"$f":"'[2]Abs_rel diff'!$BJ$238","v":{"v":32.4808,"d":"32.5"}},null,{"$f":"'[2]Abs_rel diff'!$BJ$239","v":{"v":42.3157,"d":"42.3"}},null,{"$f":"'[2]Abs_rel diff'!$BJ$240","v":{"v":45.0783,"d":"45.1"}},null,{"$f":"'[2]Abs_rel diff'!$BJ$241","v":{"v":43.8014,"d":"43.8"}},null,{"$f":"'[2]Abs_rel diff'!$BJ$242","v":{"v":39.6821,"d":"39.7"}},null,{"$f":"'[2]Abs_rel diff'!$BJ$243","v":{"v":37.3792,"d":"37.4"}}]
[{"$nulls":3},{"$f":"'[2]Abs_rel diff'!$CH$238","v":{"v":2.0918,"d":"(2.1 -"}},{"$f":"'[2]Abs_rel diff'!$CI$238","v":{"v":3.2496,"d":"3.2)"}},{"$f":"'[2]Abs_rel diff'!$CH$239","v":{"v":2.3547,"d":"(2.4 -"}},{"$f":"'[2]Abs_rel diff'!$CI$239","v":{"v":3.6173,"d":"3.6)"}},{"$f":"'[2]Abs_rel diff'!$CH$240","v":{"v":3.1386,"d":"(3.1 -"}},{"$f":"'[2]Abs_rel diff'!$CI$240","v":{"v":4.7523,"d":"4.8)"}},{"$f":"'[2]Abs_rel diff'!$CH$241","v":{"v":3.3938,"d":"(3.4 -"}},{"$f":"'[2]Abs_rel diff'!$CI$241","v":{"v":5.0853,"d":"5.1)"}},{"$f":"'[2]Abs_rel diff'!$CH$242","v":{"v":4.1639,"d":"(4.2 -"}},{"$f":"'[2]Abs_rel diff'!$CI$242","v":{"v":6.4063,"d":"6.4)"}},{"$f":"'[2]Abs_rel diff'!$CH$243","v":{"v":4.7174,"d":"(4.7 -"}},{"$f":"'[2]Abs_rel diff'!$CI$243","v":{"v":8.5819,"d":"8.6)"}},{"$nulls":3},{"$f":"'[2]Abs_rel diff'!$BK$238","v":{"v":25.0332,"d":"(25.0 -"}},{"$f":"'[2]Abs_rel diff'!$BL$238","v":{"v":38.0401,"d":"38.0)"}},{"$f":"'[2]Abs_rel diff'!$BK$239","v":{"v":35.8262,"d":"(35.8 -"}},{"$f":"'[2]Abs_rel diff'!$BL$239","v":{"v":48.7454,"d":"48.7)"}},{"$f":"'[2]Abs_rel diff'!$BK$240","v":{"v":38.9654,"d":"(39.0 -"}},{"$f":"'[2]Abs_rel diff'!$BL$240","v":{"v":51.0211,"d":"51.0)"}},{"$f":"'[2]Abs_rel diff'!$BK$241","v":{"v":39.3328,"d":"(39.3 -"}},{"$f":"'[2]Abs_rel diff'!$BL$241","v":{"v":48.4169,"d":"48.4)"}},{"$f":"'[2]Abs_rel diff'!$BK$242","v":{"v":35.6694,"d":"(35.7 -"}},{"$f":"'[2]Abs_rel diff'!$BL$242","v":{"v":42.941,"d":"42.9)"}},{"$f":"'[2]Abs_rel diff'!$BK$243","v":{"v":31.4276,"d":"(31.4 -"}},{"$f":"'[2]Abs_rel diff'!$BL$243","v":{"v":41.6931,"d":"41.7)"}}]
[null,null,"Denmark",{"$nulls":4},{"$f":"'[2]Abs_rel diff'!$CG$47","v":{"v":2.9966,"d":"3.0"}},null,{"$f":"'[2]Abs_rel diff'!$CG$48","v":{"v":2.6988,"d":"2.7"}},null,{"$f":"'[2]Abs_rel diff'!$CG$49","v":{"v":3.8921,"d":"3.9"}},{"$nulls":5},"Denmark",{"$nulls":4},{"$f":"'[2]Abs_rel diff'!$BJ$47","v":{"v":52.0451,"d":"52.0"}},null,{"$f":"'[2]Abs_rel diff'!$BJ$48","v":{"v":55.9934,"d":"56.0"}},null,{"$f":"'[2]Abs_rel diff'!$BJ$49","v":{"v":88.0787,"d":"88.1"}}]
[{"$nulls":7},{"$f":"'[2]Abs_rel diff'!$CH$47","v":{"v":2.579,"d":"(2.6 -"}},{"$f":"'[2]Abs_rel diff'!$CI$47","v":{"v":3.4818,"d":"3.5)"}},{"$f":"'[2]Abs_rel diff'!$CH$48","v":{"v":2.3735,"d":"(2.4 -"}},{"$f":"'[2]Abs_rel diff'!$CI$48","v":{"v":3.0687,"d":"3.1)"}},{"$f":"'[2]Abs_rel diff'!$CH$49","v":{"v":3.4777,"d":"(3.5 -"}},{"$f":"'[2]Abs_rel diff'!$CI$49","v":{"v":4.3557,"d":"4.4)"}},{"$nulls":9},{"$f":"'[2]Abs_rel diff'!$BK$47","v":{"v":45.5694,"d":"(45.6 -"}},{"$f":"'[2]Abs_rel diff'!$BL$47","v":{"v":57.7678,"d":"57.8)"}},{"$f":"'[2]Abs_rel diff'!$BK$48","v":{"v":50.0919,"d":"(50.1 -"}},{"$f":"'[2]Abs_rel diff'!$BL$48","v":{"v":61.8313,"d":"61.8)"}},{"$f":"'[2]Abs_rel diff'!$BK$49","v":{"v":82.0231,"d":"(82.0 -"}},{"$f":"'[2]Abs_rel diff'!$BL$49","v":{"v":94.3434,"d":"94.3)"}}]
[null,"West","Scotland (UK)",{"$nulls":4},"N/E",null,{"$f":"'[2]Abs_rel diff'!$CG$271","v":{"v":3.0998,"d":"3.1"}},null,{"$f":"'[2]Abs_rel diff'!$CG$272","v":{"v":3.1582,"d":"3.2"}},null,{"$f":"'[2]Abs_rel diff'!$CG$273","v":{"v":1.0383,"d":"1.0"}},null,null,"West","Scotland (UK)",{"$nulls":4},{"$f":"'[2]Abs_rel diff'!$BJ$270","v":{"v":18.649,"d":"18.6"}},null,{"$f":"'[2]Abs_rel diff'!$BJ$271","v":{"v":18.7261,"d":"18.7"}},null,{"$f":"'[2]Abs_rel diff'!$BJ$272","v":{"v":76.3862,"d":"76.4"}},null,{"$f":"'[2]Abs_rel diff'!$BJ$273","v":{"v":1.5465,"d":"1.5"}}]
[{"$nulls":9},{"$f":"'[2]Abs_rel diff'!$CH$271","v":{"v":0.4125,"d":"(0.4 -"}},{"$f":"'[2]Abs_rel diff'!$CI$271","v":{"v":23.2952,"d":"23.3)"}},{"$f":"'[2]Abs_rel diff'!$CH$272","v":{"v":1.5533,"d":"(1.6 -"}},{"$f":"'[2]Abs_rel diff'!$CI$272","v":{"v":6.4214,"d":"6.4)"}},{"$f":"'[2]Abs_rel diff'!$CH$273","v":{"v":0.4936,"d":"(0.5 -"}},{"$f":"'[2]Abs_rel diff'!$CI$273","v":{"v":2.184,"d":"2.2)"}},{"$nulls":7},{"$f":"'[2]Abs_rel diff'!$BK$270","v":{"v":12.096,"d":"(12.1 -"}},{"$f":"'[2]Abs_rel diff'!$BL$270","v":{"v":26.5132,"d":"26.5)"}},{"$f":"'[2]Abs_rel diff'!$BK$271","v":{"v":-9.1703,"d":"(-9.2 -"}},{"$f":"'[2]Abs_rel diff'!$BL$271","v":{"v":38.8721,"d":"38.9)"}},{"$f":"'[2]Abs_rel diff'!$BK$272","v":{"v":34.4006,"d":"(34.4 -"}},{"$f":"'[2]Abs_rel diff'!$BL$272","v":{"v":112.1243,"d":"112.1)"}},{"$f":"'[2]Abs_rel diff'!$BK$273","v":{"v":-25.6876,"d":"(-25.7 -"}},{"$f":"'[2]Abs_rel diff'!$BL$273","v":{"v":30.8751,"d":"30.9)"}}]
[null,null,"England & Wales (UK)",{"$nulls":8},{"$f":"'[2]Abs_rel diff'!$CG$66","v":{"v":2.9896,"d":"3.0"}},null,{"$f":"'[2]Abs_rel diff'!$CG$67","v":{"v":3.4456,"d":"3.4"}},{"$nulls":3},"England & Wales (UK)",{"$nulls":8},{"$f":"'[2]Abs_rel diff'!$BJ$66","v":{"v":18.0624,"d":"18.1"}},null,{"$f":"'[2]Abs_rel diff'!$BJ$67","v":{"v":20.7764,"d":"20.8"}}]
[{"$nulls":11},{"$f":"'[2]Abs_rel diff'!$CH$66","v":{"v":1.2903,"d":"(1.3 -"}},{"$f":"'[2]Abs_rel diff'!$CI$66","v":{"v":6.9266,"d":"6.9)"}},{"$f":"'[2]Abs_rel diff'!$CH$67","v":{"v":1.4056,"d":"(1.4 -"}},{"$f":"'[2]Abs_rel diff'!$CI$67","v":{"v":8.4463,"d":"8.4)"}},{"$nulls":11},{"$f":"'[2]Abs_rel diff'!$BK$66","v":{"v":3.1907,"d":"(3.2 -"}},{"$f":"'[2]Abs_rel diff'!$BL$66","v":{"v":28.5303,"d":"28.5)"}},{"$f":"'[2]Abs_rel diff'!$BK$67","v":{"v":6.7098,"d":"(6.7 -"}},{"$f":"'[2]Abs_rel diff'!$BL$67","v":{"v":32.0807,"d":"32.1)"}}]
[null,null,"France",{"$f":"('[2]Abs_rel diff'!$CG$141+'[2]Abs_rel diff'!$CG$142)/2","v":{"v":8.754385000000001,"d":"8.8"}},null,{"$f":"('[2]Abs_rel diff'!$CG$142+'[2]Abs_rel diff'!$CG$143)/2","v":{"v":5.722305,"d":"5.7"}},null,{"$f":"'[2]Abs_rel diff'!$CG$144","v":{"v":6.87547,"d":"6.9"}},null,{"$f":"'[2]Abs_rel diff'!$CG$145","v":{"v":9.15922,"d":"9.2"}},null,{"$f":"'[2]Abs_rel diff'!$CG$146","v":{"v":4.21313,"d":"4.2"}},null,{"$f":"'[2]Abs_rel diff'!$CG$147","v":{"v":4.11319,"d":"4.1"}},{"$nulls":3},"France",{"$f":"('[2]Abs_rel diff'!$BJ$141+'[2]Abs_rel diff'!$BJ$142)/2","v":{"v":94.11296,"d":"94.1"}},null,{"$f":"('[2]Abs_rel diff'!$BJ$142+'[2]Abs_rel diff'!$BJ$143)/2","v":{"v":85.539525,"d":"85.5"}},null,{"$f":"'[2]Abs_rel diff'!$BJ$144","v":{"v":66.36343,"d":"66.4"}},null,{"$f":"'[2]Abs_rel diff'!$BJ$145","v":{"v":70.23355,"d":"70.2"}},null,{"$f":"'[2]Abs_rel diff'!$BJ$146","v":{"v":53.41101,"d":"53.4"}},null,{"$f":"'[2]Abs_rel diff'!$BJ$147","v":{"v":47.65554,"d":"47.7"}}]
[{"$nulls":3},{"$f":"('[2]Abs_rel diff'!$CH$141+'[2]Abs_rel diff'!$CH$142)/2","v":{"v":2.98293,"d":"(3.0 -"}},{"$f":"('[2]Abs_rel diff'!$CI$141+'[2]Abs_rel diff'!$CI$142)/2","v":{"v":29.33735,"d":"29.3)"}},{"$f":"('[2]Abs_rel diff'!$CH$142+'[2]Abs_rel diff'!$CH$143)/2","v":{"v":2.77475,"d":"(2.8 -"}},{"$f":"('[2]Abs_rel diff'!$CI$142+'[2]Abs_rel diff'!$CI$143)/2","v":{"v":11.9297,"d":"11.9)"}},{"$f":"'[2]Abs_rel diff'!$CH$144","v":{"v":3.6304,"d":"(3.6 -"}},{"$f":"'[2]Abs_rel diff'!$CI$144","v":{"v":13.0212,"d":"13.0)"}},{"$f":"'[2]Abs_rel diff'!$CH$145","v":{"v":4.55327,"d":"(4.6 -"}},{"$f":"'[2]Abs_rel diff'!$CI$145","v":{"v":18.4244,"d":"18.4)"}},{"$f":"'[2]Abs_rel diff'!$CH$146","v":{"v":2.49111,"d":"(2.5 -"}},{"$f":"'[2]Abs_rel diff'!$CI$146","v":{"v":7.12554,"d":"7.1)"}},{"$f":"'[2]Abs_rel diff'!$CH$147","v":{"v":2.28654,"d":"(2.3 -"}},{"$f":"'[2]Abs_rel diff'!$CI$147","v":{"v":7.39911,"d":"7.4)"}},{"$nulls":3},{"$f":"('[2]Abs_rel diff'!$BK$141+'[2]Abs_rel diff'!$BK$142)/2","v":{"v":63.66345,"d":"(63.7 -"}},{"$f":"('[2]Abs_rel diff'!$BL$141+'[2]Abs_rel diff'!$BL$142)/2","v":{"v":117.2458,"d":"117.2)"}},{"$f":"('[2]Abs_rel diff'!$BK$142+'[2]Abs_rel diff'!$BK$143)/2","v":{"v":59.33645,"d":"(59.3 -"}},{"$f":"('[2]Abs_rel diff'!$BL$142+'[2]Abs_rel diff'!$BL$143)/2","v":{"v":107.69745,"d":"107.7)"}},{"$f":"'[2]Abs_rel diff'!$BK$144","v":{"v":50.4942,"d":"(50.5 -"}},{"$f":"'[2]Abs_rel diff'!$BL$144","v":{"v":79.5353,"d":"79.5)"}},{"$f":"'[2]Abs_rel diff'!$BK$145","v":{"v":54.8978,"d":"(54.9 -"}},{"$f":"'[2]Abs_rel diff'!$BL$145","v":{"v":84.0962,"d":"84.1)"}},{"$f":"'[2]Abs_rel diff'!$BK$146","v":{"v":38.869,"d":"(38.9 -"}},{"$f":"'[2]Abs_rel diff'!$BL$146","v":{"v":66.4991,"d":"66.5)"}},{"$f":"'[2]Abs_rel diff'!$BK$147","v":{"v":29.2825,"d":"(29.3 -"}},{"$f":"'[2]Abs_rel diff'!$BL$147","v":{"v":61.3556,"d":"61.4)"}}]
[null,null,"Switzerland",{"$nulls":4},{"$f":"'[2]Abs_rel diff'!$CG$352","v":{"v":5.5729,"d":"5.6"}},null,{"$f":"'[2]Abs_rel diff'!$CG$353","v":{"v":4.303,"d":"4.3"}},null,{"$f":"'[2]Abs_rel diff'!$CG$354","v":{"v":6.414,"d":"6.4"}},null,{"$f":"'[2]Abs_rel diff'!$CG$355","v":{"v":4.7318,"d":"4.7"}},{"$nulls":3},"Switzerland",{"$nulls":4},{"$f":"'[2]Abs_rel diff'!$BJ$352","v":{"v":43.2506,"d":"43.3"}},null,{"$f":"'[2]Abs_rel diff'!$BJ$353","v":{"v":39.3562,"d":"39.4"}},null,{"$f":"'[2]Abs_rel diff'!$BJ$354","v":{"v":43.2917,"d":"43.3"}},null,{"$f":"'[2]Abs_rel diff'!$BJ$355","v":{"v":32.3064,"d":"32.3"}}]
[{"$nulls":7},{"$f":"'[2]Abs_rel diff'!$CH$352","v":{"v":4.6558,"d":"(4.7 -"}},{"$f":"'[2]Abs_rel diff'!$CI$352","v":{"v":6.6706,"d":"6.7)"}},{"$f":"'[2]Abs_rel diff'!$CH$353","v":{"v":3.619,"d":"(3.6 -"}},{"$f":"'[2]Abs_rel diff'!$CI$353","v":{"v":5.1161,"d":"5.1)"}},{"$f":"'[2]Abs_rel diff'!$CH$354","v":{"v":5.304,"d":"(5.3 -"}},{"$f":"'[2]Abs_rel diff'!$CI$354","v":{"v":7.7562,"d":"7.8)"}},{"$f":"'[2]Abs_rel diff'!$CH$355","v":{"v":3.6701,"d":"(3.7 -"}},{"$f":"'[2]Abs_rel diff'!$CI$355","v":{"v":6.1006,"d":"6.1)"}},{"$nulls":7},{"$f":"'[2]Abs_rel diff'!$BK$352","v":{"v":39.6394,"d":"(39.6 -"}},{"$f":"'[2]Abs_rel diff'!$BL$352","v":{"v":46.5603,"d":"46.6)"}},{"$f":"'[2]Abs_rel diff'!$BK$353","v":{"v":35.5279,"d":"(35.5 -"}},{"$f":"'[2]Abs_rel diff'!$BL$353","v":{"v":43.111,"d":"43.1)"}},{"$f":"'[2]Abs_rel diff'!$BK$354","v":{"v":40.1447,"d":"(40.1 -"}},{"$f":"'[2]Abs_rel diff'!$BL$354","v":{"v":46.3476,"d":"46.3)"}},{"$f":"'[2]Abs_rel diff'!$BK$355","v":{"v":28.1426,"d":"(28.1 -"}},{"$f":"'[2]Abs_rel diff'!$BL$355","v":{"v":36.1444,"d":"36.1)"}}]
[null,null,"Austria",{"$f":"'[2]Abs_rel diff'!$CG$6","v":{"v":4.7347,"d":"4.7"}},{"$nulls":3},{"$f":"'[2]Abs_rel diff'!$CG$7","v":{"v":5.3973,"d":"5.4"}},{"$nulls":3},{"$f":"'[2]Abs_rel diff'!$CG$8","v":{"v":5.7641,"d":"5.8"}},{"$nulls":5},"Austria",{"$f":"'[2]Abs_rel diff'!$BJ$6","v":{"v":17.6187,"d":"17.6"}},{"$nulls":3},{"$f":"'[2]Abs_rel diff'!$BJ$7","v":{"v":27.1085,"d":"27.1"}},{"$nulls":3},{"$f":"'[2]Abs_rel diff'!$BJ$8","v":{"v":30.8289,"d":"30.8"}}]
[{"$nulls":3},{"$f":"'[2]Abs_rel diff'!$CH$6","v":{"v":2.6945,"d":"(2.7 -"}},{"$f":"'[2]Abs_rel diff'!$CI$6","v":{"v":8.3197,"d":"8.3)"}},null,null,{"$f":"'[2]Abs_rel diff'!$CH$7","v":{"v":3.4758,"d":"(3.5 -"}},{"$f":"'[2]Abs_rel diff'!$CI$7","v":{"v":8.3811,"d":"8.4)"}},null,null,{"$f":"'[2]Abs_rel diff'!$CH$8","v":{"v":3.8941,"d":"(3.9 -"}},{"$f":"'[2]Abs_rel diff'!$CI$8","v":{"v":8.5322,"d":"8.5)"}},{"$nulls":5},{"$f":"'[2]Abs_rel diff'!$BK$6","v":{"v":12.3501,"d":"(12.4 -"}},{"$f":"'[2]Abs_rel diff'!$BL$6","v":{"v":21.7558,"d":"21.8)"}},null,null,{"$f":"'[2]Abs_rel diff'!$BK$7","v":{"v":21.534,"d":"(21.5 -"}},{"$f":"'[2]Abs_rel diff'!$BL$7","v":{"v":32.3607,"d":"32.4)"}},null,null,{"$f":"'[2]Abs_rel diff'!$BK$8","v":{"v":25.6219,"d":"(25.6 -"}},{"$f":"'[2]Abs_rel diff'!$BL$8","v":{"v":35.4323,"d":"35.4)"}}]
[null,"South","Spain (Barcelona)",{"$nulls":4},{"$f":"'[2]Abs_rel diff'!$CG$300","v":{"v":8.6541,"d":"8.7"}},null,{"$f":"'[2]Abs_rel diff'!$CG$301","v":{"v":9.8966,"d":"9.9"}},null,{"$f":"'[2]Abs_rel diff'!$CG$302","v":{"v":8.768,"d":"8.8"}},null,{"$f":"'[2]Abs_rel diff'!$CG$303","v":{"v":6.0222,"d":"6.0"}},null,null,"South","Spain (Barcelona)",{"$nulls":4},{"$f":"'[2]Abs_rel diff'!$BJ$300","v":{"v":13.3658,"d":"13.4"}},null,{"$f":"'[2]Abs_rel diff'!$BJ$301","v":{"v":15.293,"d":"15.3"}},null,{"$f":"'[2]Abs_rel diff'!$BJ$302","v":{"v":14.0576,"d":"14.1"}},null,{"$f":"'[2]Abs_rel diff'!$BJ$303","v":{"v":11.587,"d":"11.6"}}]
[{"$nulls":7},{"$f":"'[2]Abs_rel diff'!$CH$300","v":{"v":3.6612,"d":"(3.7 -"}},{"$f":"'[2]Abs_rel diff'!$CI$300","v":{"v":20.4558,"d":"20.5)"}},{"$f":"'[2]Abs_rel diff'!$CH$301","v":{"v":4.4396,"d":"(4.4 -"}},{"$f":"'[2]Abs_rel diff'!$CI$301","v":{"v":22.0611,"d":"22.1)"}},{"$f":"'[2]Abs_rel diff'!$CH$302","v":{"v":4.1439,"d":"(4.1 -"}},{"$f":"'[2]Abs_rel diff'!$CI$302","v":{"v":18.5521,"d":"18.6)"}},{"$f":"'[2]Abs_rel diff'!$CH$303","v":{"v":2.7521,"d":"(2.8 -"}},{"$f":"'[2]Abs_rel diff'!$CI$303","v":{"v":13.178,"d":"13.2)"}},{"$nulls":7},{"$f":"'[2]Abs_rel diff'!$BK$300","v":{"v":9.7484,"d":"(9.7 -"}},{"$f":"'[2]Abs_rel diff'!$BL$300","v":{"v":16.3026,"d":"16.3)"}},{"$f":"'[2]Abs_rel diff'!$BK$301","v":{"v":11.5471,"d":"(11.5 -"}},{"$f":"'[2]Abs_rel diff'!$BL$301","v":{"v":18.4414,"d":"18.4)"}},{"$f":"'[2]Abs_rel diff'!$BK$302","v":{"v":10.7733,"d":"(10.8 -"}},{"$f":"'[2]Abs_rel diff'!$BL$302","v":{"v":16.9593,"d":"17.0)"}},{"$f":"'[2]Abs_rel diff'!$BK$303","v":{"v":7.999,"d":"(8.0 -"}},{"$f":"'[2]Abs_rel diff'!$BL$303","v":{"v":14.8803,"d":"14.9)"}}]
[null,null,"Spain (Basque country)",{"$nulls":6},{"$f":"'[2]Abs_rel diff'!$CG$315","v":{"v":7.8071,"d":"7.8"}},null,{"$f":"'[2]Abs_rel diff'!$CG$316","v":{"v":3.7363,"d":"3.7"}},{"$nulls":5},"Spain (Basque country)",{"$nulls":6},{"$f":"'[2]Abs_rel diff'!$BJ$315","v":{"v":12.7135,"d":"12.7"}},null,{"$f":"'[2]Abs_rel diff'!$BJ$316","v":{"v":9.4408,"d":"9.4"}}]
[{"$nulls":9},{"$f":"'[2]Abs_rel diff'!$CH$315","v":{"v":3.3527,"d":"(3.4 -"}},{"$f":"'[2]Abs_rel diff'!$CI$315","v":{"v":18.1793,"d":"18.2)"}},{"$f":"'[2]Abs_rel diff'!$CH$316","v":{"v":1.9451,"d":"(1.9 -"}},{"$f":"'[2]Abs_rel diff'!$CI$316","v":{"v":7.1771,"d":"7.2)"}},{"$nulls":11},{"$f":"'[2]Abs_rel diff'!$BK$315","v":{"v":9.0646,"d":"(9.1 -"}},{"$f":"'[2]Abs_rel diff'!$BL$315","v":{"v":15.4971,"d":"15.5)"}},{"$f":"'[2]Abs_rel diff'!$BK$316","v":{"v":5.3472,"d":"(5.3 -"}},{"$f":"'[2]Abs_rel diff'!$BL$316","v":{"v":13.2066,"d":"13.2)"}}]
[null,null,"Spain (Madrid)",{"$nulls":6},{"$f":"'[2]Abs_rel diff'!$CG$326","v":{"v":6.0133,"d":"6.0"}},null,{"$f":"'[2]Abs_rel diff'!$CG$327","v":{"v":5.9118,"d":"5.9"}},{"$nulls":5},"Spain (Madrid)",{"$nulls":6},{"$f":"'[2]Abs_rel diff'!$BJ$326","v":{"v":8.5183,"d":"8.5"}},null,{"$f":"'[2]Abs_rel diff'!$BJ$327","v":{"v":9.1549,"d":"9.2"}}]
[{"$nulls":9},{"$f":"'[2]Abs_rel diff'!$CH$326","v":{"v":1.9993,"d":"(2.0 -"}},{"$f":"'[2]Abs_rel diff'!$CI$326","v":{"v":18.0859,"d":"18.1)"}},{"$f":"'[2]Abs_rel diff'!$CH$327","v":{"v":2.4348,"d":"(2.4 -"}},{"$f":"'[2]Abs_rel diff'!$CI$327","v":{"v":14.3542,"d":"14.4)"}},{"$nulls":11},{"$f":"'[2]Abs_rel diff'!$BK$326","v":{"v":4.8057,"d":"(4.8 -"}},{"$f":"'[2]Abs_rel diff'!$BL$326","v":{"v":11.5251,"d":"11.5)"}},{"$f":"'[2]Abs_rel diff'!$BK$327","v":{"v":5.6777,"d":"(5.7 -"}},{"$f":"'[2]Abs_rel diff'!$BL$327","v":{"v":11.9529,"d":"12.0)"}}]
[null,null,"Italy (Turin)",{"$f":"'[2]Abs_rel diff'!$CG$180","v":{"v":11.2124,"d":"11.2"}},null,{"$f":"'[2]Abs_rel diff'!$CG$181","v":{"v":1.9725,"d":"2.0"}},null,{"$f":"'[2]Abs_rel diff'!$CG$182","v":{"v":5.0148,"d":"5.0"}},null,{"$f":"'[2]Abs_rel diff'!$CG$183","v":{"v":5.2021,"d":"5.2"}},null,{"$f":"'[2]Abs_rel diff'!$CG$184","v":{"v":7.2637,"d":"7.3"}},null,{"$f":"'[2]Abs_rel diff'!$CG$185","v":{"v":2.5312,"d":"2.5"}},{"$nulls":3},"Italy (Turin)",{"$f":"'[2]Abs_rel diff'!$BJ$180","v":{"v":10.759,"d":"10.8"}},null,{"$f":"'[2]Abs_rel diff'!$BJ$181","v":{"v":3.8392,"d":"3.8"}},null,{"$f":"'[2]Abs_rel diff'!$BJ$182","v":{"v":5.6552,"d":"5.7"}},null,{"$f":"'[2]Abs_rel diff'!$BJ$183","v":{"v":6.8417,"d":"6.8"}},null,{"$f":"'[2]Abs_rel diff'!$BJ$184","v":{"v":9.5063,"d":"9.5"}},null,{"$f":"'[2]Abs_rel diff'!$BJ$185","v":{"v":3.6064,"d":"3.6"}}]
[{"$nulls":3},{"$f":"'[2]Abs_rel diff'!$CH$180","v":{"v":1.9029,"d":"(1.9 -"}},{"$f":"'[2]Abs_rel diff'!$CI$180","v":{"v":66.0648,"d":"66.1)"}},{"$f":"'[2]Abs_rel diff'!$CH$181","v":{"v":0.5509,"d":"(0.6 -"}},{"$f":"'[2]Abs_rel diff'!$CI$181","v":{"v":7.0617,"d":"7.1)"}},{"$f":"'[2]Abs_rel diff'!$CH$182","v":{"v":1.0746,"d":"(1.1 -"}},{"$f":"'[2]Abs_rel diff'!$CI$182","v":{"v":23.4026,"d":"23.4)"}},{"$f":"'[2]Abs_rel diff'!$CH$183","v":{"v":1.2583,"d":"(1.3 -"}},{"$f":"'[2]Abs_rel diff'!$CI$183","v":{"v":21.507,"d":"21.5)"}},{"$f":"'[2]Abs_rel diff'!$CH$184","v":{"v":2.2388,"d":"(2.2 -"}},{"$f":"'[2]Abs_rel diff'!$CI$184","v":{"v":23.5668,"d":"23.6)"}},{"$f":"'[2]Abs_rel diff'!$CH$185","v":{"v":0.6357,"d":"(0.6 -"}},{"$f":"'[2]Abs_rel diff'!$CI$185","v":{"v":10.0789,"d":"10.1)"}},{"$nulls":3},{"$f":"'[2]Abs_rel diff'!$BK$180","v":{"v":5.719,"d":"(5.7 -"}},{"$f":"'[2]Abs_rel diff'!$BL$180","v":{"v":14.2621,"d":"14.3)"}},{"$f":"'[2]Abs_rel diff'!$BK$181","v":{"v":-2.7228,"d":"(-2.7 -"}},{"$f":"'[2]Abs_rel diff'!$BL$181","v":{"v":9.4884,"d":"9.5)"}},{"$f":"'[2]Abs_rel diff'!$BK$182","v":{"v":1.2933,"d":"(1.3 -"}},{"$f":"'[2]Abs_rel diff'!$BL$182","v":{"v":8.9826,"d":"9.0)"}},{"$f":"'[2]Abs_rel diff'!$BK$183","v":{"v":1.8641,"d":"(1.9 -"}},{"$f":"'[2]Abs_rel diff'!$BL$183","v":{"v":10.646,"d":"10.6)"}},{"$f":"'[2]Abs_rel diff'!$BK$184","v":{"v":5.0078,"d":"(5.0 -"}},{"$f":"'[2]Abs_rel diff'!$BL$184","v":{"v":13.0348,"d":"13.0)"}},{"$f":"'[2]Abs_rel diff'!$BK$185","v":{"v":-0.7558,"d":"(-0.8 -"}},{"$f":"'[2]Abs_rel diff'!$BL$185","v":{"v":7.8254,"d":"7.8)"}}]
[null,"East","Slovenia",{"$nulls":4},{"$f":"'[2]Abs_rel diff'!$CG$285","v":{"v":14.0555,"d":"14.1"}},{"$nulls":3},{"$f":"'[2]Abs_rel diff'!$CG$287","v":{"v":8.0128,"d":"8.0"}},{"$nulls":4},"East","Slovenia",{"$nulls":4},{"$f":"'[2]Abs_rel diff'!$BJ$285","v":{"v":149.9588,"d":"150.0"}},{"$nulls":3},{"$f":"'[2]Abs_rel diff'!$BJ$287","v":{"v":117.811,"d":"117.8"}}]
[{"$nulls":7},{"$f":"'[2]Abs_rel diff'!$CH$285","v":{"v":10.0448,"d":"(10.0 -"}},{"$f":"'[2]Abs_rel diff'!$CI$285","v":{"v":19.6676,"d":"19.7)"}},null,null,{"$f":"'[2]Abs_rel diff'!$CH$287","v":{"v":6.6128,"d":"(6.6 -"}},{"$f":"'[2]Abs_rel diff'!$CI$287","v":{"v":9.7092,"d":"9.7)"}},{"$nulls":9},{"$f":"'[2]Abs_rel diff'!$BK$285","v":{"v":139.9373,"d":"(139.9 -"}},{"$f":"'[2]Abs_rel diff'!$BL$285","v":{"v":159.2246,"d":"159.2)"}},null,null,{"$f":"'[2]Abs_rel diff'!$BK$287","v":{"v":109.8683,"d":"(109.9 -"}},{"$f":"'[2]Abs_rel diff'!$BL$287","v":{"v":124.919,"d":"124.9)"}}]
[null,null,"Hungary",{"$f":"'[2]Abs_rel diff'!$CG$164","v":{"v":7.4155,"d":"7.4"}},{"$nulls":3},{"$f":"'[2]Abs_rel diff'!$CG$165","v":{"v":8.5108,"d":"8.5"}},{"$nulls":3},{"$f":"'[2]Abs_rel diff'!$CG$166","v":{"v":7.2276,"d":"7.2"}},{"$nulls":5},"Hungary",{"$f":"'[2]Abs_rel diff'!$BJ$164","v":{"v":79.0188,"d":"79.0"}},{"$nulls":3},{"$f":"'[2]Abs_rel diff'!$BJ$165","v":{"v":235.175,"d":"235.2"}},{"$nulls":3},{"$f":"'[2]Abs_rel diff'!$BJ$166","v":{"v":299.9119,"d":"299.9"}}]
[{"$nulls":3},{"$f":"'[2]Abs_rel diff'!$CH$164","v":{"v":6.0231,"d":"(6.0 -"}},{"$f":"'[2]Abs_rel diff'!$CI$164","v":{"v":9.1298,"d":"9.1)"}},null,null,{"$f":"'[2]Abs_rel diff'!$CH$165","v":{"v":7.6401,"d":"(7.6 -"}},{"$f":"'[2]Abs_rel diff'!$CI$165","v":{"v":9.4807,"d":"9.5)"}},null,null,{"$f":"'[2]Abs_rel diff'!$CH$166","v":{"v":6.6903,"d":"(6.7 -"}},{"$f":"'[2]Abs_rel diff'!$CI$166","v":{"v":7.8079,"d":"7.8)"}},{"$nulls":5},{"$f":"'[2]Abs_rel diff'!$BK$164","v":{"v":74.1723,"d":"(74.2 -"}},{"$f":"'[2]Abs_rel diff'!$BL$164","v":{"v":84.0037,"d":"84.0)"}},null,null,{"$f":"'[2]Abs_rel diff'!$BK$165","v":{"v":227.4924,"d":"(227.5 -"}},{"$f":"'[2]Abs_rel diff'!$BL$165","v":{"v":242.1649,"d":"242.2)"}},null,null,{"$f":"'[2]Abs_rel diff'!$BK$166","v":{"v":292.5715,"d":"(292.6 -"}},{"$f":"'[2]Abs_rel diff'!$BL$166","v":{"v":307.4364,"d":"307.4)"}}]
[null,null,"Lithuania",null,null,{"$f":"'[2]Abs_rel diff'!$CJ$223","v":{"v":3.29934103294022,"d":"3.3"}},{"$nulls":5},{"$f":"'[2]Abs_rel diff'!$CJ$224","v":{"v":3.2402,"d":"3.2"}},null,{"$f":"'[2]Abs_rel diff'!$CJ$225","v":{"v":4.2187,"d":"4.2"}},{"$nulls":3},"Lithuania",null,null,{"$f":"'[2]Abs_rel diff'!$BM$223","v":{"v":26.848746050260498,"d":"26.8"}},{"$nulls":5},{"$f":"'[2]Abs_rel diff'!$BM$224","v":{"v":90.4113,"d":"90.4"}},null,{"$f":"'[2]Abs_rel diff'!$BM$225","v":{"v":137.6822,"d":"137.7"}}]
[{"$nulls":5},{"$f":"'[2]Abs_rel diff'!$CK$223","v":{"v":2.217099378509022,"d":"(2.2 -"}},{"$f":"'[2]Abs_rel diff'!$CL$223","v":{"v":4.909810783921323,"d":"4.9)"}},{"$nulls":4},{"$f":"'[2]Abs_rel diff'!$CK$224","v":{"v":2.7239,"d":"(2.7 -"}},{"$f":"'[2]Abs_rel diff'!$CL$224","v":{"v":3.8544,"d":"3.9)"}},{"$f":"'[2]Abs_rel diff'!$CK$225","v":{"v":3.5435,"d":"(3.5 -"}},{"$f":"'[2]Abs_rel diff'!$CL$225","v":{"v":5.0224,"d":"5.0)"}},{"$nulls":5},{"$f":"'[2]Abs_rel diff'!$BN$223","v":{"v":21.8108398015559,"d":"(21.8 -"}},{"$f":"'[2]Abs_rel diff'!$BO$223","v":{"v":31.701345053608385,"d":"31.7)"}},{"$nulls":4},{"$f":"'[2]Abs_rel diff'!$BN$224","v":{"v":78.9994,"d":"(79.0 -"}},{"$f":"'[2]Abs_rel diff'!$BO$224","v":{"v":101.2509,"d":"101.3)"}},{"$f":"'[2]Abs_rel diff'!$BN$225","v":{"v":125.0877,"d":"(125.1 -"}},{"$f":"'[2]Abs_rel diff'!$BO$225","v":{"v":148.1818,"d":"148.2)"}}]
[null,null,"Estonia",null,null,{"$f":"'[2]Abs_rel diff'!$CJ$106","v":{"v":4.4495,"d":"4.4"}},{"$nulls":5},{"$f":"'[2]Abs_rel diff'!$CJ$107","v":{"v":4.064,"d":"4.1"}},{"$nulls":5},"Estonia",null,null,{"$f":"'[2]Abs_rel diff'!$BM$106","v":{"v":45.4574,"d":"45.5"}},{"$nulls":5},{"$f":"'[2]Abs_rel diff'!$BM$107","v":{"v":104.11,"d":"104.1"}}]
[{"$nulls":5},{"$f":"'[2]Abs_rel diff'!$CK$106","v":{"v":3.1125,"d":"3.1"}},{"$f":"'[2]Abs_rel diff'!$CL$106","v":{"v":6.3607,"d":"6.4"}},{"$nulls":4},{"$f":"'[2]Abs_rel diff'!$CK$107","v":{"v":3.223,"d":"3.2"}},{"$f":"'[2]Abs_rel diff'!$CL107","v":{"v":5.1244,"d":"5.1"}},{"$nulls":7},{"$f":"'[2]Abs_rel diff'!$BN$106","v":{"v":36.9466,"d":"36.9"}},{"$f":"'[2]Abs_rel diff'!$BO$106","v":{"v":54.2853,"d":"54.3"}},{"$nulls":4},{"$f":"'[2]Abs_rel diff'!$BN$107","v":{"v":89.6371,"d":"89.6"}},{"$f":"'[2]Abs_rel diff'!$BO$107","v":{"v":116.8597,"d":"116.9"}}]
[]
[null,"N/E: not estimable"]
[null,"Trend data for England & Wales only available for 2000s, because only two levels of education were available for 1980s and 1990s"]
[null,"Trend data for Belgium, Czech Republic and Poland not available because data on alcoholic liver cirrhosis were missing in earlier periods"]
[null,"In Lithuania and Estonia, only mortality due to alcoholic liver cirrhosis and alcohol poisoning were included in this trend table, because compoarable data on other alcohol-related causes were not available for earlier time points."]

{"sheet":"Table 4cd","index":8,"n_rows":45,"n_cols":30,"rows_kept":45,"merged":[[3,3,3,14],[3,18,3,29],[4,3,4,14],[4,18,4,29],[5,3,5,4],[5,5,5,6],[5,7,5,8],[5,9,5,10],[5,11,5,12],[5,13,5,14],[5,18,5,19],[5,20,5,21],[5,22,5,23],[5,24,5,25],[5,26,5,27],[5,28,5,29],[6,3,6,4],[6,5,6,6],[6,7,6,8],[6,9,6,10],[6,11,6,12],[6,13,6,14],[6,18,6,19],[6,20,6,21],[6,22,6,23],[6,24,6,25],[6,26,6,27],[6,28,6,29],[8,7,8,8],[8,9,8,10],[8,11,8,12],[8,13,8,14],[8,22,8,23],[8,24,8,25],[8,26,8,27],[8,28,8,29],[10,3,10,4],[10,5,10,6],[10,7,10,8],[10,9,10,10],[10,11,10,12],[10,13,10,14],[10,18,10,19],[10,20,10,21],[10,22,10,23],[10,24,10,25],[10,26,10,27],[10,28,10,29],[12,7,12,8],[12,9,12,10],[12,11,12,12],[12,22,12,23],[12,24,12,25],[12,26,12,27],[14,7,14,8],[14,9,14,10],[14,11,14,12],[14,13,14,14],[14,22,14,23],[14,24,14,25],[14,26,14,27],[14,28,14,29],[16,11,16,12],[16,13,16,14],[16,26,16,27],[16,28,16,29],[18,3,18,4],[18,5,18,6],[18,7,18,8],[18,9,18,10],[18,11,18,12],[18,13,18,14],[18,18,18,19],[18,20,18,21],[18,22,18,23],[18,24,18,25],[18,26,18,27],[18,28,18,29],[20,7,20,8],[20,9,20,10],[20,11,20,12],[20,13,20,14],[20,22,20,23],[20,24,20,25],[20,26,20,27],[20,28,20,29],[22,3,22,4],[22,7,22,8],[22,11,22,12],[22,18,22,19],[22,22,22,23],[22,26,22,27],[24,7,24,8],[24,9,24,10],[24,11,24,12],[24,13,24,14],[24,22,24,23],[24,24,24,25],[24,26,24,27],[24,28,24,29],[26,9,26,10],[26,11,26,12],[26,24,26,25],[26,26,26,27],[28,9,28,10],[28,11,28,12],[28,24,28,25],[28,26,28,27],[30,3,30,4],[30,5,30,6],[30,7,30,8],[30,9,30,10],[30,11,30,12],[30,13,30,14],[30,18,30,19],[30,20,30,21],[30,22,30,23],[30,24,30,25],[30,26,30,27],[30,28,30,29],[32,7,32,8],[32,9,32,10],[32,11,32,12],[32,13,32,14],[32,22,32,23],[32,24,32,25],[32,26,32,27],[32,28,32,29],[34,3,34,4],[34,7,34,8],[34,11,34,12],[34,18,34,19],[34,22,34,23],[34,26,34,27],[36,5,36,6],[36,11,36,12],[36,13,36,14],[36,20,36,21],[36,26,36,27],[36,28,36,29],[38,5,38,6],[38,11,38,12],[38,20,38,21],[38,26,38,27]]}
["Table 3. Trends in educational inequalities in mortality from alcohol-related causes, ca. 1980-2010, by country and sex (Relative Index of Inequality and Slope Index of Inequality, with 95% Confidence Intervals) "]
["c. Women Relative Index of Inequality",{"$nulls":15},"d. Women Slope Index of Inequality"]
[]
[{"$nulls":3},"Relative Index of Inequality",{"$nulls":14},"Slope Index of Inequality"]
[{"$nulls":3},"(95% CI)",{"$nulls":14},"(95% CI)"]
[{"$nulls":3},"1980-4",null,"1985-9",null,"1990-4",null,"1995-9",null,"2000-4",null,"2005-9",{"$nulls":4},"1980-4",null,"1985-9",null,"1990-4",null,"1995-9",null,"2000-4",null,"2005-9"]
[null,"North","Finland",{"v":1.7447,"d":"1.7"},null,{"v":2.5039,"d":"2.5"},null,{"v":3.6239,"d":"3.6"},null,{"v":3.7586,"d":"3.8"},null,{"v":4.7346,"d":"4.7"},null,{"v":5.6346,"d":"5.6"},null,null,"North","Finland",{"v":4.3062,"d":"4.3"},null,{"v":10.3528,"d":"10.4"},null,{"v":14.8466,"d":"14.8"},null,{"v":20.4037,"d":"20.4"},null,{"v":28.9601,"d":"29.0"},null,{"v":36.8653,"d":"36.9"}]
[{"$nulls":3},{"v":1.1114,"d":"(1.1 -"},{"v":2.7389,"d":"2.7)"},{"v":1.7545,"d":"(1.8 -"},{"v":3.5733,"d":"3.6)"},{"v":2.6648,"d":"(2.7 -"},{"v":4.9283,"d":"4.9)"},{"v":2.9269,"d":"(2.9 -"},{"v":4.8266,"d":"4.8)"},{"v":3.8392,"d":"(3.8 -"},{"v":5.839,"d":"5.8)"},{"v":4.6838,"d":"(4.7 -"},{"v":6.7784,"d":"6.8)"},{"$nulls":3},{"v":0.9942,"d":"(1.0 -"},{"v":7.3953,"d":"7.4)"},{"v":6.3384,"d":"(6.3 -"},{"v":13.8599,"d":"13.9)"},{"v":11.756,"d":"(11.8 -"},{"v":17.8012,"d":"17.8)"},{"v":17.1011,"d":"(17.1 -"},{"v":23.581,"d":"23.6)"},{"v":25.9562,"d":"(26.0 -"},{"v":32.0272,"d":"32.0)"},{"v":33.8493,"d":"(33.8 -"},{"v":40.1164,"d":"40.1)"}]
[null,null,"Sweden",{"$nulls":4},{"v":3.7799,"d":"3.8"},null,{"v":3.8662,"d":"3.9"},null,{"v":3.828,"d":"3.8"},null,{"v":4.3325,"d":"4.3"},{"$nulls":3},"Sweden",{"$nulls":4},{"v":7.261,"d":"7.3"},null,{"v":4.7503,"d":"4.8"},null,{"v":4.8919,"d":"4.9"},null,{"v":7.9139,"d":"7.9"}]
[{"$nulls":7},{"v":2.5719,"d":"(2.6 -"},{"v":5.5552,"d":"5.6)"},{"v":2.8316,"d":"(2.8 -"},{"v":5.2789,"d":"5.3)"},{"v":2.9155,"d":"(2.9 -"},{"v":5.026,"d":"5.0)"},{"v":3.2323,"d":"(3.2 -"},{"v":5.8072,"d":"5.8)"},{"$nulls":7},{"v":4.6372,"d":"(4.6 -"},{"v":9.9739,"d":"10.0)"},{"v":1.7604,"d":"(1.8 -"},{"v":7.4993,"d":"7.5)"},{"v":1.7249,"d":"(1.7 -"},{"v":7.6811,"d":"7.7)"},{"v":4.4431,"d":"(4.4 -"},{"v":10.7914,"d":"10.8)"}]
[null,null,"Norway",{"v":1.5169,"d":"1.5"},null,{"v":1.205,"d":"1.2"},null,{"v":2.3851,"d":"2.4"},null,{"v":3.112,"d":"3.1"},null,{"v":4.9211,"d":"4.9"},null,{"v":4.7077,"d":"4.7"},{"$nulls":3},"Norway",{"v":3.6872,"d":"3.7"},null,{"v":2.1195,"d":"2.1"},null,{"v":7.9994,"d":"8.0"},null,{"v":9.5058,"d":"9.5"},null,{"v":11.2038,"d":"11.2"},null,{"v":11.6686,"d":"11.7"}]
[{"$nulls":3},{"v":0.9798,"d":"(1.0 -"},{"v":2.3484,"d":"2.3)"},{"v":0.7965,"d":"(0.8 -"},{"v":1.8229,"d":"1.8)"},{"v":1.5879,"d":"(1.6 -"},{"v":3.5827,"d":"3.6)"},{"v":2.1062,"d":"(2.1 -"},{"v":4.5981,"d":"4.6)"},{"v":3.2899,"d":"(3.3 -"},{"v":7.3611,"d":"7.4)"},{"v":2.8658,"d":"(2.9 -"},{"v":7.7333,"d":"7.7)"},{"$nulls":3},{"v":-0.0307,"d":"(-0.0 -"},{"v":6.8131,"d":"6.8)"},{"v":-1.919,"d":"(-1.9 -"},{"v":6.4517,"d":"6.5)"},{"v":4.2133,"d":"(4.2 -"},{"v":11.0892,"d":"11.1)"},{"v":6.4904,"d":"(6.5 -"},{"v":12.7951,"d":"12.8)"},{"v":8.9988,"d":"(9.0 -"},{"v":12.8587,"d":"12.9)"},{"v":9.4114,"d":"(9.4 -"},{"v":14.3164,"d":"14.3)"}]
[null,null,"Denmark",{"$nulls":4},{"v":2.25,"d":"2.3"},null,{"v":2.8418,"d":"2.8"},null,{"v":3.7942,"d":"3.8"},{"$nulls":5},"Denmark",{"$nulls":4},{"v":15.0044,"d":"15.0"},null,{"v":21.4138,"d":"21.4"},null,{"v":30.2303,"d":"30.2"}]
[{"$nulls":7},{"v":1.7475,"d":"(1.7 -"},{"v":2.897,"d":"2.9)"},{"v":2.2741,"d":"(2.3 -"},{"v":3.5513,"d":"3.6)"},{"v":3.1172,"d":"(3.1 -"},{"v":4.6181,"d":"4.6)"},{"$nulls":9},{"v":10.7872,"d":"(10.8 -"},{"v":19.0712,"d":"19.1)"},{"v":17.2772,"d":"(17.3 -"},{"v":25.488,"d":"25.5)"},{"v":26.4592,"d":"(26.5 -"},{"v":33.7228,"d":"33.7)"}]
[null,"West","Scotland (UK)",{"$nulls":4},{"v":4.844,"d":"4.8"},null,{"v":6.8926,"d":"6.9"},null,{"v":2.6698,"d":"2.7"},null,{"v":1.6487,"d":"1.6"},null,null,"West","Scotland (UK)",{"$nulls":4},{"v":5.5821,"d":"5.6"},null,{"v":10.12,"d":"10.1"},null,{"v":27.6131,"d":"27.6"},null,{"v":7.3746,"d":"7.4"}]
[{"$nulls":7},{"v":0.0757,"d":"(0.1 -"},{"v":310.0364,"d":"310.0)"},{"v":0.1123,"d":"(0.1 -"},{"v":422.9836,"d":"423.0)"},{"v":0.877,"d":"(0.9 -"},{"v":8.1278,"d":"8.1)"},{"v":0.4555,"d":"(0.5 -"},{"v":5.9669,"d":"6.0)"},{"$nulls":7},{"v":-4.1198,"d":"(-4.1 -"},{"v":11.8125,"d":"11.8)"},{"v":-5.6721,"d":"(-5.7 -"},{"v":18.1508,"d":"18.2)"},{"v":-1.2217,"d":"(-1.2 -"},{"v":50.3894,"d":"50.4)"},{"v":-10.2429,"d":"(-10.2 -"},{"v":24.0126,"d":"24.0)"}]
[null,null,"England & Wales (UK)",{"$nulls":8},{"v":1.7912,"d":"1.8"},null,{"v":1.5054,"d":"1.5"},{"$nulls":3},"England & Wales (UK)",{"$nulls":8},{"v":4.8792,"d":"4.9"},null,{"v":4.2151,"d":"4.2"}]
[{"$nulls":11},{"v":0.6076,"d":"(0.6 -"},{"v":5.2811,"d":"5.3)"},{"v":0.5118,"d":"(0.5 -"},{"v":4.4273,"d":"4.4)"},{"$nulls":11},{"v":-4.0167,"d":"(-4.0 -"},{"v":12.8804,"d":"12.9)"},{"v":-5.4342,"d":"(-5.4 -"},{"v":14.2556,"d":"14.3)"}]
[null,null,"France",{"v":6.613365,"d":"6.6"},null,{"v":7.1071349999999995,"d":"7.1"},null,{"v":2.19402,"d":"2.2"},null,{"v":6.11478,"d":"6.1"},null,{"v":4.50092,"d":"4.5"},null,{"v":10.2773,"d":"10.3"},{"$nulls":3},"France",{"v":28.74749,"d":"28.7"},null,{"v":30.656150000000004,"d":"30.7"},null,{"v":10.58224,"d":"10.6"},null,{"v":22.0923,"d":"22.1"},null,{"v":19.05541,"d":"19.1"},null,{"v":17.95347,"d":"18.0"}]
[{"$nulls":3},{"v":1.2475825,"d":"(1.2 -"},{"v":44.7677,"d":"44.8)"},{"v":1.6301100000000002,"d":"(1.6 -"},{"v":31.593400000000003,"d":"31.6)"},{"v":0.739841,"d":"(0.7 -"},{"v":6.50644,"d":"6.5)"},{"v":1.88367,"d":"(1.9 -"},{"v":19.8498,"d":"19.8)"},{"v":1.77656,"d":"(1.8 -"},{"v":11.4031,"d":"11.4)"},{"v":2.89128,"d":"(2.9 -"},{"v":36.5315,"d":"36.5)"},{"$nulls":3},{"v":5.834465,"d":"(5.8 -"},{"v":42.21091,"d":"42.2)"},{"v":12.374500000000001,"d":"(12.4 -"},{"v":42.64465,"d":"42.6)"},{"v":-2.43032,"d":"(-2.4 -"},{"v":22.4719,"d":"22.5)"},{"v":10.8613,"d":"(10.9 -"},{"v":30.7577,"d":"30.8)"},{"v":7.87231,"d":"(7.9 -"},{"v":27.18047,"d":"27.2)"},{"v":10.681,"d":"(10.7 -"},{"v":24.0319,"d":"24.0)"}]
[null,null,"Switzerland",{"$nulls":4},{"v":2.0928,"d":"2.1"},null,{"v":1.5532,"d":"1.6"},null,{"v":1.65,"d":"1.7"},null,{"v":2.267,"d":"2.3"},{"$nulls":3},"Switzerland",{"$nulls":4},{"v":7.261,"d":"7.3"},null,{"v":4.7503,"d":"4.8"},null,{"v":4.8919,"d":"4.9"},null,{"v":7.9139,"d":"7.9"}]
[{"$nulls":7},{"v":1.5616,"d":"(1.6 -"},{"v":2.8047,"d":"2.8)"},{"v":1.1805,"d":"(1.2 -"},{"v":2.0436,"d":"2.0)"},{"v":1.218,"d":"(1.2 -"},{"v":2.2352,"d":"2.2)"},{"v":1.5691,"d":"(1.6 -"},{"v":3.2751,"d":"3.3)"},{"$nulls":7},{"v":4.6372,"d":"(4.6 -"},{"v":9.9739,"d":"10.0)"},{"v":1.7604,"d":"(1.8 -"},{"v":7.4993,"d":"7.5)"},{"v":1.7249,"d":"(1.7 -"},{"v":7.6811,"d":"7.7)"},{"v":4.4431,"d":"(4.4 -"},{"v":10.7914,"d":"10.8)"}]
[null,null,"Austria",{"v":5.3043,"d":"5.3"},{"$nulls":3},{"v":1.3486,"d":"1.3"},{"$nulls":3},{"v":1.4264,"d":"1.4"},{"$nulls":5},"Austria",{"v":3.7067,"d":"3.7"},{"$nulls":3},{"v":0.9743,"d":"1.0"},{"$nulls":3},{"v":1.8236,"d":"1.8"}]
[{"$nulls":3},{"v":1.2649,"d":"(1.3 -"},{"v":22.2427,"d":"22.2)"},null,null,{"v":0.4857,"d":"(0.5 -"},{"v":3.7445,"d":"3.7)"},null,null,{"v":0.6604,"d":"(0.7 -"},{"v":3.081,"d":"3.1)"},{"$nulls":5},{"v":1.2294,"d":"(1.2 -"},{"v":5.5919,"d":"5.6)"},null,null,{"v":-1.8129,"d":"(-1.8 -"},{"v":3.955,"d":"4.0)"},null,null,{"v":-1.7924,"d":"(-1.8 -"},{"v":5.3195,"d":"5.3)"}]
[null,"South","Spain (Barcelona)",{"$nulls":4},{"v":4.8348,"d":"4.8"},null,{"v":21.8066,"d":"21.8"},null,{"v":7.9077,"d":"7.9"},null,{"v":5.5688,"d":"5.6"},null,null,"South","Spain (Barcelona)",{"$nulls":4},{"v":2.6758,"d":"2.7"},null,{"v":4.4796,"d":"4.5"},null,{"v":3.4028,"d":"3.4"},null,{"v":3.4017,"d":"3.4"}]
[{"$nulls":7},{"v":0.8383,"d":"(0.8 -"},{"v":27.8856,"d":"27.9)"},{"v":3.0192,"d":"(3.0 -"},{"v":157.4989,"d":"157.5)"},{"v":1.6991,"d":"(1.7 -"},{"v":36.802,"d":"36.8)"},{"v":1.2822,"d":"(1.3 -"},{"v":24.1862,"d":"24.2)"},{"$nulls":7},{"v":0.2443,"d":"(0.2 -"},{"v":4.2875,"d":"4.3)"},{"v":2.7915,"d":"(2.8 -"},{"v":5.9546,"d":"6.0)"},{"v":1.4009,"d":"(1.4 -"},{"v":4.8853,"d":"4.9)"},{"v":0.9648,"d":"(1.0 -"},{"v":5.1491,"d":"5.1)"}]
[null,null,"Spain (Basque country)",{"$nulls":6},{"v":3.0509,"d":"3.1"},null,{"v":3.7049,"d":"3.7"},{"$nulls":5},"Spain (Basque country)",{"$nulls":6},{"v":2.1896,"d":"2.2"},null,{"v":2.058,"d":"2.1"}]
[{"$nulls":9},{"v":0.5828,"d":"(0.6 -"},{"v":15.9703,"d":"16.0)"},{"v":0.7462,"d":"(0.7 -"},{"v":18.3939,"d":"18.4)"},{"$nulls":11},{"v":-1.149,"d":"(-1.1 -"},{"v":4.375,"d":"4.4)"},{"v":-0.3465,"d":"(-0.3 -"},{"v":3.6143,"d":"3.6)"}]
[null,null,"Spain (Madrid)",{"$nulls":6},{"v":1.0862,"d":"1.1"},null,{"v":5.3973,"d":"5.4"},{"$nulls":5},"Spain (Madrid)",{"$nulls":6},{"v":0.1165,"d":"0.1"},null,{"v":1.5229,"d":"1.5"}]
[{"$nulls":9},{"v":0.1511,"d":"(0.2 -"},{"v":7.8084,"d":"7.8)"},{"v":0.5462,"d":"(0.5 -"},{"v":53.3322,"d":"53.3)"},{"$nulls":11},{"v":-1.7258,"d":"(-1.7 -"},{"v":2.3142,"d":"2.3)"},{"v":0.1029,"d":"(0.1 -"},{"v":2.6623,"d":"2.7)"}]
[null,null,"Italy (Turin)",{"v":4.4159,"d":"4.4"},null,{"v":0.4552,"d":"0.5"},null,{"v":2.9818,"d":"3.0"},null,{"v":60.969,"d":"61.0"},null,{"v":3.034,"d":"3.0"},null,{"v":2.9629,"d":"3.0"},{"$nulls":3},"Italy (Turin)",{"v":1.3989,"d":"1.4"},null,{"v":-1.2117,"d":"-1.2"},null,{"v":1.547,"d":"1.5"},null,{"v":3.4441,"d":"3.4"},null,{"v":2.5465,"d":"2.5"},null,{"v":1.0259,"d":"1.0"}]
[{"$nulls":3},{"v":0.0714,"d":"(0.1 -"},{"v":273.2546,"d":"273.3)"},{"v":0.0488,"d":"(0.0 -"},{"v":4.248,"d":"4.2)"},{"v":0.2298,"d":"(0.2 -"},{"v":38.6972,"d":"38.7)"},{"v":0.9398,"d":"(0.9 -"},{"v":3955.304,"d":"3955.3)"},{"v":0.5467,"d":"(0.5 -"},{"v":16.8364,"d":"16.8)"},{"v":0.1766,"d":"(0.2 -"},{"v":49.711,"d":"49.7)"},{"$nulls":3},{"v":-1.1651,"d":"(-1.2 -"},{"v":3.1499,"d":"3.1)"},{"v":-3.2125,"d":"(-3.2 -"},{"v":3.0307,"d":"3.0)"},{"v":-1.543,"d":"(-1.5 -"},{"v":3.7644,"d":"3.8)"},{"v":1.6201,"d":"(1.6 -"},{"v":5.0191,"d":"5.0)"},{"v":-0.0948,"d":"(-0.1 -"},{"v":5.0263,"d":"5.0)"},{"v":-1.7318,"d":"(-1.7 -"},{"v":2.8136,"d":"2.8)"}]
[null,"East","Slovenia",{"$nulls":4},{"v":9.9915,"d":"10.0"},{"$nulls":3},{"v":8.5017,"d":"8.5"},{"$nulls":4},"East","Slovenia",{"$nulls":4},{"v":39.6128,"d":"39.6"},{"$nulls":3},{"v":32.222,"d":"32.2"}]
[{"$nulls":7},{"v":5.4413,"d":"(5.4 -"},{"v":18.3466,"d":"18.3)"},null,null,{"v":5.6949,"d":"(5.7 -"},{"v":12.6917,"d":"12.7)"},{"$nulls":9},{"v":33.4644,"d":"(33.5 -"},{"v":44.9972,"d":"45.0)"},null,null,{"v":27.988,"d":"(28.0 -"},{"v":36.2099,"d":"36.2)"}]
[null,null,"Hungary",{"v":5.123,"d":"5.1"},{"$nulls":3},{"v":4.7477,"d":"4.7"},{"$nulls":3},{"v":4.4341,"d":"4.4"},{"$nulls":5},"Hungary",{"v":17.417,"d":"17.4"},{"$nulls":3},{"v":55.0307,"d":"55.0"},{"$nulls":3},{"v":66.982,"d":"67.0"}]
[{"$nulls":3},{"v":3.2562,"d":"(3.3 -"},{"v":8.0601,"d":"8.1)"},null,null,{"v":3.7165,"d":"(3.7 -"},{"v":5.2901,"d":"5.3)"},null,null,{"v":4.1793,"d":"(4.2 -"},{"v":5.3933,"d":"5.4)"},{"$nulls":5},{"v":13.9279,"d":"(13.9 -"},{"v":20.3112,"d":"20.3)"},null,null,{"v":50.2146,"d":"(50.2 -"},{"v":59.7836,"d":"59.8)"},null,null,{"v":62.8574,"d":"(62.9 -"},{"v":70.8019,"d":"70.8)"}]
[null,null,"Lithuania",null,null,{"v":8.005714462087486,"d":"8.0"},{"$nulls":5},{"v":6.8845,"d":"6.9"},null,{"v":6.5634,"d":"6.6"},{"$nulls":3},"Lithuania",null,null,{"v":8.972854537041675,"d":"9.0"},{"$nulls":5},{"v":40.4318,"d":"40.4"},null,{"v":53.3131,"d":"53.3"}]
[{"$nulls":5},{"v":3.504172809699807,"d":"(3.5 -"},{"v":18.290137230227913,"d":"18.3)"},{"$nulls":4},{"v":5.1176,"d":"(5.1 -"},{"v":9.2615,"d":"9.3)"},{"v":4.9304,"d":"(4.9 -"},{"v":8.7374,"d":"8.7)"},{"$nulls":5},{"v":6.5781121121121116,"d":"(6.6 -"},{"v":10.880575361989235,"d":"10.9)"},{"$nulls":4},{"v":35.662,"d":"(35.7 -"},{"v":44.6564,"d":"44.7)"},{"v":47.3138,"d":"(47.3 -"},{"v":58.4387,"d":"58.4)"}]
[null,null,"Estonia",null,null,{"v":8.1381,"d":"8.1"},{"$nulls":5},{"v":8.8235,"d":"8.8"},{"$nulls":5},"Estonia",null,null,{"v":12.6372,"d":"12.6"},{"$nulls":5},{"v":42.3599,"d":"42.4"}]
[{"$nulls":5},{"v":3.95,"d":"4.0"},{"v":16.7665,"d":"16.8"},{"$nulls":4},{"v":5.9091,"d":"5.9"},{"v":13.1752,"d":"13.2"},{"$nulls":7},{"v":9.5142,"d":"9.5"},{"v":15.5694,"d":"15.6"},{"$nulls":4},{"v":36.4366,"d":"36.4"},{"v":47.6863,"d":"47.7"}]
[]
[null,"N/E: not estimable"]
[null,"Trend data for England & Wales only available for 2000s, because only two levels of education were available for 1980s and 1990s"]
[null,"Trend data for Belgium, Czech Republic and Poland not available because data on alcoholic liver cirrhosis were missing in earlier periods"]
[null,"In Lithuania and Estonia, only mortality due to alcoholic liver cirrhosis and alcohol poisoning were included in this trend table, because compoarable data on other alcohol-related causes were not available for earlier time points."]

{"sheet":"Figure 2a","index":9,"n_rows":144,"n_cols":15,"rows_kept":144,"merged":[[4,3,4,8],[4,9,4,14],[5,3,5,5],[5,6,5,8],[5,9,5,11],[5,12,5,14]]}
["Figure 2. Trends in mortality from alcohol-related causes among low- and high-educated men, ca. 1980-2010, by country"]
["the number of deaths is smaller than 5"]
[]
[null,"EDUCATION"]
[{"$nulls":3},"Men",{"$nulls":5},"Women"]
[{"$nulls":3},"low education",null,null,"high education",null,null,"low education",null,null,"high education"]
[null,"Country","Period","ASMR","95%-CI",null,"ASMR","95%-CI",null,"ASMR","95%-CI",null,"ASMR","95%-CI"]
["NORTH","Finland","1980-1984",{"$f":"[2]ALCOHOL!D120","v":{"v":57.56,"d":"57.6"}},{"$f":"[2]ALCOHOL!E120","v":{"v":55.01,"d":"(55.0 -"}},{"$f":"[2]ALCOHOL!F120","v":{"v":60.17,"d":"60.2)"}},{"$f":"[2]ALCOHOL!J120","v":{"v":30.79,"d":"30.8"}},{"$f":"[2]ALCOHOL!K120","v":{"v":26.54,"d":"(26.5 -"}},{"$f":"[2]ALCOHOL!L120","v":{"v":35.06,"d":"35.1)"}},{"$f":"[2]ALCOHOL!D128","v":{"v":8.39,"d":"8.4"}},{"$f":"[2]ALCOHOL!E128","v":{"v":7.43,"d":"(7.4 -"}},{"$f":"[2]ALCOHOL!F128","v":{"v":9.3,"d":"9.3)"}},{"$f":"[2]ALCOHOL!J128","v":{"v":4.79,"d":"4.8"}},{"$f":"[2]ALCOHOL!K128","v":{"v":3.17,"d":"(3.2 -"}},{"$f":"[2]ALCOHOL!L128","v":{"v":6.6,"d":"6.6)"}}]
[null,null,"1985-1989",{"$f":"[2]ALCOHOL!D121","v":{"v":76.21,"d":"76.2"}},{"$f":"[2]ALCOHOL!E121","v":{"v":73.09,"d":"(73.1 -"}},{"$f":"[2]ALCOHOL!F121","v":{"v":79.25,"d":"79.3)"}},{"$f":"[2]ALCOHOL!J121","v":{"v":42.74,"d":"42.7"}},{"$f":"[2]ALCOHOL!K121","v":{"v":38,"d":"(38.0 -"}},{"$f":"[2]ALCOHOL!L121","v":{"v":47.43,"d":"47.4)"}},{"$f":"[2]ALCOHOL!D129","v":14.4},{"$f":"[2]ALCOHOL!E129","v":{"v":13.03,"d":"(13.0 -"}},{"$f":"[2]ALCOHOL!F129","v":{"v":15.9,"d":"15.9)"}},{"$f":"[2]ALCOHOL!J129","v":{"v":9.34,"d":"9.3"}},{"$f":"[2]ALCOHOL!K129","v":{"v":7.23,"d":"(7.2 -"}},{"$f":"[2]ALCOHOL!L129","v":{"v":11.74,"d":"11.7)"}}]
[null,null,"1990-1994",{"$f":"[2]ALCOHOL!D122","v":{"v":81.02,"d":"81.0"}},{"$f":"[2]ALCOHOL!E122","v":{"v":77.74,"d":"(77.7 -"}},{"$f":"[2]ALCOHOL!F122","v":{"v":84.55,"d":"84.6)"}},{"$f":"[2]ALCOHOL!J122","v":{"v":35.65,"d":"35.7"}},{"$f":"[2]ALCOHOL!K122","v":{"v":32.1,"d":"(32.1 -"}},{"$f":"[2]ALCOHOL!L122","v":{"v":39.28,"d":"39.3)"}},{"$f":"[2]ALCOHOL!D130","v":{"v":17.28,"d":"17.3"}},{"$f":"[2]ALCOHOL!E130","v":{"v":15.84,"d":"(15.8 -"}},{"$f":"[2]ALCOHOL!F130","v":{"v":18.74,"d":"18.7)"}},{"$f":"[2]ALCOHOL!J130","v":{"v":8.24,"d":"8.2"}},{"$f":"[2]ALCOHOL!K130","v":{"v":6.31,"d":"(6.3 -"}},{"$f":"[2]ALCOHOL!L130","v":{"v":10.19,"d":"10.2)"}}]
[null,null,"1995-1999",{"$f":"[2]ALCOHOL!D123","v":{"v":101.69,"d":"101.7"}},{"$f":"[2]ALCOHOL!E123","v":{"v":97.82,"d":"(97.8 -"}},{"$f":"[2]ALCOHOL!F123","v":{"v":105.86,"d":"105.9)"}},{"$f":"[2]ALCOHOL!J123","v":{"v":37.38,"d":"37.4"}},{"$f":"[2]ALCOHOL!K123","v":{"v":34.28,"d":"(34.3 -"}},{"$f":"[2]ALCOHOL!L123","v":{"v":40.61,"d":"40.6)"}},{"$f":"[2]ALCOHOL!D131","v":{"v":25.31,"d":"25.3"}},{"$f":"[2]ALCOHOL!E131","v":{"v":23.1,"d":"(23.1 -"}},{"$f":"[2]ALCOHOL!F131","v":{"v":27.66,"d":"27.7)"}},{"$f":"[2]ALCOHOL!J131","v":{"v":11.35,"d":"11.4"}},{"$f":"[2]ALCOHOL!K131","v":{"v":9.33,"d":"(9.3 -"}},{"$f":"[2]ALCOHOL!L131","v":{"v":13.47,"d":"13.5)"}}]
[null,null,"2000-2004",{"$f":"[2]ALCOHOL!D124","v":{"v":113.26,"d":"113.3"}},{"$f":"[2]ALCOHOL!E124","v":{"v":109.11,"d":"(109.1 -"}},{"$f":"[2]ALCOHOL!F124","v":{"v":117.9,"d":"117.9)"}},{"$f":"[2]ALCOHOL!J124","v":{"v":44.76,"d":"44.8"}},{"$f":"[2]ALCOHOL!K124","v":{"v":41.8,"d":"(41.8 -"}},{"$f":"[2]ALCOHOL!L124","v":{"v":48.13,"d":"48.1)"}},{"$f":"[2]ALCOHOL!D132","v":36.1},{"$f":"[2]ALCOHOL!E132","v":{"v":33.32,"d":"(33.3 -"}},{"$f":"[2]ALCOHOL!F132","v":{"v":39.13,"d":"39.1)"}},{"$f":"[2]ALCOHOL!J132","v":{"v":11.84,"d":"11.8"}},{"$f":"[2]ALCOHOL!K132","v":{"v":10.21,"d":"(10.2 -"}},{"$f":"[2]ALCOHOL!L132","v":{"v":13.45,"d":"13.5)"}}]
[null,null,"2005-2009",{"$f":"[2]ALCOHOL!D125","v":{"v":144.61,"d":"144.6"}},{"$f":"[2]ALCOHOL!E125","v":{"v":139.32,"d":"(139.3 -"}},{"$f":"[2]ALCOHOL!F125","v":{"v":150.5,"d":"150.5)"}},{"$f":"[2]ALCOHOL!J125","v":{"v":48.61,"d":"48.6"}},{"$f":"[2]ALCOHOL!K125","v":{"v":45.43,"d":"(45.4 -"}},{"$f":"[2]ALCOHOL!L125","v":{"v":51.54,"d":"51.5)"}},{"$f":"[2]ALCOHOL!D133","v":{"v":49.97,"d":"50.0"}},{"$f":"[2]ALCOHOL!E133","v":{"v":46.02,"d":"(46.0 -"}},{"$f":"[2]ALCOHOL!F133","v":{"v":54.09,"d":"54.1)"}},{"$f":"[2]ALCOHOL!J133","v":{"v":13.79,"d":"13.8"}},{"$f":"[2]ALCOHOL!K133","v":{"v":12.16,"d":"(12.2 -"}},{"$f":"[2]ALCOHOL!L133","v":{"v":15.35,"d":"15.4)"}}]
[null,"Sweden","1980-1984"]
[null,null,"1985-1989"]
[null,null,"1990-1994",{"$f":"[2]ALCOHOL!D338","v":{"v":35.13,"d":"35.1"}},{"$f":"[2]ALCOHOL!E338","v":{"v":33.05,"d":"(33.1 -"}},{"$f":"[2]ALCOHOL!F338","v":{"v":37.27,"d":"37.3)"}},{"$f":"[2]ALCOHOL!J338","v":{"v":8.68,"d":"8.7"}},{"$f":"[2]ALCOHOL!K338","v":{"v":7.06,"d":"(7.1 -"}},{"$f":"[2]ALCOHOL!L338","v":{"v":10.38,"d":"10.4)"}},{"$f":"[2]ALCOHOL!D342","v":{"v":7.99,"d":"8.0"}},{"$f":"[2]ALCOHOL!E342","v":{"v":6.94,"d":"(6.9 -"}},{"$f":"[2]ALCOHOL!F342","v":{"v":9,"d":"9.0)"}},{"$f":"[2]ALCOHOL!J342","v":{"v":2.75,"d":"2.8"}},{"$f":"[2]ALCOHOL!K342","v":{"v":1.79,"d":"(1.8 -"}},{"$f":"[2]ALCOHOL!L342","v":{"v":3.71,"d":"3.7)"}}]
[null,null,"1995-1999",{"$f":"[2]ALCOHOL!D339","v":{"v":34.86,"d":"34.9"}},{"$f":"[2]ALCOHOL!E339","v":{"v":32.93,"d":"(32.9 -"}},{"$f":"[2]ALCOHOL!F339","v":{"v":36.75,"d":"36.8)"}},{"$f":"[2]ALCOHOL!J339","v":{"v":9.91,"d":"9.9"}},{"$f":"[2]ALCOHOL!K339","v":{"v":8.53,"d":"(8.5 -"}},{"$f":"[2]ALCOHOL!L339","v":{"v":11.36,"d":"11.4)"}},{"$f":"[2]ALCOHOL!D343","v":{"v":9.45,"d":"9.5"}},{"$f":"[2]ALCOHOL!E343","v":{"v":8.34,"d":"(8.3 -"}},{"$f":"[2]ALCOHOL!F343","v":{"v":10.51,"d":"10.5)"}},{"$f":"[2]ALCOHOL!J343","v":{"v":2.99,"d":"3.0"}},{"$f":"[2]ALCOHOL!K343","v":{"v":2.26,"d":"(2.3 -"}},{"$f":"[2]ALCOHOL!L343","v":{"v":3.77,"d":"3.8)"}}]
[null,null,"2000-2004",{"$f":"[2]ALCOHOL!D340","v":{"v":37.52,"d":"37.5"}},{"$f":"[2]ALCOHOL!E340","v":{"v":35.33,"d":"(35.3 -"}},{"$f":"[2]ALCOHOL!F340","v":{"v":39.66,"d":"39.7)"}},{"$f":"[2]ALCOHOL!J340","v":{"v":9.81,"d":"9.8"}},{"$f":"[2]ALCOHOL!K340","v":{"v":8.58,"d":"(8.6 -"}},{"$f":"[2]ALCOHOL!L340","v":{"v":11.2,"d":"11.2)"}},{"$f":"[2]ALCOHOL!D344","v":{"v":11.48,"d":"11.5"}},{"$f":"[2]ALCOHOL!E344","v":{"v":10.35,"d":"(10.4 -"}},{"$f":"[2]ALCOHOL!F344","v":{"v":12.76,"d":"12.8)"}},{"$f":"[2]ALCOHOL!J344","v":{"v":3.92,"d":"3.9"}},{"$f":"[2]ALCOHOL!K344","v":{"v":3.13,"d":"(3.1 -"}},{"$f":"[2]ALCOHOL!L344","v":{"v":4.77,"d":"4.8)"}}]
[null,null,"2005-2009",{"$f":"[2]ALCOHOL!D341","v":{"v":35.36,"d":"35.4"}},{"$f":"[2]ALCOHOL!E341","v":{"v":32.86,"d":"(32.9 -"}},{"$f":"[2]ALCOHOL!F341","v":{"v":37.79,"d":"37.8)"}},{"$f":"[2]ALCOHOL!J341","v":{"v":10.06,"d":"10.1"}},{"$f":"[2]ALCOHOL!K341","v":{"v":8.71,"d":"(8.7 -"}},{"$f":"[2]ALCOHOL!L341","v":{"v":11.29,"d":"11.3)"}},{"$f":"[2]ALCOHOL!D345","v":{"v":12.11,"d":"12.1"}},{"$f":"[2]ALCOHOL!E345","v":{"v":10.67,"d":"(10.7 -"}},{"$f":"[2]ALCOHOL!F345","v":{"v":13.79,"d":"13.8)"}},{"$f":"[2]ALCOHOL!J345","v":{"v":3.67,"d":"3.7"}},{"$f":"[2]ALCOHOL!K345","v":{"v":2.95,"d":"(3.0 -"}},{"$f":"[2]ALCOHOL!L345","v":{"v":4.46,"d":"4.5)"}}]
[null,"Norway","1980-1984",{"$f":"[2]ALCOHOL!D239","v":{"v":45.29,"d":"45.3"}},{"$f":"[2]ALCOHOL!E239","v":{"v":41.93,"d":"(41.9 -"}},{"$f":"[2]ALCOHOL!F239","v":{"v":49.45,"d":"49.5)"}},{"$f":"[2]ALCOHOL!J239","v":{"v":16.51,"d":"16.5"}},{"$f":"[2]ALCOHOL!K239","v":{"v":12.41,"d":"(12.4 -"}},{"$f":"[2]ALCOHOL!L239","v":{"v":20.84,"d":"20.8)"}},{"$f":"[2]ALCOHOL!D247","v":{"v":10.42,"d":"10.4"}},{"$f":"[2]ALCOHOL!E247","v":{"v":8.96,"d":"(9.0 -"}},{"$f":"[2]ALCOHOL!F247","v":{"v":11.96,"d":"12.0)"}},{"$f":"[2]ALCOHOL!J247","v":{"v":4.63,"d":"4.6"}},{"$f":"[2]ALCOHOL!K247","v":{"v":2.79,"d":"(2.8 -"}},{"$f":"[2]ALCOHOL!L247","v":{"v":7.31,"d":"7.3)"}}]
[null,null,"1985-1989",{"$f":"[2]ALCOHOL!D240","v":{"v":56.27,"d":"56.3"}},{"$f":"[2]ALCOHOL!E240","v":{"v":50.94,"d":"(50.9 -"}},{"$f":"[2]ALCOHOL!F240","v":{"v":60.83,"d":"60.8)"}},{"$f":"[2]ALCOHOL!J240","v":{"v":17.36,"d":"17.4"}},{"$f":"[2]ALCOHOL!K240","v":{"v":13.34,"d":"(13.3 -"}},{"$f":"[2]ALCOHOL!L240","v":{"v":21.82,"d":"21.8)"}},{"$f":"[2]ALCOHOL!D248","v":{"v":11.29,"d":"11.3"}},{"$f":"[2]ALCOHOL!E248","v":{"v":9.22,"d":"(9.2 -"}},{"$f":"[2]ALCOHOL!F248","v":{"v":13.32,"d":"13.3)"}},{"$f":"[2]ALCOHOL!J248","v":{"v":5.77,"d":"5.8"}},{"$f":"[2]ALCOHOL!K248","v":{"v":3.22,"d":"(3.2 -"}},{"$f":"[2]ALCOHOL!L248","v":{"v":8.39,"d":"8.4)"}}]
[null,null,"1990-1994",{"$f":"[2]ALCOHOL!D241","v":{"v":55.24,"d":"55.2"}},{"$f":"[2]ALCOHOL!E241","v":{"v":50.9,"d":"(50.9 -"}},{"$f":"[2]ALCOHOL!F241","v":{"v":59.89,"d":"59.9)"}},{"$f":"[2]ALCOHOL!J241","v":{"v":15.75,"d":"15.8"}},{"$f":"[2]ALCOHOL!K241","v":{"v":12.82,"d":"(12.8 -"}},{"$f":"[2]ALCOHOL!L241","v":{"v":18.53,"d":"18.5)"}},{"$f":"[2]ALCOHOL!D249","v":{"v":13.45,"d":"13.5"}},{"$f":"[2]ALCOHOL!E249","v":{"v":11.48,"d":"(11.5 -"}},{"$f":"[2]ALCOHOL!F249","v":{"v":15.69,"d":"15.7)"}},{"$f":"[2]ALCOHOL!J249","v":{"v":5.34,"d":"5.3"}},{"$f":"[2]ALCOHOL!K249","v":{"v":3.36,"d":"(3.4 -"}},{"$f":"[2]ALCOHOL!L249","v":{"v":7.09,"d":"7.1)"}}]
[null,null,"1995-1999",{"$f":"[2]ALCOHOL!D242","v":{"v":59.97,"d":"60.0"}},{"$f":"[2]ALCOHOL!E242","v":{"v":55.96,"d":"(56.0 -"}},{"$f":"[2]ALCOHOL!F242","v":{"v":66.09,"d":"66.1)"}},{"$f":"[2]ALCOHOL!J242","v":{"v":15.66,"d":"15.7"}},{"$f":"[2]ALCOHOL!K242","v":{"v":12.99,"d":"(13.0 -"}},{"$f":"[2]ALCOHOL!L242","v":{"v":17.82,"d":"17.8)"}},{"$f":"[2]ALCOHOL!D250","v":{"v":13.08,"d":"13.1"}},{"$f":"[2]ALCOHOL!E250","v":{"v":10.69,"d":"(10.7 -"}},{"$f":"[2]ALCOHOL!F250","v":{"v":15.88,"d":"15.9)"}},{"$f":"[2]ALCOHOL!J250","v":{"v":3.53,"d":"3.5"}},{"$f":"[2]ALCOHOL!K250","v":{"v":2.13,"d":"(2.1 -"}},{"$f":"[2]ALCOHOL!L250","v":{"v":5.03,"d":"5.0)"}}]
[null,null,"2000-2004",{"$f":"[2]ALCOHOL!D243","v":{"v":50.03,"d":"50.0"}},{"$f":"[2]ALCOHOL!E243","v":{"v":45.98,"d":"(46.0 -"}},{"$f":"[2]ALCOHOL!F243","v":{"v":53.72,"d":"53.7)"}},{"$f":"[2]ALCOHOL!J243","v":{"v":14.24,"d":"14.2"}},{"$f":"[2]ALCOHOL!K243","v":{"v":11.86,"d":"(11.9 -"}},{"$f":"[2]ALCOHOL!L243","v":{"v":16.84,"d":"16.8)"}},{"$f":"[2]ALCOHOL!D251","v":{"v":14.41,"d":"14.4"}},{"$f":"[2]ALCOHOL!E251","v":{"v":12.35,"d":"(12.4 -"}},{"$f":"[2]ALCOHOL!F251","v":{"v":16.18,"d":"16.2)"}},{"$f":"[2]ALCOHOL!J251","v":{"v":3.86,"d":"3.9"}},{"$f":"[2]ALCOHOL!K251","v":{"v":2.37,"d":"(2.4 -"}},{"$f":"[2]ALCOHOL!L251","v":{"v":5.45,"d":"5.5)"}}]
[null,null,"2005-2009",{"$f":"[2]ALCOHOL!D244","v":{"v":47.16,"d":"47.2"}},{"$f":"[2]ALCOHOL!E244","v":{"v":41.67,"d":"(41.7 -"}},{"$f":"[2]ALCOHOL!F244","v":{"v":53.99,"d":"54.0)"}},{"$f":"[2]ALCOHOL!J244","v":{"v":11.87,"d":"11.9"}},{"$f":"[2]ALCOHOL!K244","v":{"v":9.38,"d":"(9.4 -"}},{"$f":"[2]ALCOHOL!L244","v":{"v":15.22,"d":"15.2)"}},{"$f":"[2]ALCOHOL!D252","v":{"v":15.28,"d":"15.3"}},{"$f":"[2]ALCOHOL!E252","v":{"v":12.51,"d":"(12.5 -"}},{"$f":"[2]ALCOHOL!F252","v":{"v":17.95,"d":"18.0)"}},{"$f":"[2]ALCOHOL!J252","v":{"v":4.63,"d":"4.6"}},{"$f":"[2]ALCOHOL!K252","v":{"v":3.34,"d":"(3.3 -"}},{"$f":"[2]ALCOHOL!L252","v":{"v":6.32,"d":"6.3)"}}]
[null,"Denmark","1980-1984"]
[null,null,"1985-1989"]
[null,null,"1990-1994",{"$f":"[2]ALCOHOL!D48","v":{"v":65.38,"d":"65.4"}},{"$f":"[2]ALCOHOL!E48","v":{"v":62.28,"d":"(62.3 -"}},{"$f":"[2]ALCOHOL!F48","v":{"v":68.78,"d":"68.8)"}},{"$f":"[2]ALCOHOL!J48","v":{"v":25.97,"d":"26.0"}},{"$f":"[2]ALCOHOL!K48","v":{"v":22.62,"d":"(22.6 -"}},{"$f":"[2]ALCOHOL!L48","v":{"v":29.41,"d":"29.4)"}},{"$f":"[2]ALCOHOL!D51","v":{"v":22.51,"d":"22.5"}},{"$f":"[2]ALCOHOL!E51","v":{"v":20.76,"d":"(20.8 -"}},{"$f":"[2]ALCOHOL!F51","v":{"v":24.13,"d":"24.1)"}},{"$f":"[2]ALCOHOL!J51","v":{"v":16.58,"d":"16.6"}},{"$f":"[2]ALCOHOL!K51","v":{"v":9.61,"d":"(9.6 -"}},{"$f":"[2]ALCOHOL!L51","v":{"v":26.18,"d":"26.2)"}}]
[null,null,"1995-1999",{"$f":"[2]ALCOHOL!D49","v":{"v":76.55,"d":"76.6"}},{"$f":"[2]ALCOHOL!E49","v":{"v":73.11,"d":"(73.1 -"}},{"$f":"[2]ALCOHOL!F49","v":{"v":80.65,"d":"80.7)"}},{"$f":"[2]ALCOHOL!J49","v":{"v":35.28,"d":"35.3"}},{"$f":"[2]ALCOHOL!K49","v":{"v":30.09,"d":"(30.1 -"}},{"$f":"[2]ALCOHOL!L49","v":{"v":42.74,"d":"42.7)"}},{"$f":"[2]ALCOHOL!D52","v":{"v":27.83,"d":"27.8"}},{"$f":"[2]ALCOHOL!E52","v":{"v":25.91,"d":"(25.9 -"}},{"$f":"[2]ALCOHOL!F52","v":{"v":29.76,"d":"29.8)"}},{"$f":"[2]ALCOHOL!J52","v":{"v":13.34,"d":"13.3"}},{"$f":"[2]ALCOHOL!K52","v":{"v":10.92,"d":"(10.9 -"}},{"$f":"[2]ALCOHOL!L52","v":{"v":15.9,"d":"15.9)"}}]
[null,null,"2000-2004",{"$f":"[2]ALCOHOL!D50","v":{"v":106.71,"d":"106.7"}},{"$f":"[2]ALCOHOL!E50","v":{"v":102.34,"d":"(102.3 -"}},{"$f":"[2]ALCOHOL!F50","v":{"v":110.83,"d":"110.8)"}},{"$f":"[2]ALCOHOL!J50","v":{"v":37.12,"d":"37.1"}},{"$f":"[2]ALCOHOL!K50","v":{"v":33.84,"d":"(33.8 -"}},{"$f":"[2]ALCOHOL!L50","v":{"v":40.61,"d":"40.6)"}},{"$f":"[2]ALCOHOL!D53","v":{"v":36.52,"d":"36.5"}},{"$f":"[2]ALCOHOL!E53","v":{"v":34.29,"d":"(34.3 -"}},{"$f":"[2]ALCOHOL!F53","v":{"v":38.87,"d":"38.9)"}},{"$f":"[2]ALCOHOL!J53","v":{"v":15.44,"d":"15.4"}},{"$f":"[2]ALCOHOL!K53","v":{"v":13.29,"d":"(13.3 -"}},{"$f":"[2]ALCOHOL!L53","v":{"v":17.97,"d":"18.0)"}}]
[null,null,"2005-2009"]
["WEST","Scotland","1980-1984"]
[null,null,"1985-1989"]
[null,null,"1990-1994",{"$f":"[2]ALCOHOL!D271","v":11.7},{"$f":"[2]ALCOHOL!E271","v":{"v":7.78,"d":"(7.8 -"}},"-"]
[null,null,"1995-1999",{"$f":"[2]ALCOHOL!D272","v":{"v":24.42,"d":"24.4"}},{"$f":"[2]ALCOHOL!E272","v":{"v":18.96,"d":"(19.0 -"}},{"$f":"[2]ALCOHOL!F272","v":{"v":30.83,"d":"30.8)"}},{"$f":"[2]ALCOHOL!J272","v":{"v":15.13,"d":"15.1"}},{"$f":"[2]ALCOHOL!K272","v":{"v":0,"d":"(0.0"}},{"$f":"[2]ALCOHOL!L272","v":{"v":35.5,"d":"35.5)"}}]
[null,null,"2000-2004",{"$f":"[2]ALCOHOL!D273","v":{"v":64.22,"d":"64.2"}},{"$f":"[2]ALCOHOL!E273","v":{"v":52.4,"d":"(52.4 -"}},{"$f":"[2]ALCOHOL!F273","v":{"v":76.42,"d":"76.4)"}},{"$f":"[2]ALCOHOL!J273","v":{"v":24.29,"d":"24.3"}},{"$f":"[2]ALCOHOL!K273","v":{"v":13.48,"d":"(13.5 -"}},{"$f":"[2]ALCOHOL!L273","v":{"v":36.69,"d":"36.7)"}},{"$f":"[2]ALCOHOL!D277","v":{"v":25.54,"d":"25.5"}},{"$f":"[2]ALCOHOL!E277","v":{"v":18.8,"d":"(18.8 -"}},{"$f":"[2]ALCOHOL!F277","v":{"v":33.03,"d":"33.0)"}},{"$f":"[2]ALCOHOL!J277","v":{"v":11.93,"d":"11.9"}},{"$f":"[2]ALCOHOL!K277","v":{"v":4.37,"d":"(4.4 -"}},{"$f":"[2]ALCOHOL!L277","v":{"v":21.18,"d":"21.2)"}}]
[null,null,"2005-2009",{"$f":"[2]ALCOHOL!D274","v":{"v":47.12,"d":"47.1"}},{"$f":"[2]ALCOHOL!E274","v":{"v":36.91,"d":"(36.9 -"}},{"$f":"[2]ALCOHOL!F274","v":{"v":57.56,"d":"57.6)"}},{"$f":"[2]ALCOHOL!J274","v":{"v":30.95,"d":"31.0"}},{"$f":"[2]ALCOHOL!K274","v":{"v":18.53,"d":"(18.5 -"}},{"$f":"[2]ALCOHOL!L274","v":{"v":45.34,"d":"45.3)"}},{"$f":"[2]ALCOHOL!D278","v":20.6},{"$f":"[2]ALCOHOL!E278","v":{"v":13.76,"d":"(13.8 -"}},{"$f":"[2]ALCOHOL!F278","v":{"v":27.74,"d":"27.7)"}},{"$f":"[2]ALCOHOL!J278","v":{"v":13.25,"d":"13.3"}},{"$f":"[2]ALCOHOL!K278","v":{"v":5.68,"d":"(5.7 -"}},{"$f":"[2]ALCOHOL!L278","v":{"v":22.4,"d":"22.4)"}}]
[null,"England & Wales","1980-1984"]
[null,null,"1985-1989"]
[null,null,"1990-1994"]
[null,null,"1995-1999"]
[null,null,"2000-2004",{"$f":"[2]ALCOHOL!D67","v":{"v":21.87,"d":"21.9"}},{"$f":"[2]ALCOHOL!E67","v":{"v":16.71,"d":"(16.7 -"}},{"$f":"[2]ALCOHOL!F67","v":{"v":27.34,"d":"27.3)"}},{"$f":"[2]ALCOHOL!J67","v":{"v":11.88,"d":"11.9"}},{"$f":"[2]ALCOHOL!K67","v":{"v":5.87,"d":"(5.9 -"}},{"$f":"[2]ALCOHOL!L67","v":{"v":18.75,"d":"18.8)"}},{"$f":"[2]ALCOHOL!D75","v":{"v":10.41,"d":"10.4"}},{"$f":"[2]ALCOHOL!E75","v":{"v":7.25,"d":"(7.3 -"}},{"$f":"[2]ALCOHOL!F75","v":{"v":13.61,"d":"13.6)"}},{"$f":"[2]ALCOHOL!J75","v":{"v":7.88,"d":"7.9"}},{"$f":"[2]ALCOHOL!K75","v":{"v":3.26,"d":"(3.3 -"}},{"$f":"[2]ALCOHOL!L75","v":{"v":13.38,"d":"13.4)"}}]
[null,null,"2005-2009",{"$f":"[2]ALCOHOL!D68","v":{"v":26.04,"d":"26.0"}},{"$f":"[2]ALCOHOL!E68","v":{"v":19.62,"d":"(19.6 -"}},{"$f":"[2]ALCOHOL!F68","v":{"v":32.6,"d":"32.6)"}},{"$f":"[2]ALCOHOL!J68","v":{"v":11.87,"d":"11.9"}},{"$f":"[2]ALCOHOL!K68","v":{"v":5.76,"d":"(5.8 -"}},{"$f":"[2]ALCOHOL!L68","v":{"v":19,"d":"19.0)"}},{"$f":"[2]ALCOHOL!D76","v":{"v":12,"d":"12.0"}},{"$f":"[2]ALCOHOL!E76","v":{"v":8.34,"d":"(8.3 -"}},{"$f":"[2]ALCOHOL!F76","v":{"v":16.56,"d":"16.6)"}},{"$f":"[2]ALCOHOL!J76","v":{"v":9.79,"d":"9.8"}},{"$f":"[2]ALCOHOL!K76","v":{"v":3.88,"d":"(3.9 -"}},{"$f":"[2]ALCOHOL!L76","v":{"v":16.38,"d":"16.4)"}}]
[null,"England & Wales2","1980-1984",{"$f":"[2]ALCOHOL!D86","v":5.2},{"$f":"[2]ALCOHOL!E86","v":{"v":3.41,"d":"(3.4 -"}},{"$f":"[2]ALCOHOL!F86","v":{"v":7.19,"d":"7.2)"}},{"$f":"[2]ALCOHOL!J86","v":{"v":5.79,"d":"5.8"}},{"$f":"[2]ALCOHOL!K86","v":{"v":1.18,"d":"(1.2 -"}},{"$f":"[2]ALCOHOL!L86","v":{"v":12.56,"d":"12.6)"}},{"$f":"[2]ALCOHOL!D94","v":{"v":2.64,"d":"2.6"}},{"$f":"[2]ALCOHOL!E94","v":{"v":1.35,"d":"(1.4 -"}},{"$f":"[2]ALCOHOL!F94","v":{"v":4.05,"d":"4.1)"}},{"$f":"[2]ALCOHOL!J94","v":{"v":2.89,"d":"2.9"}},{"$f":"[2]ALCOHOL!K94","v":{"v":0,"d":"(0.0"}},{"$f":"[2]ALCOHOL!L94","v":{"v":8.68,"d":"8.7)"}}]
[null,null,"1985-1989",{"$f":"[2]ALCOHOL!D87","v":{"v":6.27,"d":"6.3"}},{"$f":"[2]ALCOHOL!E87","v":{"v":4.22,"d":"(4.2 -"}},{"$f":"[2]ALCOHOL!F87","v":{"v":8.34,"d":"8.3)"}},{"$f":"[2]ALCOHOL!J87","v":{"v":6.95,"d":"7.0"}},{"$f":"[2]ALCOHOL!K87","v":{"v":1.63,"d":"(1.6 -"}},{"$f":"[2]ALCOHOL!L87","v":{"v":13.68,"d":"13.7)"}},{"$f":"[2]ALCOHOL!D95","v":{"v":3.66,"d":"3.7"}},{"$f":"[2]ALCOHOL!E95","v":{"v":2.12,"d":"(2.1 -"}},{"$f":"[2]ALCOHOL!F95","v":{"v":5.42,"d":"5.4)"}},{"$f":"[2]ALCOHOL!J95","v":{"v":4.36,"d":"4.4"}},{"$f":"[2]ALCOHOL!K95","v":{"v":0,"d":"(0.0"}},{"$f":"[2]ALCOHOL!L95","v":{"v":12.43,"d":"12.4)"}}]
[null,null,"1990-1994",{"$f":"[2]ALCOHOL!D88","v":{"v":8.01,"d":"8.0"}},{"$f":"[2]ALCOHOL!E88","v":{"v":5.52,"d":"(5.5 -"}},{"$f":"[2]ALCOHOL!F88","v":{"v":10.59,"d":"10.6)"}},{"$f":"[2]ALCOHOL!J88","v":{"v":5.92,"d":"5.9"}},{"$f":"[2]ALCOHOL!K88","v":{"v":1.44,"d":"(1.4 -"}},{"$f":"[2]ALCOHOL!L88","v":{"v":11.17,"d":"11.2)"}},{"$f":"[2]ALCOHOL!D96","v":{"v":5.61,"d":"5.6"}},{"$f":"[2]ALCOHOL!E96","v":{"v":3.74,"d":"(3.7 -"}},{"$f":"[2]ALCOHOL!F96","v":{"v":7.65,"d":"7.7)"}},{"$f":"[2]ALCOHOL!J96","v":{"v":6.16,"d":"6.2"}},{"$f":"[2]ALCOHOL!K96","v":{"v":1.57,"d":"(1.6 -"}},{"$f":"[2]ALCOHOL!L96","v":{"v":12.26,"d":"12.3)"}}]
[null,null,"1995-1999",{"$f":"[2]ALCOHOL!D89","v":{"v":14.72,"d":"14.7"}},{"$f":"[2]ALCOHOL!E89","v":{"v":11.22,"d":"(11.2 -"}},{"$f":"[2]ALCOHOL!F89","v":{"v":18.76,"d":"18.8)"}},{"$f":"[2]ALCOHOL!J89","v":{"v":13.11,"d":"13.1"}},{"$f":"[2]ALCOHOL!K89","v":{"v":7.39,"d":"(7.4 -"}},{"$f":"[2]ALCOHOL!L89","v":{"v":20.39,"d":"20.4)"}},{"$f":"[2]ALCOHOL!D97","v":{"v":8.34,"d":"8.3"}},{"$f":"[2]ALCOHOL!E97","v":{"v":5.99,"d":"(6.0 -"}},{"$f":"[2]ALCOHOL!F97","v":{"v":11.06,"d":"11.1)"}},{"$f":"[2]ALCOHOL!J97","v":7.1},{"$f":"[2]ALCOHOL!K97","v":{"v":2.23,"d":"(2.2 -"}},{"$f":"[2]ALCOHOL!L97","v":{"v":13.21,"d":"13.2)"}}]
[null,null,"2000-2004",{"$f":"[2]ALCOHOL!D90","v":{"v":19.55,"d":"19.6"}},{"$f":"[2]ALCOHOL!E90","v":{"v":15.72,"d":"(15.7 -"}},{"$f":"[2]ALCOHOL!F90","v":{"v":23.9,"d":"23.9)"}},{"$f":"[2]ALCOHOL!J90","v":{"v":11.88,"d":"11.9"}},{"$f":"[2]ALCOHOL!K90","v":{"v":6.06,"d":"(6.1 -"}},{"$f":"[2]ALCOHOL!L90","v":{"v":18.79,"d":"18.8)"}},{"$f":"[2]ALCOHOL!D98","v":{"v":9.35,"d":"9.4"}},{"$f":"[2]ALCOHOL!E98","v":{"v":6.86,"d":"(6.9 -"}},{"$f":"[2]ALCOHOL!F98","v":{"v":11.88,"d":"11.9)"}},{"$f":"[2]ALCOHOL!J98","v":{"v":7.88,"d":"7.9"}},{"$f":"[2]ALCOHOL!K98","v":{"v":3.33,"d":"(3.3 -"}},{"$f":"[2]ALCOHOL!L98","v":{"v":13.32,"d":"13.3)"}}]
[null,null,"2005-2009",{"$f":"[2]ALCOHOL!D91","v":23.1},{"$f":"[2]ALCOHOL!E91","v":{"v":18.17,"d":"(18.2 -"}},{"$f":"[2]ALCOHOL!F91","v":{"v":28.76,"d":"28.8)"}},{"$f":"[2]ALCOHOL!J91","v":{"v":11.87,"d":"11.9"}},{"$f":"[2]ALCOHOL!K91","v":{"v":5.18,"d":"(5.2 -"}},{"$f":"[2]ALCOHOL!L91","v":{"v":18.46,"d":"18.5)"}},{"$f":"[2]ALCOHOL!D99","v":{"v":11.41,"d":"11.4"}},{"$f":"[2]ALCOHOL!E99","v":{"v":8.07,"d":"(8.1 -"}},{"$f":"[2]ALCOHOL!F99","v":{"v":15.05,"d":"15.1)"}},{"$f":"[2]ALCOHOL!J99","v":{"v":9.79,"d":"9.8"}},{"$f":"[2]ALCOHOL!K99","v":{"v":3.85,"d":"(3.9 -"}},{"$f":"[2]ALCOHOL!L99","v":{"v":16.09,"d":"16.1)"}}]
[null,"Belgium","1980-1984"]
[null,null,"1985-1989"]
[null,null,"1990-1994",{"$f":"[2]ALCOHOLcomp!D20","v":{"v":8.79,"d":"8.8"}},{"$f":"[2]ALCOHOLcomp!E20","v":{"v":8.08,"d":"(8.1 -"}},{"$f":"[2]ALCOHOLcomp!F20","v":{"v":9.52,"d":"9.5)"}},{"$f":"[2]ALCOHOLcomp!J20","v":{"v":5.62,"d":"5.6"}},{"$f":"[2]ALCOHOLcomp!K20","v":{"v":4.39,"d":"(4.4 -"}},{"$f":"[2]ALCOHOLcomp!L20","v":{"v":6.96,"d":"7.0)"}},{"$f":"[2]ALCOHOLcomp!D25","v":{"v":2.39,"d":"2.4"}},{"$f":"[2]ALCOHOLcomp!E25","v":{"v":2.07,"d":"(2.1 -"}},{"$f":"[2]ALCOHOLcomp!F25","v":{"v":2.78,"d":"2.8)"}},{"$f":"[2]ALCOHOLcomp!J25","v":{"v":2.19,"d":"2.2"}},{"$f":"[2]ALCOHOLcomp!K25","v":{"v":1.19,"d":"(1.2 -"}},{"$f":"[2]ALCOHOLcomp!L25","v":{"v":3.13,"d":"3.1)"}}]
[null,null,"1995-1999"]
[null,null,"2000-2004",{"$f":"[2]ALCOHOLcomp!D24","v":{"v":0,"d":"0.0"}},{"$f":"[2]ALCOHOLcomp!E24","v":{"v":0,"d":"(0.0"}},{"$f":"[2]ALCOHOLcomp!F24","v":{"v":0,"d":"0.0)"}},{"$f":"[2]ALCOHOLcomp!J24","v":{"v":0,"d":"0.0"}},{"$f":"[2]ALCOHOLcomp!K24","v":{"v":0,"d":"(0.0"}},{"$f":"[2]ALCOHOLcomp!L24","v":{"v":0,"d":"0.0)"}},{"$f":"[2]ALCOHOLcomp!D29","v":{"v":12.97,"d":"13.0"}},{"$f":"[2]ALCOHOLcomp!E29","v":{"v":11.9,"d":"(11.9 -"}},{"$f":"[2]ALCOHOLcomp!F29","v":{"v":14.13,"d":"14.1)"}},{"$f":"[2]ALCOHOLcomp!J29","v":{"v":0,"d":"0.0"}},{"$f":"[2]ALCOHOLcomp!K29","v":{"v":0,"d":"(0.0"}},{"$f":"[2]ALCOHOLcomp!L29","v":{"v":0,"d":"0.0)"}}]
[null,null,"2005-2009"]
[null,"France","1980-1984",{"$f":"([2]ALCOHOL!D142+[2]ALCOHOL!D143)/2","v":{"v":74.16277,"d":"74.2"}},{"$f":"([2]ALCOHOL!E142+[2]ALCOHOL!E143)/2","v":{"v":62.51135,"d":"(62.5 -"}},{"$f":"([2]ALCOHOL!F142+[2]ALCOHOL!F143)/2","v":{"v":86.66544999999999,"d":"86.7)"}},{"$f":"([2]ALCOHOL!J142+[2]ALCOHOL!J143)/2","v":{"v":10.702345000000001,"d":"10.7"}},{"$f":"([2]ALCOHOL!K142+[2]ALCOHOL!K143)/2","v":{"v":1.951115,"d":"(2.0 -"}},{"$f":"([2]ALCOHOL!L142+[2]ALCOHOL!L143)/2","v":{"v":24.517830000000004,"d":"24.5)"}},{"$f":"([2]ALCOHOL!D150+[2]ALCOHOL!D151)/2","v":{"v":22.117175,"d":"22.1"}},{"$f":"([2]ALCOHOL!E150+[2]ALCOHOL!E151)/2","v":{"v":16.5419,"d":"(16.5 -"}},{"$f":"([2]ALCOHOL!F150+[2]ALCOHOL!F151)/2","v":{"v":28.177999999999997,"d":"28.2"}},{"$f":"([2]ALCOHOL!J150+[2]ALCOHOL!J151)/2","v":{"v":8.597435,"d":"8.6"}},{"$f":"([2]ALCOHOL!K150+[2]ALCOHOL!K151)/2","v":{"v":0,"d":"(0.0"}},{"$f":"([2]ALCOHOL!L150+[2]ALCOHOL!L151)/2","v":{"v":25.7923,"d":"25.8)"}}]
[null,null,"1985-1989",{"$f":"([2]ALCOHOL!D143+[2]ALCOHOL!D144)/2","v":{"v":74.574335,"d":"74.6"}},{"$f":"([2]ALCOHOL!E143+[2]ALCOHOL!E144)/2","v":{"v":64.2522,"d":"(64.3 -"}},{"$f":"([2]ALCOHOL!F143+[2]ALCOHOL!F144)/2","v":{"v":86.09885,"d":"86.1)"}},{"$f":"([2]ALCOHOL!J143+[2]ALCOHOL!J144)/2","v":{"v":20.442405,"d":"20.4"}},{"$f":"([2]ALCOHOL!K143+[2]ALCOHOL!K144)/2","v":{"v":5.9209499999999995,"d":"(5.9 -"}},{"$f":"([2]ALCOHOL!L143+[2]ALCOHOL!L144)/2","v":{"v":39.451235,"d":"39.5)"}},{"$f":"([2]ALCOHOL!D151+[2]ALCOHOL!D152)/2","v":{"v":23.6422,"d":"23.6"}},{"$f":"([2]ALCOHOL!E151+[2]ALCOHOL!E152)/2","v":{"v":18.4062,"d":"(18.4 -"}},{"$f":"([2]ALCOHOL!F151+[2]ALCOHOL!F152)/2","v":{"v":29.39815,"d":"29.4)"}},{"$f":"([2]ALCOHOL!J151+[2]ALCOHOL!J152)/2","v":{"v":0,"d":"0.0"}},{"$f":"([2]ALCOHOL!K151+[2]ALCOHOL!K152)/2","v":{"v":0,"d":"(0.0"}},{"$f":"([2]ALCOHOL!L151+[2]ALCOHOL!L152)/2","v":{"v":0,"d":"0.0)"}}]
[null,null,"1990-1994",{"$f":"[2]ALCOHOL!D145","v":{"v":59.31265,"d":"59.3"}},{"$f":"[2]ALCOHOL!E145","v":{"v":50.2181,"d":"(50.2 -"}},{"$f":"[2]ALCOHOL!F145","v":{"v":68.4516,"d":"68.5)"}},{"$f":"[2]ALCOHOL!J145","v":{"v":7.20664,"d":"7.2"}},{"$f":"[2]ALCOHOL!K145","v":{"v":1.92321,"d":"(1.9 -"}},{"$f":"[2]ALCOHOL!L145","v":{"v":13.99595,"d":"14.0)"}},{"$f":"[2]ALCOHOL!D153","v":{"v":15.17398,"d":"15.2"}},{"$f":"[2]ALCOHOL!E153","v":{"v":11.3449,"d":"(11.3 -"}},{"$f":"[2]ALCOHOL!F153","v":{"v":19.3357,"d":"19.3)"}},{"$f":"[2]ALCOHOL!J153","v":{"v":10.07526,"d":"10.1"}},{"$f":"[2]ALCOHOL!K153","v":{"v":0,"d":"(0.0"}},{"$f":"[2]ALCOHOL!L153","v":{"v":24.5718,"d":"24.6)"}}]
[null,null,"1995-1999",{"$f":"[2]ALCOHOL!D146","v":{"v":64.71428,"d":"64.7"}},{"$f":"[2]ALCOHOL!E146","v":{"v":54.3758,"d":"(54.4 -"}},{"$f":"[2]ALCOHOL!F146","v":{"v":76.411,"d":"76.4)"}},{"$f":"[2]ALCOHOL!J146","v":{"v":7.013,"d":"7.0"}},{"$f":"[2]ALCOHOL!K146","v":{"v":1.16434,"d":"(1.2 -"}},{"$f":"[2]ALCOHOL!L146","v":{"v":15.1143,"d":"15.1)"}},{"$f":"[2]ALCOHOL!D154","v":{"v":20.1536,"d":"20.2"}},{"$f":"[2]ALCOHOL!E154","v":{"v":14.6682,"d":"(14.7 -"}},{"$f":"[2]ALCOHOL!F154","v":{"v":25.9579,"d":"26.0)"}},{"$f":"[2]ALCOHOL!J154","v":{"v":0,"d":"0.0"}},{"$f":"[2]ALCOHOL!K154","v":{"v":0,"d":"(0.0"}},{"$f":"[2]ALCOHOL!L154","v":{"v":0,"d":"0.0)"}}]
[null,null,"2000-2004",{"$f":"[2]ALCOHOL!D147","v":{"v":59.50463,"d":"59.5"}},{"$f":"[2]ALCOHOL!E147","v":{"v":50.1737,"d":"(50.2 -"}},{"$f":"[2]ALCOHOL!F147","v":{"v":68.423,"d":"68.4)"}},{"$f":"[2]ALCOHOL!J147","v":{"v":15.57955,"d":"15.6"}},{"$f":"[2]ALCOHOL!K147","v":{"v":7.09812,"d":"(7.1 -"}},{"$f":"[2]ALCOHOL!L147","v":{"v":24.43148,"d":"24.4)"}},{"$f":"[2]ALCOHOL!D155","v":{"v":20.37402,"d":"20.4"}},{"$f":"[2]ALCOHOL!E155","v":{"v":15.0181,"d":"(15.0 -"}},{"$f":"[2]ALCOHOL!F155","v":{"v":25.7411,"d":"25.7)"}},{"$f":"[2]ALCOHOL!J155","v":{"v":7.59501,"d":"7.6"}},{"$f":"[2]ALCOHOL!K155","v":{"v":1.66645,"d":"(1.7 -"}},{"$f":"[2]ALCOHOL!L155","v":{"v":15.29858,"d":"15.3)"}}]
[null,null,"2005-2009",{"$f":"[2]ALCOHOL!D148","v":{"v":57.46619,"d":"57.5"}},{"$f":"[2]ALCOHOL!E148","v":{"v":45.3961,"d":"(45.4 -"}},{"$f":"[2]ALCOHOL!F148","v":{"v":69.522,"d":"69.5)"}},{"$f":"[2]ALCOHOL!J148","v":{"v":16.27264,"d":"16.3"}},{"$f":"[2]ALCOHOL!K148","v":{"v":8.12318,"d":"(8.1 -"}},{"$f":"[2]ALCOHOL!L148","v":{"v":25.90366,"d":"25.9)"}},{"$f":"[2]ALCOHOL!D156","v":{"v":16.53984,"d":"16.5"}},{"$f":"[2]ALCOHOL!E156","v":{"v":11.7351,"d":"(11.7 -"}},{"$f":"[2]ALCOHOL!F156","v":{"v":22.3814,"d":"22.4)"}},{"$f":"[2]ALCOHOL!J156","v":{"v":1.11768,"d":"1.1"}},{"$f":"[2]ALCOHOL!K156","v":{"v":0,"d":"(0.0"}},{"$f":"[2]ALCOHOL!L156","v":{"v":3.35303,"d":"3.4)"}}]
[null,"Switzerland","1980-1984"]
[null,null,"1985-1989"]
[null,null,"1990-1994",{"$f":"[2]ALCOHOL!D353","v":{"v":55.25,"d":"55.3"}},{"$f":"[2]ALCOHOL!E353","v":{"v":51.03,"d":"(51.0 -"}},{"$f":"[2]ALCOHOL!F353","v":{"v":59.43,"d":"59.4)"}},{"$f":"[2]ALCOHOL!J353","v":{"v":14.14,"d":"14.1"}},{"$f":"[2]ALCOHOL!K353","v":{"v":11.97,"d":"(12.0 -"}},{"$f":"[2]ALCOHOL!L353","v":{"v":16.25,"d":"16.3)"}},{"$f":"[2]ALCOHOL!D357","v":13.1},{"$f":"[2]ALCOHOL!E357","v":{"v":11.82,"d":"(11.8 -"}},{"$f":"[2]ALCOHOL!F357","v":{"v":14.5,"d":"14.5)"}},{"$f":"[2]ALCOHOL!J357","v":{"v":8.51,"d":"8.5"}},{"$f":"[2]ALCOHOL!K357","v":{"v":5.62,"d":"(5.6 -"}},{"$f":"[2]ALCOHOL!L357","v":{"v":11.61,"d":"11.6)"}}]
[null,null,"1995-1999",{"$f":"[2]ALCOHOL!D354","v":{"v":54.32,"d":"54.3"}},{"$f":"[2]ALCOHOL!E354","v":{"v":49.83,"d":"(49.8 -"}},{"$f":"[2]ALCOHOL!F354","v":{"v":59.17,"d":"59.2)"}},{"$f":"[2]ALCOHOL!J354","v":{"v":16.97,"d":"17.0"}},{"$f":"[2]ALCOHOL!K354","v":{"v":14.88,"d":"(14.9 -"}},{"$f":"[2]ALCOHOL!L354","v":{"v":19.05,"d":"19.1)"}},{"$f":"[2]ALCOHOL!D358","v":{"v":12.97,"d":"13.0"}},{"$f":"[2]ALCOHOL!E358","v":{"v":11.5,"d":"(11.5 -"}},{"$f":"[2]ALCOHOL!F358","v":{"v":14.61,"d":"14.6)"}},{"$f":"[2]ALCOHOL!J358","v":{"v":7.41,"d":"7.4"}},{"$f":"[2]ALCOHOL!K358","v":{"v":5.32,"d":"(5.3 -"}},{"$f":"[2]ALCOHOL!L358","v":{"v":9.95,"d":"10.0)"}}]
[null,null,"2000-2004",{"$f":"[2]ALCOHOL!D355","v":{"v":50.88,"d":"50.9"}},{"$f":"[2]ALCOHOL!E355","v":{"v":46.71,"d":"(46.7 -"}},{"$f":"[2]ALCOHOL!F355","v":{"v":55.31,"d":"55.3)"}},{"$f":"[2]ALCOHOL!J355","v":{"v":12.05,"d":"12.1"}},{"$f":"[2]ALCOHOL!K355","v":{"v":10.59,"d":"(10.6 -"}},{"$f":"[2]ALCOHOL!L355","v":{"v":13.61,"d":"13.6)"}},{"$f":"[2]ALCOHOL!D359","v":{"v":11.09,"d":"11.1"}},{"$f":"[2]ALCOHOL!E359","v":{"v":9.67,"d":"(9.7 -"}},{"$f":"[2]ALCOHOL!F359","v":{"v":12.47,"d":"12.5)"}},{"$f":"[2]ALCOHOL!J359","v":{"v":7.11,"d":"7.1"}},{"$f":"[2]ALCOHOL!K359","v":{"v":5.08,"d":"(5.1 -"}},{"$f":"[2]ALCOHOL!L359","v":{"v":9.52,"d":"9.5)"}}]
[null,null,"2005-2009",{"$f":"[2]ALCOHOL!D356","v":{"v":41.73,"d":"41.7"}},{"$f":"[2]ALCOHOL!E356","v":{"v":36.87,"d":"(36.9 -"}},{"$f":"[2]ALCOHOL!F356","v":{"v":47.09,"d":"47.1)"}},{"$f":"[2]ALCOHOL!J356","v":{"v":12.49,"d":"12.5"}},{"$f":"[2]ALCOHOL!K356","v":{"v":10.57,"d":"(10.6 -"}},{"$f":"[2]ALCOHOL!L356","v":{"v":14.55,"d":"14.6)"}},{"$f":"[2]ALCOHOL!D360","v":{"v":12.43,"d":"12.4"}},{"$f":"[2]ALCOHOL!E360","v":{"v":10.69,"d":"(10.7 -"}},{"$f":"[2]ALCOHOL!F360","v":{"v":14.21,"d":"14.2)"}},{"$f":"[2]ALCOHOL!J360","v":{"v":5.28,"d":"5.3"}},{"$f":"[2]ALCOHOL!K360","v":{"v":3.37,"d":"(3.4 -"}},{"$f":"[2]ALCOHOL!L360","v":{"v":7.57,"d":"7.6)"}}]
[null,"Austria","1980-1984",{"$f":"[2]ALCOHOL!D7","v":{"v":19.46,"d":"19.5"}},{"$f":"[2]ALCOHOL!E7","v":{"v":16.14,"d":"(16.1 -"}},{"$f":"[2]ALCOHOL!F7","v":{"v":22.97,"d":"23.0)"}},{"$f":"[2]ALCOHOL!J7","v":{"v":3.58,"d":"3.6"}},{"$f":"[2]ALCOHOL!K7","v":{"v":0,"d":"(0.0"}},{"$f":"[2]ALCOHOL!L7","v":{"v":9.39,"d":"9.4)"}},{"$f":"[2]ALCOHOL!D10","v":{"v":3.34,"d":"3.3"}},{"$f":"[2]ALCOHOL!E10","v":{"v":2.34,"d":"(2.3 -"}},{"$f":"[2]ALCOHOL!F10","v":{"v":4.49,"d":"4.5)"}},{"$f":"[2]ALCOHOL!J10","v":{"v":0,"d":"0.0"}},{"$f":"[2]ALCOHOL!K10","v":{"v":0,"d":"(0.0"}},{"$f":"[2]ALCOHOL!L10","v":{"v":0,"d":"0.0)"}}]
[null,null,"1985-1989"]
[null,null,"1990-1994",{"$f":"[2]ALCOHOL!D8","v":{"v":30.81,"d":"30.8"}},{"$f":"[2]ALCOHOL!E8","v":{"v":26.26,"d":"(26.3 -"}},{"$f":"[2]ALCOHOL!F8","v":{"v":35.69,"d":"35.7)"}},{"$f":"[2]ALCOHOL!J8","v":{"v":1.78,"d":"1.8"}},{"$f":"[2]ALCOHOL!K8","v":{"v":0,"d":"(0.0"}},{"$f":"[2]ALCOHOL!L8","v":{"v":4.84,"d":"4.8)"}},{"$f":"[2]ALCOHOL!D11","v":{"v":3.26,"d":"3.3"}},{"$f":"[2]ALCOHOL!E11","v":{"v":2.23,"d":"(2.2 -"}},{"$f":"[2]ALCOHOL!F11","v":{"v":4.39,"d":"4.4)"}},{"$f":"[2]ALCOHOL!J11","v":{"v":0,"d":"0.0"}},{"$f":"[2]ALCOHOL!K11","v":{"v":0,"d":"(0.0"}},{"$f":"[2]ALCOHOL!L11","v":{"v":0,"d":"0.0)"}}]
[null,null,"1995-1999"]
[null,null,"2000-2004",{"$f":"[2]ALCOHOL!D9","v":{"v":37.42,"d":"37.4"}},{"$f":"[2]ALCOHOL!E9","v":{"v":31.86,"d":"(31.9 -"}},{"$f":"[2]ALCOHOL!F9","v":{"v":43.64,"d":"43.6)"}},{"$f":"[2]ALCOHOL!J9","v":{"v":6.16,"d":"6.2"}},{"$f":"[2]ALCOHOL!K9","v":{"v":2.2,"d":"(2.2 -"}},{"$f":"[2]ALCOHOL!L9","v":{"v":10.33,"d":"10.3)"}},{"$f":"[2]ALCOHOL!D12","v":{"v":5.43,"d":"5.4"}},{"$f":"[2]ALCOHOL!E12","v":{"v":3.85,"d":"(3.9 -"}},{"$f":"[2]ALCOHOL!F12","v":{"v":7.09,"d":"7.1)"}},{"$f":"[2]ALCOHOL!J12","v":{"v":0.41,"d":"0.4"}},{"$f":"[2]ALCOHOL!K12","v":{"v":0,"d":"(0.0"}},{"$f":"[2]ALCOHOL!L12","v":{"v":1.12,"d":"1.1)"}}]
[null,null,"2005-2009"]
["SOUTH","Barcelona","1980-1984"]
[null,null,"1985-1989"]
[null,null,"1990-1994",{"$f":"[2]ALCOHOL!D301","v":{"v":11.22,"d":"11.2"}},{"$f":"[2]ALCOHOL!E301","v":{"v":9.25,"d":"(9.3 -"}},{"$f":"[2]ALCOHOL!F301","v":{"v":13.15,"d":"13.2)"}},{"$f":"[2]ALCOHOL!J301","v":{"v":2.36,"d":"2.4"}},{"$f":"[2]ALCOHOL!K301","v":{"v":0.81,"d":"(0.8 -"}},{"$f":"[2]ALCOHOL!L301","v":{"v":4.14,"d":"4.1)"}},{"$f":"[2]ALCOHOL!D305","v":{"v":2.42,"d":"2.4"}},{"$f":"[2]ALCOHOL!E305","v":{"v":1.7,"d":"(1.7 -"}},{"$f":"[2]ALCOHOL!F305","v":{"v":3.28,"d":"3.3)"}},{"$f":"[2]ALCOHOL!J305","v":{"v":0.38,"d":"0.4"}},{"$f":"[2]ALCOHOL!K305","v":{"v":0,"d":"(0.0"}},{"$f":"[2]ALCOHOL!L305","v":{"v":1.38,"d":"1.4)"}}]
[null,null,"1995-1999",{"$f":"[2]ALCOHOL!D302","v":{"v":13.46,"d":"13.5"}},{"$f":"[2]ALCOHOL!E302","v":{"v":11.17,"d":"(11.2 -"}},{"$f":"[2]ALCOHOL!F302","v":{"v":15.76,"d":"15.8)"}},{"$f":"[2]ALCOHOL!J302","v":{"v":4.91,"d":"4.9"}},{"$f":"[2]ALCOHOL!K302","v":{"v":2.76,"d":"(2.8 -"}},{"$f":"[2]ALCOHOL!L302","v":{"v":7.37,"d":"7.4)"}},{"$f":"[2]ALCOHOL!D306","v":{"v":3.37,"d":"3.4"}},{"$f":"[2]ALCOHOL!E306","v":{"v":2.43,"d":"(2.4 -"}},{"$f":"[2]ALCOHOL!F306","v":{"v":4.39,"d":"4.4)"}},{"$f":"[2]ALCOHOL!J306","v":{"v":1.09,"d":"1.1"}},{"$f":"[2]ALCOHOL!K306","v":{"v":0,"d":"(0.0"}},{"$f":"[2]ALCOHOL!L306","v":{"v":2.44,"d":"2.4)"}}]
[null,null,"2000-2004",{"$f":"[2]ALCOHOL!D303","v":{"v":12.45,"d":"12.5"}},{"$f":"[2]ALCOHOL!E303","v":{"v":10.34,"d":"(10.3 -"}},{"$f":"[2]ALCOHOL!F303","v":{"v":14.66,"d":"14.7)"}},{"$f":"[2]ALCOHOL!J303","v":{"v":2.17,"d":"2.2"}},{"$f":"[2]ALCOHOL!K303","v":{"v":0.93,"d":"(0.9 -"}},{"$f":"[2]ALCOHOL!L303","v":{"v":3.54,"d":"3.5)"}},{"$f":"[2]ALCOHOL!D307","v":{"v":2.99,"d":"3.0"}},{"$f":"[2]ALCOHOL!E307","v":{"v":2.06,"d":"(2.1 -"}},{"$f":"[2]ALCOHOL!F307","v":{"v":4.09,"d":"4.1)"}},{"$f":"[2]ALCOHOL!J307","v":{"v":0.72,"d":"0.7"}},{"$f":"[2]ALCOHOL!K307","v":{"v":0,"d":"(0.0"}},{"$f":"[2]ALCOHOL!L307","v":{"v":1.99,"d":"2.0)"}}]
[null,null,"2005-2009",{"$f":"[2]ALCOHOL!D304","v":{"v":11.17,"d":"11.2"}},{"$f":"[2]ALCOHOL!E304","v":{"v":8.94,"d":"(8.9 -"}},{"$f":"[2]ALCOHOL!F304","v":{"v":13.68,"d":"13.7)"}},{"$f":"[2]ALCOHOL!J304","v":{"v":2.97,"d":"3.0"}},{"$f":"[2]ALCOHOL!K304","v":{"v":1.3,"d":"(1.3 -"}},{"$f":"[2]ALCOHOL!L304","v":{"v":4.87,"d":"4.9)"}},{"$f":"[2]ALCOHOL!D308","v":{"v":3.23,"d":"3.2"}},{"$f":"[2]ALCOHOL!E308","v":{"v":2.04,"d":"(2.0 -"}},{"$f":"[2]ALCOHOL!F308","v":{"v":4.42,"d":"4.4)"}},{"$f":"[2]ALCOHOL!J308","v":{"v":0.65,"d":"0.7"}},{"$f":"[2]ALCOHOL!K308","v":{"v":0,"d":"(0.0"}},{"$f":"[2]ALCOHOL!L308","v":{"v":1.71,"d":"1.7)"}}]
[null,"Basque Country","1980-1984"]
[null,null,"1985-1989"]
[null,null,"1990-1994"]
[null,null,"1995-1999",{"$f":"[2]ALCOHOL!D316","v":{"v":9.89,"d":"9.9"}},{"$f":"[2]ALCOHOL!E316","v":{"v":8.58,"d":"(8.6 -"}},{"$f":"[2]ALCOHOL!F316","v":{"v":11.39,"d":"11.4)"}},{"$f":"[2]ALCOHOL!J316","v":{"v":2.26,"d":"2.3"}},{"$f":"[2]ALCOHOL!K316","v":{"v":0.67,"d":"(0.7 -"}},{"$f":"[2]ALCOHOL!L316","v":{"v":4.24,"d":"4.2)"}},{"$f":"[2]ALCOHOL!D318","v":{"v":2.39,"d":"2.4"}},{"$f":"[2]ALCOHOL!E318","v":{"v":1.74,"d":"(1.7 -"}},{"$f":"[2]ALCOHOL!F318","v":{"v":3.05,"d":"3.1)"}},{"$f":"[2]ALCOHOL!J318","v":{"v":1.84,"d":"1.8"}},{"$f":"[2]ALCOHOL!K318","v":{"v":0,"d":"(0.0"}},{"$f":"[2]ALCOHOL!L318","v":{"v":4.57,"d":"4.6)"}}]
[null,null,"2000-2004",{"$f":"[2]ALCOHOL!D317","v":{"v":9.91,"d":"9.9"}},{"$f":"[2]ALCOHOL!E317","v":{"v":8.45,"d":"(8.5 -"}},{"$f":"[2]ALCOHOL!F317","v":{"v":11.43,"d":"11.4)"}},{"$f":"[2]ALCOHOL!J317","v":{"v":3.86,"d":"3.9"}},{"$f":"[2]ALCOHOL!K317","v":{"v":2.06,"d":"(2.1 -"}},{"$f":"[2]ALCOHOL!L317","v":{"v":5.83,"d":"5.8)"}},{"$f":"[2]ALCOHOL!D319","v":2.1},{"$f":"[2]ALCOHOL!E319","v":{"v":1.49,"d":"(1.5 -"}},{"$f":"[2]ALCOHOL!F319","v":{"v":2.74,"d":"2.7)"}},{"$f":"[2]ALCOHOL!J319","v":{"v":1.04,"d":"1.0"}},{"$f":"[2]ALCOHOL!K319","v":{"v":0,"d":"(0.0"}},{"$f":"[2]ALCOHOL!L319","v":{"v":2.28,"d":"2.3)"}}]
[null,null,"2005-2009"]
[null,"Madrid","1980-1984"]
[null,null,"1985-1989"]
[null,null,"1990-1994"]
[null,null,"1995-1999",{"$f":"[2]ALCOHOL!D327","v":{"v":6.58,"d":"6.6"}},{"$f":"[2]ALCOHOL!E327","v":{"v":5.07,"d":"(5.1 -"}},{"$f":"[2]ALCOHOL!F327","v":{"v":8.09,"d":"8.1)"}},{"$f":"[2]ALCOHOL!J327","v":{"v":0.47,"d":"0.5"}},{"$f":"[2]ALCOHOL!K327","v":{"v":0,"d":"(0.0"}},{"$f":"[2]ALCOHOL!L327","v":{"v":1.31,"d":"1.3)"}},{"$f":"[2]ALCOHOL!D329","v":1.3},{"$f":"[2]ALCOHOL!E329","v":{"v":0.77,"d":"(0.8 -"}},{"$f":"[2]ALCOHOL!F329","v":{"v":1.88,"d":"1.9)"}},{"$f":"[2]ALCOHOL!J329","v":{"v":0,"d":"0.0"}},{"$f":"[2]ALCOHOL!K329","v":{"v":0,"d":"(0.0"}},{"$f":"[2]ALCOHOL!L329","v":{"v":0,"d":"0.0)"}}]
[null,null,"2000-2004",{"$f":"[2]ALCOHOL!D328","v":{"v":7.92,"d":"7.9"}},{"$f":"[2]ALCOHOL!E328","v":{"v":6.38,"d":"(6.4 -"}},{"$f":"[2]ALCOHOL!F328","v":{"v":9.58,"d":"9.6)"}},{"$f":"[2]ALCOHOL!J328","v":{"v":3.07,"d":"3.1"}},{"$f":"[2]ALCOHOL!K328","v":{"v":1.38,"d":"(1.4 -"}},{"$f":"[2]ALCOHOL!L328","v":{"v":5,"d":"5.0)"}},{"$f":"[2]ALCOHOL!D330","v":{"v":1.28,"d":"1.3"}},{"$f":"[2]ALCOHOL!E330","v":{"v":0.76,"d":"(0.8 -"}},{"$f":"[2]ALCOHOL!F330","v":{"v":1.87,"d":"1.9)"}},{"$f":"[2]ALCOHOL!J330","v":{"v":0.31,"d":"0.3"}},{"$f":"[2]ALCOHOL!K330","v":{"v":0,"d":"(0.0"}},{"$f":"[2]ALCOHOL!L330","v":{"v":0.98,"d":"1.0)"}}]
[null,null,"2005-2009"]
[null,"Italy, Turin","1980-1984",{"$f":"[2]ALCOHOL!D181","v":{"v":7.34,"d":"7.3"}},{"$f":"[2]ALCOHOL!E181","v":{"v":5.73,"d":"(5.7 -"}},{"$f":"[2]ALCOHOL!F181","v":{"v":9.07,"d":"9.1)"}},{"$f":"[2]ALCOHOL!J181","v":{"v":3.14,"d":"3.1"}},{"$f":"[2]ALCOHOL!K181","v":{"v":0,"d":"(0.0"}},{"$f":"[2]ALCOHOL!L181","v":{"v":7.04,"d":"7.0)"}},{"$f":"[2]ALCOHOL!D189","v":{"v":1.13,"d":"1.1"}},{"$f":"[2]ALCOHOL!E189","v":{"v":0.55,"d":"(0.6 -"}},{"$f":"[2]ALCOHOL!F189","v":{"v":1.72,"d":"1.7)"}},{"$f":"[2]ALCOHOL!J189","v":{"v":0,"d":"0.0"}},{"$f":"[2]ALCOHOL!K189","v":{"v":0,"d":"(0.0"}},{"$f":"[2]ALCOHOL!L189","v":{"v":0,"d":"0.0)"}}]
[null,null,"1985-1989",{"$f":"[2]ALCOHOL!D182","v":{"v":6.27,"d":"6.3"}},{"$f":"[2]ALCOHOL!E182","v":{"v":4.54,"d":"(4.5 -"}},{"$f":"[2]ALCOHOL!F182","v":{"v":7.97,"d":"8.0)"}},{"$f":"[2]ALCOHOL!J182","v":{"v":2.17,"d":"2.2"}},{"$f":"[2]ALCOHOL!K182","v":{"v":0,"d":"(0.0"}},{"$f":"[2]ALCOHOL!L182","v":{"v":5.47,"d":"5.5)"}},{"$f":"[2]ALCOHOL!D190","v":{"v":1.52,"d":"1.5"}},{"$f":"[2]ALCOHOL!E190","v":{"v":0.79,"d":"(0.8 -"}},{"$f":"[2]ALCOHOL!F190","v":{"v":2.46,"d":"2.5)"}},{"$f":"[2]ALCOHOL!J190","v":{"v":2.01,"d":"2.0"}},{"$f":"[2]ALCOHOL!K190","v":{"v":0,"d":"(0.0"}},{"$f":"[2]ALCOHOL!L190","v":{"v":6.04,"d":"6.0)"}}]
[null,null,"1990-1994",{"$f":"[2]ALCOHOL!D183","v":{"v":5.08,"d":"5.1"}},{"$f":"[2]ALCOHOL!E183","v":{"v":3.54,"d":"(3.5 -"}},{"$f":"[2]ALCOHOL!F183","v":{"v":6.54,"d":"6.5)"}},{"$f":"[2]ALCOHOL!J183","v":{"v":1.92,"d":"1.9"}},{"$f":"[2]ALCOHOL!K183","v":{"v":0,"d":"(0.0"}},{"$f":"[2]ALCOHOL!L183","v":{"v":5.51,"d":"5.5)"}},{"$f":"[2]ALCOHOL!D191","v":{"v":1.74,"d":"1.7"}},{"$f":"[2]ALCOHOL!E191","v":{"v":0.97,"d":"(1.0 -"}},{"$f":"[2]ALCOHOL!F191","v":{"v":2.63,"d":"2.6)"}},{"$f":"[2]ALCOHOL!J191","v":{"v":0,"d":"0.0"}},{"$f":"[2]ALCOHOL!K191","v":{"v":0,"d":"(0.0"}},{"$f":"[2]ALCOHOL!L191","v":{"v":0,"d":"0.0)"}}]
[null,null,"1995-1999",{"$f":"[2]ALCOHOL!D184","v":{"v":6.54,"d":"6.5"}},{"$f":"[2]ALCOHOL!E184","v":{"v":4.48,"d":"(4.5 -"}},{"$f":"[2]ALCOHOL!F184","v":{"v":8.9,"d":"8.9)"}},{"$f":"[2]ALCOHOL!J184","v":{"v":1.76,"d":"1.8"}},{"$f":"[2]ALCOHOL!K184","v":{"v":0,"d":"(0.0"}},{"$f":"[2]ALCOHOL!L184","v":{"v":4.56,"d":"4.6)"}},{"$f":"[2]ALCOHOL!D192","v":{"v":2.36,"d":"2.4"}},{"$f":"[2]ALCOHOL!E192","v":{"v":1.34,"d":"(1.3 -"}},{"$f":"[2]ALCOHOL!F192","v":{"v":3.6,"d":"3.6)"}},{"$f":"[2]ALCOHOL!J192","v":{"v":0,"d":"0.0"}},{"$f":"[2]ALCOHOL!K192","v":{"v":0,"d":"(0.0"}},{"$f":"[2]ALCOHOL!L192","v":{"v":0,"d":"0.0)"}}]
[null,null,"2000-2004",{"$f":"[2]ALCOHOL!D185","v":{"v":8.59,"d":"8.6"}},{"$f":"[2]ALCOHOL!E185","v":{"v":6.42,"d":"(6.4 -"}},{"$f":"[2]ALCOHOL!F185","v":{"v":10.95,"d":"11.0)"}},{"$f":"[2]ALCOHOL!J185","v":{"v":4.45,"d":"4.5"}},{"$f":"[2]ALCOHOL!K185","v":{"v":1.33,"d":"(1.3 -"}},{"$f":"[2]ALCOHOL!L185","v":{"v":7.88,"d":"7.9)"}},{"$f":"[2]ALCOHOL!D193","v":{"v":2.63,"d":"2.6"}},{"$f":"[2]ALCOHOL!E193","v":{"v":1.52,"d":"(1.5 -"}},{"$f":"[2]ALCOHOL!F193","v":{"v":3.9,"d":"3.9)"}},{"$f":"[2]ALCOHOL!J193","v":{"v":0,"d":"0.0"}},{"$f":"[2]ALCOHOL!K193","v":{"v":0,"d":"(0.0"}},{"$f":"[2]ALCOHOL!L193","v":{"v":0,"d":"0.0)"}}]
[null,null,"2005-2009",{"$f":"[2]ALCOHOL!D186","v":{"v":4.95,"d":"5.0"}},{"$f":"[2]ALCOHOL!E186","v":{"v":2.84,"d":"(2.8 -"}},{"$f":"[2]ALCOHOL!F186","v":{"v":7.75,"d":"7.8)"}},{"$f":"[2]ALCOHOL!J186","v":{"v":0,"d":"0.0"}},{"$f":"[2]ALCOHOL!K186","v":{"v":0,"d":"(0.0"}},{"$f":"[2]ALCOHOL!L186","v":{"v":0,"d":"0.0)"}},{"$f":"[2]ALCOHOL!D194","v":1.5},{"$f":"[2]ALCOHOL!E194","v":{"v":0.4,"d":"(0.4 -"}},{"$f":"[2]ALCOHOL!F194","v":{"v":2.91,"d":"2.9)"}},{"$f":"[2]ALCOHOL!J194","v":{"v":0.79,"d":"0.8"}},{"$f":"[2]ALCOHOL!K194","v":{"v":0,"d":"(0.0"}},{"$f":"[2]ALCOHOL!L194","v":{"v":2.37,"d":"2.4)"}}]
["EAST","Slovenia","1980-1984"]
[null,null,"1985-1989"]
[null,null,"1990-1994",{"$f":"[2]ALCOHOL!D286","v":{"v":107.26,"d":"107.3"}},{"$f":"[2]ALCOHOL!E286","v":{"v":101.36,"d":"(101.4 -"}},{"$f":"[2]ALCOHOL!F286","v":{"v":113.09,"d":"113.1)"}},{"$f":"[2]ALCOHOL!J286","v":{"v":18.07,"d":"18.1"}},{"$f":"[2]ALCOHOL!K286","v":{"v":12.46,"d":"(12.5 -"}},{"$f":"[2]ALCOHOL!L286","v":{"v":24.6,"d":"24.6)"}},{"$f":"[2]ALCOHOL!D290","v":{"v":28.64,"d":"28.6"}},{"$f":"[2]ALCOHOL!E290","v":{"v":25.94,"d":"(25.9 -"}},{"$f":"[2]ALCOHOL!F290","v":{"v":31.23,"d":"31.2)"}},{"$f":"[2]ALCOHOL!J290","v":4.1},{"$f":"[2]ALCOHOL!K290","v":{"v":0.67,"d":"(0.7 -"}},{"$f":"[2]ALCOHOL!L290","v":{"v":8.41,"d":"8.4)"}}]
[null,null,"1995-1999"]
[null,null,"2000-2004",{"$f":"[2]ALCOHOL!D288","v":{"v":133.92,"d":"133.9"}},{"$f":"[2]ALCOHOL!E288","v":{"v":125.91,"d":"(125.9 -"}},{"$f":"[2]ALCOHOL!F288","v":{"v":142.35,"d":"142.4)"}},{"$f":"[2]ALCOHOL!J288","v":{"v":24.73,"d":"24.7"}},{"$f":"[2]ALCOHOL!K288","v":{"v":19.78,"d":"(19.8 -"}},{"$f":"[2]ALCOHOL!L288","v":{"v":29.98,"d":"30.0)"}},{"$f":"[2]ALCOHOL!D292","v":{"v":32.13,"d":"32.1"}},{"$f":"[2]ALCOHOL!E292","v":{"v":28.65,"d":"(28.7 -"}},{"$f":"[2]ALCOHOL!F292","v":{"v":35.71,"d":"35.7)"}},{"$f":"[2]ALCOHOL!J292","v":{"v":7.52,"d":"7.5"}},{"$f":"[2]ALCOHOL!K292","v":{"v":4.33,"d":"(4.3 -"}},{"$f":"[2]ALCOHOL!L292","v":{"v":10.94,"d":"10.9)"}}]
[null,null,"2005-2009"]
[null,"Hungary","1980-1984",{"$f":"[2]ALCOHOL!D165","v":{"v":59.29,"d":"59.3"}},{"$f":"[2]ALCOHOL!E165","v":{"v":57.45,"d":"(57.5 -"}},{"$f":"[2]ALCOHOL!F165","v":{"v":61.04,"d":"61.0)"}},{"$f":"[2]ALCOHOL!J165","v":{"v":19.62,"d":"19.6"}},{"$f":"[2]ALCOHOL!K165","v":{"v":16.46,"d":"(16.5 -"}},{"$f":"[2]ALCOHOL!L165","v":{"v":23.04,"d":"23.0)"}},{"$f":"[2]ALCOHOL!D169","v":{"v":13.96,"d":"14.0"}},{"$f":"[2]ALCOHOL!E169","v":{"v":13.23,"d":"(13.2 -"}},{"$f":"[2]ALCOHOL!F169","v":{"v":14.75,"d":"14.8)"}},{"$f":"[2]ALCOHOL!J169","v":{"v":4.66,"d":"4.7"}},{"$f":"[2]ALCOHOL!K169","v":{"v":2,"d":"(2.0 -"}},{"$f":"[2]ALCOHOL!L169","v":{"v":7.82,"d":"7.8)"}}]
[null,null,"1985-1989"]
[null,null,"1990-1994",{"$f":"[2]ALCOHOL!D166","v":{"v":179.06,"d":"179.1"}},{"$f":"[2]ALCOHOL!E166","v":{"v":175.51,"d":"(175.5 -"}},{"$f":"[2]ALCOHOL!F166","v":{"v":182.38,"d":"182.4)"}},{"$f":"[2]ALCOHOL!J166","v":{"v":40.77,"d":"40.8"}},{"$f":"[2]ALCOHOL!K166","v":{"v":36.98,"d":"(37.0 -"}},{"$f":"[2]ALCOHOL!L166","v":{"v":44.44,"d":"44.4)"}},{"$f":"[2]ALCOHOL!D170","v":{"v":50.14,"d":"50.1"}},{"$f":"[2]ALCOHOL!E170","v":{"v":48.47,"d":"(48.5 -"}},{"$f":"[2]ALCOHOL!F170","v":{"v":51.78,"d":"51.8)"}},{"$f":"[2]ALCOHOL!J170","v":{"v":15.78,"d":"15.8"}},{"$f":"[2]ALCOHOL!K170","v":{"v":12.57,"d":"(12.6 -"}},{"$f":"[2]ALCOHOL!L170","v":{"v":19,"d":"19.0)"}}]
[null,null,"1995-1999"]
[null,null,"2000-2004",{"$f":"[2]ALCOHOL!D167","v":{"v":251.08,"d":"251.1"}},{"$f":"[2]ALCOHOL!E167","v":{"v":247.46,"d":"(247.5 -"}},{"$f":"[2]ALCOHOL!F167","v":{"v":255.12,"d":"255.1)"}},{"$f":"[2]ALCOHOL!J167","v":{"v":63.66,"d":"63.7"}},{"$f":"[2]ALCOHOL!K167","v":{"v":59.72,"d":"(59.7 -"}},{"$f":"[2]ALCOHOL!L167","v":{"v":67.68,"d":"67.7)"}},{"$f":"[2]ALCOHOL!D171","v":{"v":64.98,"d":"65.0"}},{"$f":"[2]ALCOHOL!E171","v":{"v":62.91,"d":"(62.9 -"}},{"$f":"[2]ALCOHOL!F171","v":{"v":66.89,"d":"66.9)"}},{"$f":"[2]ALCOHOL!J171","v":{"v":21.64,"d":"21.6"}},{"$f":"[2]ALCOHOL!K171","v":{"v":18.86,"d":"(18.9 -"}},{"$f":"[2]ALCOHOL!L171","v":{"v":24.42,"d":"24.4)"}}]
[null,null,"2005-2009"]
[null,"Czech Republic","1980-1984",{"$f":"[2]ALCOHOLcomp!D37","v":{"v":0.44,"d":"0.4"}},{"$f":"[2]ALCOHOLcomp!E37","v":{"v":0.29,"d":"(0.3 -"}},{"$f":"[2]ALCOHOLcomp!F37","v":{"v":0.58,"d":"0.6)"}},{"$f":"[2]ALCOHOLcomp!J37","v":{"v":0.38,"d":"0.4"}},{"$f":"[2]ALCOHOLcomp!K37","v":{"v":0,"d":"(0.0"}},{"$f":"[2]ALCOHOLcomp!L37","v":{"v":1,"d":"1.0)"}},{"$f":"[2]ALCOHOLcomp!D39","v":{"v":0.11,"d":"0.1"}},{"$f":"[2]ALCOHOLcomp!E39","v":{"v":0.03,"d":"(0.0 -"}},{"$f":"[2]ALCOHOLcomp!F39","v":{"v":0.18,"d":"0.2)"}},{"$f":"[2]ALCOHOLcomp!J39","v":{"v":0,"d":"0.0"}},{"$f":"[2]ALCOHOLcomp!K39","v":{"v":0,"d":"(0.0"}},{"$f":"[2]ALCOHOLcomp!L39","v":{"v":0,"d":"0.0)"}}]
[null,null,"1985-1989"]
[null,null,"1990-1994"]
[null,null,"1995-1999"]
[null,null,"2000-2004",{"$f":"[2]ALCOHOLcomp!D38","v":{"v":4.88,"d":"4.9"}},{"$f":"[2]ALCOHOLcomp!E38","v":{"v":4.49,"d":"(4.5 -"}},{"$f":"[2]ALCOHOLcomp!F38","v":{"v":5.43,"d":"5.4)"}},{"$f":"[2]ALCOHOLcomp!J38","v":{"v":1.14,"d":"1.1"}},{"$f":"[2]ALCOHOLcomp!K38","v":{"v":0.76,"d":"(0.8 -"}},{"$f":"[2]ALCOHOLcomp!L38","v":{"v":1.58,"d":"1.6)"}},{"$f":"[2]ALCOHOLcomp!D40","v":{"v":1.35,"d":"1.4"}},{"$f":"[2]ALCOHOLcomp!E40","v":{"v":1.1,"d":"(1.1 -"}},{"$f":"[2]ALCOHOLcomp!F40","v":{"v":1.57,"d":"1.6)"}},{"$f":"[2]ALCOHOLcomp!J40","v":{"v":0.34,"d":"0.3"}},{"$f":"[2]ALCOHOLcomp!K40","v":{"v":0.13,"d":"(0.1 -"}},{"$f":"[2]ALCOHOLcomp!L40","v":{"v":0.7,"d":"0.7)"}}]
[null,null,"2005-2009"]
[null,"Poland","1980-1984"]
[null,null,"1985-1989"]
[null,null,"1990-1994",{"$f":"[2]ALCOHOLcomp!D260","v":{"v":25.01,"d":"25.0"}},{"$f":"[2]ALCOHOLcomp!E260","v":{"v":24.17,"d":"(24.2 -"}},{"$f":"[2]ALCOHOLcomp!F260","v":{"v":25.88,"d":"25.9)"}},{"$f":"[2]ALCOHOLcomp!J260","v":2.2},{"$f":"[2]ALCOHOLcomp!K260","v":{"v":1.58,"d":"(1.6 -"}},{"$f":"[2]ALCOHOLcomp!L260","v":{"v":2.88,"d":"2.9)"}},{"$f":"[2]ALCOHOLcomp!D262","v":{"v":2.89,"d":"2.9"}},{"$f":"[2]ALCOHOLcomp!E262","v":{"v":2.6,"d":"(2.6 -"}},{"$f":"[2]ALCOHOLcomp!F262","v":{"v":3.21,"d":"3.2)"}},{"$f":"[2]ALCOHOLcomp!J262","v":0.4},{"$f":"[2]ALCOHOLcomp!K262","v":{"v":0.13,"d":"(0.1 -"}},{"$f":"[2]ALCOHOLcomp!L262","v":{"v":0.77,"d":"0.8)"}}]
[null,null,"1995-1999"]
[null,null,"2000-2004",{"$f":"[2]ALCOHOLcomp!D261","v":{"v":16.51,"d":"16.5"}},{"$f":"[2]ALCOHOLcomp!E261","v":{"v":15.77,"d":"(15.8 -"}},{"$f":"[2]ALCOHOLcomp!F261","v":{"v":17.19,"d":"17.2)"}},{"$f":"[2]ALCOHOLcomp!J261","v":{"v":1.85,"d":"1.9"}},{"$f":"[2]ALCOHOLcomp!K261","v":{"v":1.36,"d":"(1.4 -"}},{"$f":"[2]ALCOHOLcomp!L261","v":{"v":2.46,"d":"2.5)"}},{"$f":"[2]ALCOHOLcomp!D263","v":{"v":2.24,"d":"2.2"}},{"$f":"[2]ALCOHOLcomp!E263","v":{"v":1.97,"d":"(2.0 -"}},{"$f":"[2]ALCOHOLcomp!F263","v":{"v":2.56,"d":"2.6)"}},{"$f":"[2]ALCOHOLcomp!J263","v":{"v":0.23,"d":"0.2"}},{"$f":"[2]ALCOHOLcomp!K263","v":{"v":0.06,"d":"(0.1 -"}},{"$f":"[2]ALCOHOLcomp!L263","v":{"v":0.42,"d":"0.4)"}}]
[null,null,"2005-2009"]
[null,"Lithuania","1980-1984"]
[null,null,"1985-1989",{"$f":"[2]ALCOHOLcomp!$D$224","v":{"v":23.81203408071749,"d":"23.8"}},{"$f":"[2]ALCOHOLcomp!$E$224","v":{"v":20.95442582328008,"d":"(21.0 -"}},{"$f":"[2]ALCOHOLcomp!$F$224","v":{"v":26.612925319160592,"d":"26.6)"}},{"$f":"[2]ALCOHOLcomp!$J$224","v":{"v":3.59,"d":"3.6"}},{"$f":"[2]ALCOHOLcomp!$K$224","v":{"v":1.23,"d":"(1.2 -"}},{"$f":"[2]ALCOHOLcomp!$L$224","v":{"v":6.37,"d":"6.4)"}},{"$f":"[2]ALCOHOLcomp!$D$227","v":{"v":6.988237879009815,"d":"7.0"}},{"$f":"[2]ALCOHOLcomp!$E$227","v":{"v":5.302442396313364,"d":"(5.3 -"}},{"$f":"[2]ALCOHOLcomp!$F$227","v":{"v":8.726833374597673,"d":"8.7)"}},{"$f":"[2]ALCOHOLcomp!$J$227","v":{"v":1.7811522633744854,"d":"1.8"}},{"$f":"[2]ALCOHOLcomp!$K$227","v":{"v":0.33019148936170206,"d":"(0.3 -"}},{"$f":"[2]ALCOHOLcomp!$L$227","v":{"v":3.5091964285714288,"d":"3.5)"}}]
[null,null,"1990-1994"]
[null,null,"1995-1999"]
[null,null,"2000-2004",{"$f":"[2]ALCOHOLcomp!D225","v":{"v":112.47,"d":"112.5"}},{"$f":"[2]ALCOHOLcomp!E225","v":{"v":103.39,"d":"(103.4 -"}},{"$f":"[2]ALCOHOLcomp!F225","v":{"v":122.5,"d":"122.5)"}},{"$f":"[2]ALCOHOLcomp!J225","v":{"v":27.69,"d":"27.7"}},{"$f":"[2]ALCOHOLcomp!K225","v":{"v":21.72,"d":"(21.7 -"}},{"$f":"[2]ALCOHOLcomp!L225","v":{"v":33.35,"d":"33.4)"}},{"$f":"[2]ALCOHOLcomp!D228","v":50.7},{"$f":"[2]ALCOHOLcomp!E228","v":{"v":43.42,"d":"(43.4 -"}},{"$f":"[2]ALCOHOLcomp!F228","v":{"v":59.54,"d":"59.5)"}},{"$f":"[2]ALCOHOLcomp!J228","v":{"v":9.69,"d":"9.7"}},{"$f":"[2]ALCOHOLcomp!K228","v":{"v":7.39,"d":"(7.4 -"}},{"$f":"[2]ALCOHOLcomp!L228","v":{"v":11.91,"d":"11.9)"}}]
[null,null,"2005-2009",{"$f":"[2]ALCOHOLcomp!D226","v":162.5},{"$f":"[2]ALCOHOLcomp!E226","v":{"v":148.63,"d":"(148.6 -"}},{"$f":"[2]ALCOHOLcomp!F226","v":{"v":175.6,"d":"175.6)"}},{"$f":"[2]ALCOHOLcomp!J226","v":{"v":43.24,"d":"43.2"}},{"$f":"[2]ALCOHOLcomp!K226","v":{"v":37,"d":"(37.0 -"}},{"$f":"[2]ALCOHOLcomp!L226","v":{"v":49.24,"d":"49.2)"}},{"$f":"[2]ALCOHOLcomp!D229","v":{"v":66.35,"d":"66.4"}},{"$f":"[2]ALCOHOLcomp!E229","v":{"v":55.29,"d":"(55.3 -"}},{"$f":"[2]ALCOHOLcomp!F229","v":{"v":78,"d":"78.0)"}},{"$f":"[2]ALCOHOLcomp!J229","v":11.9},{"$f":"[2]ALCOHOLcomp!K229","v":{"v":9.33,"d":"(9.3 -"}},{"$f":"[2]ALCOHOLcomp!L229","v":{"v":14.55,"d":"14.6)"}}]
[null,"Estonia","1980-1984"]
[null,null,"1985-1989",{"$f":"[2]ALCOHOLcomp!D107","v":{"v":48.55,"d":"48.6"}},{"$f":"[2]ALCOHOLcomp!E107","v":{"v":43.85,"d":"(43.9 -"}},{"$f":"[2]ALCOHOLcomp!F107","v":{"v":54,"d":"54.0)"}},{"$f":"[2]ALCOHOLcomp!J107","v":{"v":15.53,"d":"15.5"}},{"$f":"[2]ALCOHOLcomp!K107","v":{"v":10.75,"d":"(10.8 -"}},{"$f":"[2]ALCOHOLcomp!L107","v":{"v":20.68,"d":"20.7)"}},{"$f":"[2]ALCOHOLcomp!D109","v":{"v":12.54,"d":"12.5"}},{"$f":"[2]ALCOHOLcomp!E109","v":{"v":9.84,"d":"(9.8 -"}},{"$f":"[2]ALCOHOLcomp!F109","v":{"v":15.42,"d":"15.4)"}},{"$f":"[2]ALCOHOLcomp!J109","v":{"v":1.19,"d":"1.2"}},{"$f":"[2]ALCOHOLcomp!K109","v":{"v":0,"d":"(0.0"}},{"$f":"[2]ALCOHOLcomp!L109","v":{"v":2.68,"d":"2.7)"}}]
[null,null,"1990-1994"]
[null,null,"1995-1999"]
[null,null,"2000-2004",{"$f":"[2]ALCOHOLcomp!D108","v":{"v":125.39,"d":"125.4"}},{"$f":"[2]ALCOHOLcomp!E108","v":{"v":113.4,"d":"(113.4 -"}},{"$f":"[2]ALCOHOLcomp!F108","v":{"v":137.18,"d":"137.2)"}},{"$f":"[2]ALCOHOLcomp!J108","v":{"v":31.34,"d":"31.3"}},{"$f":"[2]ALCOHOLcomp!K108","v":{"v":24.37,"d":"(24.4 -"}},{"$f":"[2]ALCOHOLcomp!L108","v":{"v":38.46,"d":"38.5)"}},{"$f":"[2]ALCOHOLcomp!D110","v":{"v":59.83,"d":"59.8"}},{"$f":"[2]ALCOHOLcomp!E110","v":{"v":49.15,"d":"(49.2 -"}},{"$f":"[2]ALCOHOLcomp!F110","v":{"v":71.45,"d":"71.5)"}},{"$f":"[2]ALCOHOLcomp!J110","v":{"v":6.72,"d":"6.7"}},{"$f":"[2]ALCOHOLcomp!K110","v":{"v":4.29,"d":"(4.3 -"}},{"$f":"[2]ALCOHOLcomp!L110","v":{"v":9.34,"d":"9.3)"}}]
[null,null,"2005-2009"]
[]
[null,"* different codes of alcohol-related causes; or some specific alcohol-related causes are missing"]
[null,"# age range 40–79 years"]
[null,"NA = not available; regression gives 'infinite' value"]
[]
["In the Czech Republic, only mortality due to alcohol poisoning was included in this trend table, because this is the only cause of death comparable between multiple time points. Note that the number of observations in the first period is very small and it shouldn't be included "]
["In Estonia, only mortality due to liver cirrhosis and alcohol poisoning was included in this trend table, because these are the only causes of death comparable between multiple time points. "]
["In Poland, only mortality due to alcohol poisoning was included in this trend table, because this is the only cause of death comparable between multiple time points. Note that the number of observations in the first period is very small and it shouldn't be included "]
["In Lithuania, only the last 2 periods were included, because these were the only periods that contained all 4 separate alcohol-related causes of death and were comparable over time.\\"]
[]
["JOHAN: Engeland&Wales komt overeen met England&Wales2 in de jaren 80-90. Daarom voor Engeland&Wales de jaren 80-90 weggelaten (dat maakt het maken van de grafiek makkelijker)."]

{"sheet":"Figure 2b","index":10,"n_rows":137,"n_cols":15,"rows_kept":137,"merged":[[4,3,4,8],[4,9,4,14],[5,3,5,5],[5,6,5,8],[5,9,5,11],[5,12,5,14]]}
["Web appendix figure A2. Trends in mortality from alcohol-related causes among low- and high-educated women, ca. 1980-2010, by country"]
["the number of deaths is smaller than 5"]
[]
[null,"EDUCATION"]
[{"$nulls":3},"Men",{"$nulls":5},"Women"]
[{"$nulls":3},"low education",null,null,"high education",null,null,"low education",null,null,"high education"]
[null,"Country","Period","ASMR","95%-CI",null,"ASMR","95%-CI",null,"ASMR","95%-CI",null,"ASMR","95%-CI"]
["NORTH","Finland","1980-1984",{"$f":"[2]ALCOHOL!D120","v":{"v":57.56,"d":"57.6"}},{"$f":"[2]ALCOHOL!E120","v":{"v":55.01,"d":"(55.0 -"}},{"$f":"[2]ALCOHOL!F120","v":{"v":60.17,"d":"60.2)"}},{"$f":"[2]ALCOHOL!J120","v":{"v":30.79,"d":"30.8"}},{"$f":"[2]ALCOHOL!K120","v":{"v":26.54,"d":"(26.5 -"}},{"$f":"[2]ALCOHOL!L120","v":{"v":35.06,"d":"35.1)"}},{"$f":"[2]ALCOHOL!D128","v":{"v":8.39,"d":"8.4"}},{"$f":"[2]ALCOHOL!E128","v":{"v":7.43,"d":"(7.4 -"}},{"$f":"[2]ALCOHOL!F128","v":{"v":9.3,"d":"9.3)"}},{"$f":"[2]ALCOHOL!J128","v":{"v":4.79,"d":"4.8"}},{"$f":"[2]ALCOHOL!K128","v":{"v":3.17,"d":"(3.2 -"}},{"$f":"[2]ALCOHOL!L128","v":{"v":6.6,"d":"6.6)"}}]
[null,null,"1985-1989",{"$f":"[2]ALCOHOL!D121","v":{"v":76.21,"d":"76.2"}},{"$f":"[2]ALCOHOL!E121","v":{"v":73.09,"d":"(73.1 -"}},{"$f":"[2]ALCOHOL!F121","v":{"v":79.25,"d":"79.3)"}},{"$f":"[2]ALCOHOL!J121","v":{"v":42.74,"d":"42.7"}},{"$f":"[2]ALCOHOL!K121","v":{"v":38,"d":"(38.0 -"}},{"$f":"[2]ALCOHOL!L121","v":{"v":47.43,"d":"47.4)"}},{"$f":"[2]ALCOHOL!D129","v":14.4},{"$f":"[2]ALCOHOL!E129","v":{"v":13.03,"d":"(13.0 -"}},{"$f":"[2]ALCOHOL!F129","v":{"v":15.9,"d":"15.9)"}},{"$f":"[2]ALCOHOL!J129","v":{"v":9.34,"d":"9.3"}},{"$f":"[2]ALCOHOL!K129","v":{"v":7.23,"d":"(7.2 -"}},{"$f":"[2]ALCOHOL!L129","v":{"v":11.74,"d":"11.7)"}}]
[null,null,"1990-1994",{"$f":"[2]ALCOHOL!D122","v":{"v":81.02,"d":"81.0"}},{"$f":"[2]ALCOHOL!E122","v":{"v":77.74,"d":"(77.7 -"}},{"$f":"[2]ALCOHOL!F122","v":{"v":84.55,"d":"84.6)"}},{"$f":"[2]ALCOHOL!J122","v":{"v":35.65,"d":"35.7"}},{"$f":"[2]ALCOHOL!K122","v":{"v":32.1,"d":"(32.1 -"}},{"$f":"[2]ALCOHOL!L122","v":{"v":39.28,"d":"39.3)"}},{"$f":"[2]ALCOHOL!D130","v":{"v":17.28,"d":"17.3"}},{"$f":"[2]ALCOHOL!E130","v":{"v":15.84,"d":"(15.8 -"}},{"$f":"[2]ALCOHOL!F130","v":{"v":18.74,"d":"18.7)"}},{"$f":"[2]ALCOHOL!J130","v":{"v":8.24,"d":"8.2"}},{"$f":"[2]ALCOHOL!K130","v":{"v":6.31,"d":"(6.3 -"}},{"$f":"[2]ALCOHOL!L130","v":{"v":10.19,"d":"10.2)"}}]
[null,null,"1995-1999",{"$f":"[2]ALCOHOL!D123","v":{"v":101.69,"d":"101.7"}},{"$f":"[2]ALCOHOL!E123","v":{"v":97.82,"d":"(97.8 -"}},{"$f":"[2]ALCOHOL!F123","v":{"v":105.86,"d":"105.9)"}},{"$f":"[2]ALCOHOL!J123","v":{"v":37.38,"d":"37.4"}},{"$f":"[2]ALCOHOL!K123","v":{"v":34.28,"d":"(34.3 -"}},{"$f":"[2]ALCOHOL!L123","v":{"v":40.61,"d":"40.6)"}},{"$f":"[2]ALCOHOL!D131","v":{"v":25.31,"d":"25.3"}},{"$f":"[2]ALCOHOL!E131","v":{"v":23.1,"d":"(23.1 -"}},{"$f":"[2]ALCOHOL!F131","v":{"v":27.66,"d":"27.7)"}},{"$f":"[2]ALCOHOL!J131","v":{"v":11.35,"d":"11.4"}},{"$f":"[2]ALCOHOL!K131","v":{"v":9.33,"d":"(9.3 -"}},{"$f":"[2]ALCOHOL!L131","v":{"v":13.47,"d":"13.5)"}}]
[null,null,"2000-2004",{"$f":"[2]ALCOHOL!D124","v":{"v":113.26,"d":"113.3"}},{"$f":"[2]ALCOHOL!E124","v":{"v":109.11,"d":"(109.1 -"}},{"$f":"[2]ALCOHOL!F124","v":{"v":117.9,"d":"117.9)"}},{"$f":"[2]ALCOHOL!J124","v":{"v":44.76,"d":"44.8"}},{"$f":"[2]ALCOHOL!K124","v":{"v":41.8,"d":"(41.8 -"}},{"$f":"[2]ALCOHOL!L124","v":{"v":48.13,"d":"48.1)"}},{"$f":"[2]ALCOHOL!D132","v":36.1},{"$f":"[2]ALCOHOL!E132","v":{"v":33.32,"d":"(33.3 -"}},{"$f":"[2]ALCOHOL!F132","v":{"v":39.13,"d":"39.1)"}},{"$f":"[2]ALCOHOL!J132","v":{"v":11.84,"d":"11.8"}},{"$f":"[2]ALCOHOL!K132","v":{"v":10.21,"d":"(10.2 -"}},{"$f":"[2]ALCOHOL!L132","v":{"v":13.45,"d":"13.5)"}}]
[null,null,"2005-2009",{"$f":"[2]ALCOHOL!D125","v":{"v":144.61,"d":"144.6"}},{"$f":"[2]ALCOHOL!E125","v":{"v":139.32,"d":"(139.3 -"}},{"$f":"[2]ALCOHOL!F125","v":{"v":150.5,"d":"150.5)"}},{"$f":"[2]ALCOHOL!J125","v":{"v":48.61,"d":"48.6"}},{"$f":"[2]ALCOHOL!K125","v":{"v":45.43,"d":"(45.4 -"}},{"$f":"[2]ALCOHOL!L125","v":{"v":51.54,"d":"51.5)"}},{"$f":"[2]ALCOHOL!D133","v":{"v":49.97,"d":"50.0"}},{"$f":"[2]ALCOHOL!E133","v":{"v":46.02,"d":"(46.0 -"}},{"$f":"[2]ALCOHOL!F133","v":{"v":54.09,"d":"54.1)"}},{"$f":"[2]ALCOHOL!J133","v":{"v":13.79,"d":"13.8"}},{"$f":"[2]ALCOHOL!K133","v":{"v":12.16,"d":"(12.2 -"}},{"$f":"[2]ALCOHOL!L133","v":{"v":15.35,"d":"15.4)"}}]
[null,"Sweden","1980-1984"]
[null,null,"1985-1989"]
[null,null,"1990-1994",{"$f":"[2]ALCOHOL!D338","v":{"v":35.13,"d":"35.1"}},{"$f":"[2]ALCOHOL!E338","v":{"v":33.05,"d":"(33.1 -"}},{"$f":"[2]ALCOHOL!F338","v":{"v":37.27,"d":"37.3)"}},{"$f":"[2]ALCOHOL!J338","v":{"v":8.68,"d":"8.7"}},{"$f":"[2]ALCOHOL!K338","v":{"v":7.06,"d":"(7.1 -"}},{"$f":"[2]ALCOHOL!L338","v":{"v":10.38,"d":"10.4)"}},{"$f":"[2]ALCOHOL!D342","v":{"v":7.99,"d":"8.0"}},{"$f":"[2]ALCOHOL!E342","v":{"v":6.94,"d":"(6.9 -"}},{"$f":"[2]ALCOHOL!F342","v":{"v":9,"d":"9.0)"}},{"$f":"[2]ALCOHOL!J342","v":{"v":2.75,"d":"2.8"}},{"$f":"[2]ALCOHOL!K342","v":{"v":1.79,"d":"(1.8 -"}},{"$f":"[2]ALCOHOL!L342","v":{"v":3.71,"d":"3.7)"}}]
[null,null,"1995-1999",{"$f":"[2]ALCOHOL!D339","v":{"v":34.86,"d":"34.9"}},{"$f":"[2]ALCOHOL!E339","v":{"v":32.93,"d":"(32.9 -"}},{"$f":"[2]ALCOHOL!F339","v":{"v":36.75,"d":"36.8)"}},{"$f":"[2]ALCOHOL!J339","v":{"v":9.91,"d":"9.9"}},{"$f":"[2]ALCOHOL!K339","v":{"v":8.53,"d":"(8.5 -"}},{"$f":"[2]ALCOHOL!L339","v":{"v":11.36,"d":"11.4)"}},{"$f":"[2]ALCOHOL!D343","v":{"v":9.45,"d":"9.5"}},{"$f":"[2]ALCOHOL!E343","v":{"v":8.34,"d":"(8.3 -"}},{"$f":"[2]ALCOHOL!F343","v":{"v":10.51,"d":"10.5)"}},{"$f":"[2]ALCOHOL!J343","v":{"v":2.99,"d":"3.0"}},{"$f":"[2]ALCOHOL!K343","v":{"v":2.26,"d":"(2.3 -"}},{"$f":"[2]ALCOHOL!L343","v":{"v":3.77,"d":"3.8)"}}]
[null,null,"2000-2004",{"$f":"[2]ALCOHOL!D340","v":{"v":37.52,"d":"37.5"}},{"$f":"[2]ALCOHOL!E340","v":{"v":35.33,"d":"(35.3 -"}},{"$f":"[2]ALCOHOL!F340","v":{"v":39.66,"d":"39.7)"}},{"$f":"[2]ALCOHOL!J340","v":{"v":9.81,"d":"9.8"}},{"$f":"[2]ALCOHOL!K340","v":{"v":8.58,"d":"(8.6 -"}},{"$f":"[2]ALCOHOL!L340","v":{"v":11.2,"d":"11.2)"}},{"$f":"[2]ALCOHOL!D344","v":{"v":11.48,"d":"11.5"}},{"$f":"[2]ALCOHOL!E344","v":{"v":10.35,"d":"(10.4 -"}},{"$f":"[2]ALCOHOL!F344","v":{"v":12.76,"d":"12.8)"}},{"$f":"[2]ALCOHOL!J344","v":{"v":3.92,"d":"3.9"}},{"$f":"[2]ALCOHOL!K344","v":{"v":3.13,"d":"(3.1 -"}},{"$f":"[2]ALCOHOL!L344","v":{"v":4.77,"d":"4.8)"}}]
[null,null,"2005-2009",{"$f":"[2]ALCOHOL!D341","v":{"v":35.36,"d":"35.4"}},{"$f":"[2]ALCOHOL!E341","v":{"v":32.86,"d":"(32.9 -"}},{"$f":"[2]ALCOHOL!F341","v":{"v":37.79,"d":"37.8)"}},{"$f":"[2]ALCOHOL!J341","v":{"v":10.06,"d":"10.1"}},{"$f":"[2]ALCOHOL!K341","v":{"v":8.71,"d":"(8.7 -"}},{"$f":"[2]ALCOHOL!L341","v":{"v":11.29,"d":"11.3)"}},{"$f":"[2]ALCOHOL!D345","v":{"v":12.11,"d":"12.1"}},{"$f":"[2]ALCOHOL!E345","v":{"v":10.67,"d":"(10.7 -"}},{"$f":"[2]ALCOHOL!F345","v":{"v":13.79,"d":"13.8)"}},{"$f":"[2]ALCOHOL!J345","v":{"v":3.67,"d":"3.7"}},{"$f":"[2]ALCOHOL!K345","v":{"v":2.95,"d":"(3.0 -"}},{"$f":"[2]ALCOHOL!L345","v":{"v":4.46,"d":"4.5)"}}]
[null,"Norway","1980-1984",{"$f":"[2]ALCOHOL!D239","v":{"v":45.29,"d":"45.3"}},{"$f":"[2]ALCOHOL!E239","v":{"v":41.93,"d":"(41.9 -"}},{"$f":"[2]ALCOHOL!F239","v":{"v":49.45,"d":"49.5)"}},{"$f":"[2]ALCOHOL!J239","v":{"v":16.51,"d":"16.5"}},{"$f":"[2]ALCOHOL!K239","v":{"v":12.41,"d":"(12.4 -"}},{"$f":"[2]ALCOHOL!L239","v":{"v":20.84,"d":"20.8)"}},{"$f":"[2]ALCOHOL!D247","v":{"v":10.42,"d":"10.4"}},{"$f":"[2]ALCOHOL!E247","v":{"v":8.96,"d":"(9.0 -"}},{"$f":"[2]ALCOHOL!F247","v":{"v":11.96,"d":"12.0)"}},{"$f":"[2]ALCOHOL!J247","v":{"v":4.63,"d":"4.6"}},{"$f":"[2]ALCOHOL!K247","v":{"v":2.79,"d":"(2.8 -"}},{"$f":"[2]ALCOHOL!L247","v":{"v":7.31,"d":"7.3)"}}]
[null,null,"1985-1989",{"$f":"[2]ALCOHOL!D240","v":{"v":56.27,"d":"56.3"}},{"$f":"[2]ALCOHOL!E240","v":{"v":50.94,"d":"(50.9 -"}},{"$f":"[2]ALCOHOL!F240","v":{"v":60.83,"d":"60.8)"}},{"$f":"[2]ALCOHOL!J240","v":{"v":17.36,"d":"17.4"}},{"$f":"[2]ALCOHOL!K240","v":{"v":13.34,"d":"(13.3 -"}},{"$f":"[2]ALCOHOL!L240","v":{"v":21.82,"d":"21.8)"}},{"$f":"[2]ALCOHOL!D248","v":{"v":11.29,"d":"11.3"}},{"$f":"[2]ALCOHOL!E248","v":{"v":9.22,"d":"(9.2 -"}},{"$f":"[2]ALCOHOL!F248","v":{"v":13.32,"d":"13.3)"}},{"$f":"[2]ALCOHOL!J248","v":{"v":5.77,"d":"5.8"}},{"$f":"[2]ALCOHOL!K248","v":{"v":3.22,"d":"(3.2 -"}},{"$f":"[2]ALCOHOL!L248","v":{"v":8.39,"d":"8.4)"}}]
[null,null,"1990-1994",{"$f":"[2]ALCOHOL!D241","v":{"v":55.24,"d":"55.2"}},{"$f":"[2]ALCOHOL!E241","v":{"v":50.9,"d":"(50.9 -"}},{"$f":"[2]ALCOHOL!F241","v":{"v":59.89,"d":"59.9)"}},{"$f":"[2]ALCOHOL!J241","v":{"v":15.75,"d":"15.8"}},{"$f":"[2]ALCOHOL!K241","v":{"v":12.82,"d":"(12.8 -"}},{"$f":"[2]ALCOHOL!L241","v":{"v":18.53,"d":"18.5)"}},{"$f":"[2]ALCOHOL!D249","v":{"v":13.45,"d":"13.5"}},{"$f":"[2]ALCOHOL!E249","v":{"v":11.48,"d":"(11.5 -"}},{"$f":"[2]ALCOHOL!F249","v":{"v":15.69,"d":"15.7)"}},{"$f":"[2]ALCOHOL!J249","v":{"v":5.34,"d":"5.3"}},{"$f":"[2]ALCOHOL!K249","v":{"v":3.36,"d":"(3.4 -"}},{"$f":"[2]ALCOHOL!L249","v":{"v":7.09,"d":"7.1)"}}]
[null,null,"1995-1999",{"$f":"[2]ALCOHOL!D242","v":{"v":59.97,"d":"60.0"}},{"$f":"[2]ALCOHOL!E242","v":{"v":55.96,"d":"(56.0 -"}},{"$f":"[2]ALCOHOL!F242","v":{"v":66.09,"d":"66.1)"}},{"$f":"[2]ALCOHOL!J242","v":{"v":15.66,"d":"15.7"}},{"$f":"[2]ALCOHOL!K242","v":{"v":12.99,"d":"(13.0 -"}},{"$f":"[2]ALCOHOL!L242","v":{"v":17.82,"d":"17.8)"}},{"$f":"[2]ALCOHOL!D250","v":{"v":13.08,"d":"13.1"}},{"$f":"[2]ALCOHOL!E250","v":{"v":10.69,"d":"(10.7 -"}},{"$f":"[2]ALCOHOL!F250","v":{"v":15.88,"d":"15.9)"}},{"$f":"[2]ALCOHOL!J250","v":{"v":3.53,"d":"3.5"}},{"$f":"[2]ALCOHOL!K250","v":{"v":2.13,"d":"(2.1 -"}},{"$f":"[2]ALCOHOL!L250","v":{"v":5.03,"d":"5.0)"}}]
[null,null,"2000-2004",{"$f":"[2]ALCOHOL!D243","v":{"v":50.03,"d":"50.0"}},{"$f":"[2]ALCOHOL!E243","v":{"v":45.98,"d":"(46.0 -"}},{"$f":"[2]ALCOHOL!F243","v":{"v":53.72,"d":"53.7)"}},{"$f":"[2]ALCOHOL!J243","v":{"v":14.24,"d":"14.2"}},{"$f":"[2]ALCOHOL!K243","v":{"v":11.86,"d":"(11.9 -"}},{"$f":"[2]ALCOHOL!L243","v":{"v":16.84,"d":"16.8)"}},{"$f":"[2]ALCOHOL!D251","v":{"v":14.41,"d":"14.4"}},{"$f":"[2]ALCOHOL!E251","v":{"v":12.35,"d":"(12.4 -"}},{"$f":"[2]ALCOHOL!F251","v":{"v":16.18,"d":"16.2)"}},{"$f":"[2]ALCOHOL!J251","v":{"v":3.86,"d":"3.9"}},{"$f":"[2]ALCOHOL!K251","v":{"v":2.37,"d":"(2.4 -"}},{"$f":"[2]ALCOHOL!L251","v":{"v":5.45,"d":"5.5)"}}]
[null,null,"2005-2009",{"$f":"[2]ALCOHOL!D244","v":{"v":47.16,"d":"47.2"}},{"$f":"[2]ALCOHOL!E244","v":{"v":41.67,"d":"(41.7 -"}},{"$f":"[2]ALCOHOL!F244","v":{"v":53.99,"d":"54.0)"}},{"$f":"[2]ALCOHOL!J244","v":{"v":11.87,"d":"11.9"}},{"$f":"[2]ALCOHOL!K244","v":{"v":9.38,"d":"(9.4 -"}},{"$f":"[2]ALCOHOL!L244","v":{"v":15.22,"d":"15.2)"}},{"$f":"[2]ALCOHOL!D252","v":{"v":15.28,"d":"15.3"}},{"$f":"[2]ALCOHOL!E252","v":{"v":12.51,"d":"(12.5 -"}},{"$f":"[2]ALCOHOL!F252","v":{"v":17.95,"d":"18.0)"}},{"$f":"[2]ALCOHOL!J252","v":{"v":4.63,"d":"4.6"}},{"$f":"[2]ALCOHOL!K252","v":{"v":3.34,"d":"(3.3 -"}},{"$f":"[2]ALCOHOL!L252","v":{"v":6.32,"d":"6.3)"}}]
[null,"Denmark","1980-1984"]
[null,null,"1985-1989"]
[null,null,"1990-1994",{"$f":"[2]ALCOHOL!D48","v":{"v":65.38,"d":"65.4"}},{"$f":"[2]ALCOHOL!E48","v":{"v":62.28,"d":"(62.3 -"}},{"$f":"[2]ALCOHOL!F48","v":{"v":68.78,"d":"68.8)"}},{"$f":"[2]ALCOHOL!J48","v":{"v":25.97,"d":"26.0"}},{"$f":"[2]ALCOHOL!K48","v":{"v":22.62,"d":"(22.6 -"}},{"$f":"[2]ALCOHOL!L48","v":{"v":29.41,"d":"29.4)"}},{"$f":"[2]ALCOHOL!D51","v":{"v":22.51,"d":"22.5"}},{"$f":"[2]ALCOHOL!E51","v":{"v":20.76,"d":"(20.8 -"}},{"$f":"[2]ALCOHOL!F51","v":{"v":24.13,"d":"24.1)"}},{"$f":"[2]ALCOHOL!J51","v":{"v":16.58,"d":"16.6"}},{"$f":"[2]ALCOHOL!K51","v":{"v":9.61,"d":"(9.6 -"}},{"$f":"[2]ALCOHOL!L51","v":{"v":26.18,"d":"26.2)"}}]
[null,null,"1995-1999",{"$f":"[2]ALCOHOL!D49","v":{"v":76.55,"d":"76.6"}},{"$f":"[2]ALCOHOL!E49","v":{"v":73.11,"d":"(73.1 -"}},{"$f":"[2]ALCOHOL!F49","v":{"v":80.65,"d":"80.7)"}},{"$f":"[2]ALCOHOL!J49","v":{"v":35.28,"d":"35.3"}},{"$f":"[2]ALCOHOL!K49","v":{"v":30.09,"d":"(30.1 -"}},{"$f":"[2]ALCOHOL!L49","v":{"v":42.74,"d":"42.7)"}},{"$f":"[2]ALCOHOL!D52","v":{"v":27.83,"d":"27.8"}},{"$f":"[2]ALCOHOL!E52","v":{"v":25.91,"d":"(25.9 -"}},{"$f":"[2]ALCOHOL!F52","v":{"v":29.76,"d":"29.8)"}},{"$f":"[2]ALCOHOL!J52","v":{"v":13.34,"d":"13.3"}},{"$f":"[2]ALCOHOL!K52","v":{"v":10.92,"d":"(10.9 -"}},{"$f":"[2]ALCOHOL!L52","v":{"v":15.9,"d":"15.9)"}}]
[null,null,"2000-2004",{"$f":"[2]ALCOHOL!D50","v":{"v":106.71,"d":"106.7"}},{"$f":"[2]ALCOHOL!E50","v":{"v":102.34,"d":"(102.3 -"}},{"$f":"[2]ALCOHOL!F50","v":{"v":110.83,"d":"110.8)"}},{"$f":"[2]ALCOHOL!J50","v":{"v":37.12,"d":"37.1"}},{"$f":"[2]ALCOHOL!K50","v":{"v":33.84,"d":"(33.8 -"}},{"$f":"[2]ALCOHOL!L50","v":{"v":40.61,"d":"40.6)"}},{"$f":"[2]ALCOHOL!D53","v":{"v":36.52,"d":"36.5"}},{"$f":"[2]ALCOHOL!E53","v":{"v":34.29,"d":"(34.3 -"}},{"$f":"[2]ALCOHOL!F53","v":{"v":38.87,"d":"38.9)"}},{"$f":"[2]ALCOHOL!J53","v":{"v":15.44,"d":"15.4"}},{"$f":"[2]ALCOHOL!K53","v":{"v":13.29,"d":"(13.3 -"}},{"$f":"[2]ALCOHOL!L53","v":{"v":17.97,"d":"18.0)"}}]
[null,null,"2005-2009"]
["WEST","Scotland","1980-1984"]
[null,null,"1985-1989"]
[null,null,"1990-1994",{"$f":"[2]ALCOHOL!D271","v":11.7},{"$f":"[2]ALCOHOL!E271","v":{"v":7.78,"d":"(7.8 -"}},"-"]
[null,null,"1995-1999",{"$f":"[2]ALCOHOL!D272","v":{"v":24.42,"d":"24.4"}},{"$f":"[2]ALCOHOL!E272","v":{"v":18.96,"d":"(19.0 -"}},{"$f":"[2]ALCOHOL!F272","v":{"v":30.83,"d":"30.8)"}},{"$f":"[2]ALCOHOL!J272","v":{"v":15.13,"d":"15.1"}},{"$f":"[2]ALCOHOL!K272","v":{"v":0,"d":"(0.0"}},{"$f":"[2]ALCOHOL!L272","v":{"v":35.5,"d":"35.5)"}}]
[null,null,"2000-2004",{"$f":"[2]ALCOHOL!D273","v":{"v":64.22,"d":"64.2"}},{"$f":"[2]ALCOHOL!E273","v":{"v":52.4,"d":"(52.4 -"}},{"$f":"[2]ALCOHOL!F273","v":{"v":76.42,"d":"76.4)"}},{"$f":"[2]ALCOHOL!J273","v":{"v":24.29,"d":"24.3"}},{"$f":"[2]ALCOHOL!K273","v":{"v":13.48,"d":"(13.5 -"}},{"$f":"[2]ALCOHOL!L273","v":{"v":36.69,"d":"36.7)"}},{"$f":"[2]ALCOHOL!D277","v":{"v":25.54,"d":"25.5"}},{"$f":"[2]ALCOHOL!E277","v":{"v":18.8,"d":"(18.8 -"}},{"$f":"[2]ALCOHOL!F277","v":{"v":33.03,"d":"33.0)"}},{"$f":"[2]ALCOHOL!J277","v":{"v":11.93,"d":"11.9"}},{"$f":"[2]ALCOHOL!K277","v":{"v":4.37,"d":"(4.4 -"}},{"$f":"[2]ALCOHOL!L277","v":{"v":21.18,"d":"21.2)"}}]
[null,null,"2005-2009",{"$f":"[2]ALCOHOL!D274","v":{"v":47.12,"d":"47.1"}},{"$f":"[2]ALCOHOL!E274","v":{"v":36.91,"d":"(36.9 -"}},{"$f":"[2]ALCOHOL!F274","v":{"v":57.56,"d":"57.6)"}},{"$f":"[2]ALCOHOL!J274","v":{"v":30.95,"d":"31.0"}},{"$f":"[2]ALCOHOL!K274","v":{"v":18.53,"d":"(18.5 -"}},{"$f":"[2]ALCOHOL!L274","v":{"v":45.34,"d":"45.3)"}},{"$f":"[2]ALCOHOL!D278","v":20.6},{"$f":"[2]ALCOHOL!E278","v":{"v":13.76,"d":"(13.8 -"}},{"$f":"[2]ALCOHOL!F278","v":{"v":27.74,"d":"27.7)"}},{"$f":"[2]ALCOHOL!J278","v":{"v":13.25,"d":"13.3"}},{"$f":"[2]ALCOHOL!K278","v":{"v":5.68,"d":"(5.7 -"}},{"$f":"[2]ALCOHOL!L278","v":{"v":22.4,"d":"22.4)"}}]
[null,"England & Wales2","1980-1984",{"$f":"[2]ALCOHOL!D86","v":5.2},{"$f":"[2]ALCOHOL!E86","v":{"v":3.41,"d":"(3.4 -"}},{"$f":"[2]ALCOHOL!F86","v":{"v":7.19,"d":"7.2)"}},{"$f":"[2]ALCOHOL!J86","v":{"v":5.79,"d":"5.8"}},{"$f":"[2]ALCOHOL!K86","v":{"v":1.18,"d":"(1.2 -"}},{"$f":"[2]ALCOHOL!L86","v":{"v":12.56,"d":"12.6)"}},{"$f":"[2]ALCOHOL!D94","v":{"v":2.64,"d":"2.6"}},{"$f":"[2]ALCOHOL!E94","v":{"v":1.35,"d":"(1.4 -"}},{"$f":"[2]ALCOHOL!F94","v":{"v":4.05,"d":"4.1)"}},{"$f":"[2]ALCOHOL!J94","v":{"v":2.89,"d":"2.9"}},{"$f":"[2]ALCOHOL!K94","v":{"v":0,"d":"(0.0"}},{"$f":"[2]ALCOHOL!L94","v":{"v":8.68,"d":"8.7)"}}]
[null,null,"1985-1989",{"$f":"[2]ALCOHOL!D87","v":{"v":6.27,"d":"6.3"}},{"$f":"[2]ALCOHOL!E87","v":{"v":4.22,"d":"(4.2 -"}},{"$f":"[2]ALCOHOL!F87","v":{"v":8.34,"d":"8.3)"}},{"$f":"[2]ALCOHOL!J87","v":{"v":6.95,"d":"7.0"}},{"$f":"[2]ALCOHOL!K87","v":{"v":1.63,"d":"(1.6 -"}},{"$f":"[2]ALCOHOL!L87","v":{"v":13.68,"d":"13.7)"}},{"$f":"[2]ALCOHOL!D95","v":{"v":3.66,"d":"3.7"}},{"$f":"[2]ALCOHOL!E95","v":{"v":2.12,"d":"(2.1 -"}},{"$f":"[2]ALCOHOL!F95","v":{"v":5.42,"d":"5.4)"}},{"$f":"[2]ALCOHOL!J95","v":{"v":4.36,"d":"4.4"}},{"$f":"[2]ALCOHOL!K95","v":{"v":0,"d":"(0.0"}},{"$f":"[2]ALCOHOL!L95","v":{"v":12.43,"d":"12.4)"}}]
[null,null,"1990-1994",{"$f":"[2]ALCOHOL!D88","v":{"v":8.01,"d":"8.0"}},{"$f":"[2]ALCOHOL!E88","v":{"v":5.52,"d":"(5.5 -"}},{"$f":"[2]ALCOHOL!F88","v":{"v":10.59,"d":"10.6)"}},{"$f":"[2]ALCOHOL!J88","v":{"v":5.92,"d":"5.9"}},{"$f":"[2]ALCOHOL!K88","v":{"v":1.44,"d":"(1.4 -"}},{"$f":"[2]ALCOHOL!L88","v":{"v":11.17,"d":"11.2)"}},{"$f":"[2]ALCOHOL!D96","v":{"v":5.61,"d":"5.6"}},{"$f":"[2]ALCOHOL!E96","v":{"v":3.74,"d":"(3.7 -"}},{"$f":"[2]ALCOHOL!F96","v":{"v":7.65,"d":"7.7)"}},{"$f":"[2]ALCOHOL!J96","v":{"v":6.16,"d":"6.2"}},{"$f":"[2]ALCOHOL!K96","v":{"v":1.57,"d":"(1.6 -"}},{"$f":"[2]ALCOHOL!L96","v":{"v":12.26,"d":"12.3)"}}]
[null,null,"1995-1999",{"$f":"[2]ALCOHOL!D89","v":{"v":14.72,"d":"14.7"}},{"$f":"[2]ALCOHOL!E89","v":{"v":11.22,"d":"(11.2 -"}},{"$f":"[2]ALCOHOL!F89","v":{"v":18.76,"d":"18.8)"}},{"$f":"[2]ALCOHOL!J89","v":{"v":13.11,"d":"13.1"}},{"$f":"[2]ALCOHOL!K89","v":{"v":7.39,"d":"(7.4 -"}},{"$f":"[2]ALCOHOL!L89","v":{"v":20.39,"d":"20.4)"}},{"$f":"[2]ALCOHOL!D97","v":{"v":8.34,"d":"8.3"}},{"$f":"[2]ALCOHOL!E97","v":{"v":5.99,"d":"(6.0 -"}},{"$f":"[2]ALCOHOL!F97","v":{"v":11.06,"d":"11.1)"}},{"$f":"[2]ALCOHOL!J97","v":7.1},{"$f":"[2]ALCOHOL!K97","v":{"v":2.23,"d":"(2.2 -"}},{"$f":"[2]ALCOHOL!L97","v":{"v":13.21,"d":"13.2)"}}]
[null,null,"2000-2004",{"$f":"[2]ALCOHOL!D90","v":{"v":19.55,"d":"19.6"}},{"$f":"[2]ALCOHOL!E90","v":{"v":15.72,"d":"(15.7 -"}},{"$f":"[2]ALCOHOL!F90","v":{"v":23.9,"d":"23.9)"}},{"$f":"[2]ALCOHOL!J90","v":{"v":11.88,"d":"11.9"}},{"$f":"[2]ALCOHOL!K90","v":{"v":6.06,"d":"(6.1 -"}},{"$f":"[2]ALCOHOL!L90","v":{"v":18.79,"d":"18.8)"}},{"$f":"[2]ALCOHOL!D98","v":{"v":9.35,"d":"9.4"}},{"$f":"[2]ALCOHOL!E98","v":{"v":6.86,"d":"(6.9 -"}},{"$f":"[2]ALCOHOL!F98","v":{"v":11.88,"d":"11.9)"}},{"$f":"[2]ALCOHOL!J98","v":{"v":7.88,"d":"7.9"}},{"$f":"[2]ALCOHOL!K98","v":{"v":3.33,"d":"(3.3 -"}},{"$f":"[2]ALCOHOL!L98","v":{"v":13.32,"d":"13.3)"}}]
[null,null,"2005-2009",{"$f":"[2]ALCOHOL!D91","v":23.1},{"$f":"[2]ALCOHOL!E91","v":{"v":18.17,"d":"(18.2 -"}},{"$f":"[2]ALCOHOL!F91","v":{"v":28.76,"d":"28.8)"}},{"$f":"[2]ALCOHOL!J91","v":{"v":11.87,"d":"11.9"}},{"$f":"[2]ALCOHOL!K91","v":{"v":5.18,"d":"(5.2 -"}},{"$f":"[2]ALCOHOL!L91","v":{"v":18.46,"d":"18.5)"}},{"$f":"[2]ALCOHOL!D99","v":{"v":11.41,"d":"11.4"}},{"$f":"[2]ALCOHOL!E99","v":{"v":8.07,"d":"(8.1 -"}},{"$f":"[2]ALCOHOL!F99","v":{"v":15.05,"d":"15.1)"}},{"$f":"[2]ALCOHOL!J99","v":{"v":9.79,"d":"9.8"}},{"$f":"[2]ALCOHOL!K99","v":{"v":3.85,"d":"(3.9 -"}},{"$f":"[2]ALCOHOL!L99","v":{"v":16.09,"d":"16.1)"}}]
[null,"Belgium","1980-1984"]
[null,null,"1985-1989"]
[null,null,"1990-1994",{"$f":"[2]ALCOHOLcomp!D20","v":{"v":8.79,"d":"8.8"}},{"$f":"[2]ALCOHOLcomp!E20","v":{"v":8.08,"d":"(8.1 -"}},{"$f":"[2]ALCOHOLcomp!F20","v":{"v":9.52,"d":"9.5)"}},{"$f":"[2]ALCOHOLcomp!J20","v":{"v":5.62,"d":"5.6"}},{"$f":"[2]ALCOHOLcomp!K20","v":{"v":4.39,"d":"(4.4 -"}},{"$f":"[2]ALCOHOLcomp!L20","v":{"v":6.96,"d":"7.0)"}},{"$f":"[2]ALCOHOLcomp!D25","v":{"v":2.39,"d":"2.4"}},{"$f":"[2]ALCOHOLcomp!E25","v":{"v":2.07,"d":"(2.1 -"}},{"$f":"[2]ALCOHOLcomp!F25","v":{"v":2.78,"d":"2.8)"}},{"$f":"[2]ALCOHOLcomp!J25","v":{"v":2.19,"d":"2.2"}},{"$f":"[2]ALCOHOLcomp!K25","v":{"v":1.19,"d":"(1.2 -"}},{"$f":"[2]ALCOHOLcomp!L25","v":{"v":3.13,"d":"3.1)"}}]
[null,null,"1995-1999"]
[null,null,"2000-2004",{"$f":"[2]ALCOHOLcomp!D24","v":{"v":0,"d":"0.0"}},{"$f":"[2]ALCOHOLcomp!E24","v":{"v":0,"d":"(0.0"}},{"$f":"[2]ALCOHOLcomp!F24","v":{"v":0,"d":"0.0)"}},{"$f":"[2]ALCOHOLcomp!J24","v":{"v":0,"d":"0.0"}},{"$f":"[2]ALCOHOLcomp!K24","v":{"v":0,"d":"(0.0"}},{"$f":"[2]ALCOHOLcomp!L24","v":{"v":0,"d":"0.0)"}},{"$f":"[2]ALCOHOLcomp!D29","v":{"v":12.97,"d":"13.0"}},{"$f":"[2]ALCOHOLcomp!E29","v":{"v":11.9,"d":"(11.9 -"}},{"$f":"[2]ALCOHOLcomp!F29","v":{"v":14.13,"d":"14.1)"}},{"$f":"[2]ALCOHOLcomp!J29","v":{"v":0,"d":"0.0"}},{"$f":"[2]ALCOHOLcomp!K29","v":{"v":0,"d":"(0.0"}},{"$f":"[2]ALCOHOLcomp!L29","v":{"v":0,"d":"0.0)"}}]
[null,null,"2005-2009"]
[null,"France","1980-1984",{"$f":"([2]ALCOHOL!D142+[2]ALCOHOL!D143)/2","v":{"v":74.16277,"d":"74.2"}},{"$f":"([2]ALCOHOL!E142+[2]ALCOHOL!E143)/2","v":{"v":62.51135,"d":"(62.5 -"}},{"$f":"([2]ALCOHOL!F142+[2]ALCOHOL!F143)/2","v":{"v":86.66544999999999,"d":"86.7)"}},{"$f":"([2]ALCOHOL!J142+[2]ALCOHOL!J143)/2","v":{"v":10.702345000000001,"d":"10.7"}},{"$f":"([2]ALCOHOL!K142+[2]ALCOHOL!K143)/2","v":{"v":1.951115,"d":"(2.0 -"}},{"$f":"([2]ALCOHOL!L142+[2]ALCOHOL!L143)/2","v":{"v":24.517830000000004,"d":"24.5)"}},{"$f":"([2]ALCOHOL!D150+[2]ALCOHOL!D151)/2","v":{"v":22.117175,"d":"22.1"}},{"$f":"([2]ALCOHOL!E150+[2]ALCOHOL!E151)/2","v":{"v":16.5419,"d":"(16.5 -"}},{"$f":"([2]ALCOHOL!F150+[2]ALCOHOL!F151)/2","v":{"v":28.177999999999997,"d":"28.2"}},{"$f":"([2]ALCOHOL!J150+[2]ALCOHOL!J151)/2","v":{"v":8.597435,"d":"8.6"}},{"$f":"([2]ALCOHOL!K150+[2]ALCOHOL!K151)/2","v":{"v":0,"d":"(0.0"}},{"$f":"([2]ALCOHOL!L150+[2]ALCOHOL!L151)/2","v":{"v":25.7923,"d":"25.8)"}}]
[null,null,"1985-1989",{"$f":"([2]ALCOHOL!D143+[2]ALCOHOL!D144)/2","v":{"v":74.574335,"d":"74.6"}},{"$f":"([2]ALCOHOL!E143+[2]ALCOHOL!E144)/2","v":{"v":64.2522,"d":"(64.3 -"}},{"$f":"([2]ALCOHOL!F143+[2]ALCOHOL!F144)/2","v":{"v":86.09885,"d":"86.1)"}},{"$f":"([2]ALCOHOL!J143+[2]ALCOHOL!J144)/2","v":{"v":20.442405,"d":"20.4"}},{"$f":"([2]ALCOHOL!K143+[2]ALCOHOL!K144)/2","v":{"v":5.9209499999999995,"d":"(5.9 -"}},{"$f":"([2]ALCOHOL!L143+[2]ALCOHOL!L144)/2","v":{"v":39.451235,"d":"39.5)"}},{"$f":"([2]ALCOHOL!D151+[2]ALCOHOL!D152)/2","v":{"v":23.6422,"d":"23.6"}},{"$f":"([2]ALCOHOL!E151+[2]ALCOHOL!E152)/2","v":{"v":18.4062,"d":"(18.4 -"}},{"$f":"([2]ALCOHOL!F151+[2]ALCOHOL!F152)/2","v":{"v":29.39815,"d":"29.4)"}},{"$f":"([2]ALCOHOL!J151+[2]ALCOHOL!J152)/2","v":{"v":0,"d":"0.0"}},{"$f":"([2]ALCOHOL!K151+[2]ALCOHOL!K152)/2","v":{"v":0,"d":"(0.0"}},{"$f":"([2]ALCOHOL!L151+[2]ALCOHOL!L152)/2","v":{"v":0,"d":"0.0)"}}]
[null,null,"1990-1994",{"$f":"[2]ALCOHOL!D145","v":{"v":59.31265,"d":"59.3"}},{"$f":"[2]ALCOHOL!E145","v":{"v":50.2181,"d":"(50.2 -"}},{"$f":"[2]ALCOHOL!F145","v":{"v":68.4516,"d":"68.5)"}},{"$f":"[2]ALCOHOL!J145","v":{"v":7.20664,"d":"7.2"}},{"$f":"[2]ALCOHOL!K145","v":{"v":1.92321,"d":"(1.9 -"}},{"$f":"[2]ALCOHOL!L145","v":{"v":13.99595,"d":"14.0)"}},{"$f":"[2]ALCOHOL!D153","v":{"v":15.17398,"d":"15.2"}},{"$f":"[2]ALCOHOL!E153","v":{"v":11.3449,"d":"(11.3 -"}},{"$f":"[2]ALCOHOL!F153","v":{"v":19.3357,"d":"19.3)"}},{"$f":"[2]ALCOHOL!J153","v":{"v":10.07526,"d":"10.1"}},{"$f":"[2]ALCOHOL!K153","v":{"v":0,"d":"(0.0"}},{"$f":"[2]ALCOHOL!L153","v":{"v":24.5718,"d":"24.6)"}}]
[null,null,"1995-1999",{"$f":"[2]ALCOHOL!D146","v":{"v":64.71428,"d":"64.7"}},{"$f":"[2]ALCOHOL!E146","v":{"v":54.3758,"d":"(54.4 -"}},{"$f":"[2]ALCOHOL!F146","v":{"v":76.411,"d":"76.4)"}},{"$f":"[2]ALCOHOL!J146","v":{"v":7.013,"d":"7.0"}},{"$f":"[2]ALCOHOL!K146","v":{"v":1.16434,"d":"(1.2 -"}},{"$f":"[2]ALCOHOL!L146","v":{"v":15.1143,"d":"15.1)"}},{"$f":"[2]ALCOHOL!D154","v":{"v":20.1536,"d":"20.2"}},{"$f":"[2]ALCOHOL!E154","v":{"v":14.6682,"d":"(14.7 -"}},{"$f":"[2]ALCOHOL!F154","v":{"v":25.9579,"d":"26.0)"}},{"$f":"[2]ALCOHOL!J154","v":{"v":0,"d":"0.0"}},{"$f":"[2]ALCOHOL!K154","v":{"v":0,"d":"(0.0"}},{"$f":"[2]ALCOHOL!L154","v":{"v":0,"d":"0.0)"}}]
[null,null,"2000-2004",{"$f":"[2]ALCOHOL!D147","v":{"v":59.50463,"d":"59.5"}},{"$f":"[2]ALCOHOL!E147","v":{"v":50.1737,"d":"(50.2 -"}},{"$f":"[2]ALCOHOL!F147","v":{"v":68.423,"d":"68.4)"}},{"$f":"[2]ALCOHOL!J147","v":{"v":15.57955,"d":"15.6"}},{"$f":"[2]ALCOHOL!K147","v":{"v":7.09812,"d":"(7.1 -"}},{"$f":"[2]ALCOHOL!L147","v":{"v":24.43148,"d":"24.4)"}},{"$f":"[2]ALCOHOL!D155","v":{"v":20.37402,"d":"20.4"}},{"$f":"[2]ALCOHOL!E155","v":{"v":15.0181,"d":"(15.0 -"}},{"$f":"[2]ALCOHOL!F155","v":{"v":25.7411,"d":"25.7)"}},{"$f":"[2]ALCOHOL!J155","v":{"v":7.59501,"d":"7.6"}},{"$f":"[2]ALCOHOL!K155","v":{"v":1.66645,"d":"(1.7 -"}},{"$f":"[2]ALCOHOL!L155","v":{"v":15.29858,"d":"15.3)"}}]
[null,null,"2005-2009",{"$f":"[2]ALCOHOL!D148","v":{"v":57.46619,"d":"57.5"}},{"$f":"[2]ALCOHOL!E148","v":{"v":45.3961,"d":"(45.4 -"}},{"$f":"[2]ALCOHOL!F148","v":{"v":69.522,"d":"69.5)"}},{"$f":"[2]ALCOHOL!J148","v":{"v":16.27264,"d":"16.3"}},{"$f":"[2]ALCOHOL!K148","v":{"v":8.12318,"d":"(8.1 -"}},{"$f":"[2]ALCOHOL!L148","v":{"v":25.90366,"d":"25.9)"}},{"$f":"[2]ALCOHOL!D156","v":{"v":16.53984,"d":"16.5"}},{"$f":"[2]ALCOHOL!E156","v":{"v":11.7351,"d":"(11.7 -"}},{"$f":"[2]ALCOHOL!F156","v":{"v":22.3814,"d":"22.4)"}},{"$f":"[2]ALCOHOL!J156","v":{"v":1.11768,"d":"1.1"}},{"$f":"[2]ALCOHOL!K156","v":{"v":0,"d":"(0.0"}},{"$f":"[2]ALCOHOL!L156","v":{"v":3.35303,"d":"3.4)"}}]
[null,"Switzerland","1980-1984"]
[null,null,"1985-1989"]
[null,null,"1990-1994",{"$f":"[2]ALCOHOL!D353","v":{"v":55.25,"d":"55.3"}},{"$f":"[2]ALCOHOL!E353","v":{"v":51.03,"d":"(51.0 -"}},{"$f":"[2]ALCOHOL!F353","v":{"v":59.43,"d":"59.4)"}},{"$f":"[2]ALCOHOL!J353","v":{"v":14.14,"d":"14.1"}},{"$f":"[2]ALCOHOL!K353","v":{"v":11.97,"d":"(12.0 -"}},{"$f":"[2]ALCOHOL!L353","v":{"v":16.25,"d":"16.3)"}},{"$f":"[2]ALCOHOL!D357","v":13.1},{"$f":"[2]ALCOHOL!E357","v":{"v":11.82,"d":"(11.8 -"}},{"$f":"[2]ALCOHOL!F357","v":{"v":14.5,"d":"14.5)"}},{"$f":"[2]ALCOHOL!J357","v":{"v":8.51,"d":"8.5"}},{"$f":"[2]ALCOHOL!K357","v":{"v":5.62,"d":"(5.6 -"}},{"$f":"[2]ALCOHOL!L357","v":{"v":11.61,"d":"11.6)"}}]
[null,null,"1995-1999",{"$f":"[2]ALCOHOL!D354","v":{"v":54.32,"d":"54.3"}},{"$f":"[2]ALCOHOL!E354","v":{"v":49.83,"d":"(49.8 -"}},{"$f":"[2]ALCOHOL!F354","v":{"v":59.17,"d":"59.2)"}},{"$f":"[2]ALCOHOL!J354","v":{"v":16.97,"d":"17.0"}},{"$f":"[2]ALCOHOL!K354","v":{"v":14.88,"d":"(14.9 -"}},{"$f":"[2]ALCOHOL!L354","v":{"v":19.05,"d":"19.1)"}},{"$f":"[2]ALCOHOL!D358","v":{"v":12.97,"d":"13.0"}},{"$f":"[2]ALCOHOL!E358","v":{"v":11.5,"d":"(11.5 -"}},{"$f":"[2]ALCOHOL!F358","v":{"v":14.61,"d":"14.6)"}},{"$f":"[2]ALCOHOL!J358","v":{"v":7.41,"d":"7.4"}},{"$f":"[2]ALCOHOL!K358","v":{"v":5.32,"d":"(5.3 -"}},{"$f":"[2]ALCOHOL!L358","v":{"v":9.95,"d":"10.0)"}}]
[null,null,"2000-2004",{"$f":"[2]ALCOHOL!D355","v":{"v":50.88,"d":"50.9"}},{"$f":"[2]ALCOHOL!E355","v":{"v":46.71,"d":"(46.7 -"}},{"$f":"[2]ALCOHOL!F355","v":{"v":55.31,"d":"55.3)"}},{"$f":"[2]ALCOHOL!J355","v":{"v":12.05,"d":"12.1"}},{"$f":"[2]ALCOHOL!K355","v":{"v":10.59,"d":"(10.6 -"}},{"$f":"[2]ALCOHOL!L355","v":{"v":13.61,"d":"13.6)"}},{"$f":"[2]ALCOHOL!D359","v":{"v":11.09,"d":"11.1"}},{"$f":"[2]ALCOHOL!E359","v":{"v":9.67,"d":"(9.7 -"}},{"$f":"[2]ALCOHOL!F359","v":{"v":12.47,"d":"12.5)"}},{"$f":"[2]ALCOHOL!J359","v":{"v":7.11,"d":"7.1"}},{"$f":"[2]ALCOHOL!K359","v":{"v":5.08,"d":"(5.1 -"}},{"$f":"[2]ALCOHOL!L359","v":{"v":9.52,"d":"9.5)"}}]
[null,null,"2005-2009",{"$f":"[2]ALCOHOL!D356","v":{"v":41.73,"d":"41.7"}},{"$f":"[2]ALCOHOL!E356","v":{"v":36.87,"d":"(36.9 -"}},{"$f":"[2]ALCOHOL!F356","v":{"v":47.09,"d":"47.1)"}},{"$f":"[2]ALCOHOL!J356","v":{"v":12.49,"d":"12.5"}},{"$f":"[2]ALCOHOL!K356","v":{"v":10.57,"d":"(10.6 -"}},{"$f":"[2]ALCOHOL!L356","v":{"v":14.55,"d":"14.6)"}},{"$f":"[2]ALCOHOL!D360","v":{"v":12.43,"d":"12.4"}},{"$f":"[2]ALCOHOL!E360","v":{"v":10.69,"d":"(10.7 -"}},{"$f":"[2]ALCOHOL!F360","v":{"v":14.21,"d":"14.2)"}},{"$f":"[2]ALCOHOL!J360","v":{"v":5.28,"d":"5.3"}},{"$f":"[2]ALCOHOL!K360","v":{"v":3.37,"d":"(3.4 -"}},{"$f":"[2]ALCOHOL!L360","v":{"v":7.57,"d":"7.6)"}}]
[null,"Austria","1980-1984",{"$f":"[2]ALCOHOL!D7","v":{"v":19.46,"d":"19.5"}},{"$f":"[2]ALCOHOL!E7","v":{"v":16.14,"d":"(16.1 -"}},{"$f":"[2]ALCOHOL!F7","v":{"v":22.97,"d":"23.0)"}},{"$f":"[2]ALCOHOL!J7","v":{"v":3.58,"d":"3.6"}},{"$f":"[2]ALCOHOL!K7","v":{"v":0,"d":"(0.0"}},{"$f":"[2]ALCOHOL!L7","v":{"v":9.39,"d":"9.4)"}},{"$f":"[2]ALCOHOL!D10","v":{"v":3.34,"d":"3.3"}},{"$f":"[2]ALCOHOL!E10","v":{"v":2.34,"d":"(2.3 -"}},{"$f":"[2]ALCOHOL!F10","v":{"v":4.49,"d":"4.5)"}},{"$f":"[2]ALCOHOL!J10","v":{"v":0,"d":"0.0"}},{"$f":"[2]ALCOHOL!K10","v":{"v":0,"d":"(0.0"}},{"$f":"[2]ALCOHOL!L10","v":{"v":0,"d":"0.0)"}}]
[null,null,"1985-1989"]
[null,null,"1990-1994",{"$f":"[2]ALCOHOL!D8","v":{"v":30.81,"d":"30.8"}},{"$f":"[2]ALCOHOL!E8","v":{"v":26.26,"d":"(26.3 -"}},{"$f":"[2]ALCOHOL!F8","v":{"v":35.69,"d":"35.7)"}},{"$f":"[2]ALCOHOL!J8","v":{"v":1.78,"d":"1.8"}},{"$f":"[2]ALCOHOL!K8","v":{"v":0,"d":"(0.0"}},{"$f":"[2]ALCOHOL!L8","v":{"v":4.84,"d":"4.8)"}},{"$f":"[2]ALCOHOL!D11","v":{"v":3.26,"d":"3.3"}},{"$f":"[2]ALCOHOL!E11","v":{"v":2.23,"d":"(2.2 -"}},{"$f":"[2]ALCOHOL!F11","v":{"v":4.39,"d":"4.4)"}},{"$f":"[2]ALCOHOL!J11","v":{"v":0,"d":"0.0"}},{"$f":"[2]ALCOHOL!K11","v":{"v":0,"d":"(0.0"}},{"$f":"[2]ALCOHOL!L11","v":{"v":0,"d":"0.0)"}}]
[null,null,"1995-1999"]
[null,null,"2000-2004",{"$f":"[2]ALCOHOL!D9","v":{"v":37.42,"d":"37.4"}},{"$f":"[2]ALCOHOL!E9","v":{"v":31.86,"d":"(31.9 -"}},{"$f":"[2]ALCOHOL!F9","v":{"v":43.64,"d":"43.6)"}},{"$f":"[2]ALCOHOL!J9","v":{"v":6.16,"d":"6.2"}},{"$f":"[2]ALCOHOL!K9","v":{"v":2.2,"d":"(2.2 -"}},{"$f":"[2]ALCOHOL!L9","v":{"v":10.33,"d":"10.3)"}},{"$f":"[2]ALCOHOL!D12","v":{"v":5.43,"d":"5.4"}},{"$f":"[2]ALCOHOL!E12","v":{"v":3.85,"d":"(3.9 -"}},{"$f":"[2]ALCOHOL!F12","v":{"v":7.09,"d":"7.1)"}},{"$f":"[2]ALCOHOL!J12","v":{"v":0.41,"d":"0.4"}},{"$f":"[2]ALCOHOL!K12","v":{"v":0,"d":"(0.0"}},{"$f":"[2]ALCOHOL!L12","v":{"v":1.12,"d":"1.1)"}}]
[null,null,"2005-2009"]
["SOUTH","Barcelona","1980-1984"]
[null,null,"1985-1989"]
[null,null,"1990-1994",{"$f":"[2]ALCOHOL!D301","v":{"v":11.22,"d":"11.2"}},{"$f":"[2]ALCOHOL!E301","v":{"v":9.25,"d":"(9.3 -"}},{"$f":"[2]ALCOHOL!F301","v":{"v":13.15,"d":"13.2)"}},{"$f":"[2]ALCOHOL!J301","v":{"v":2.36,"d":"2.4"}},{"$f":"[2]ALCOHOL!K301","v":{"v":0.81,"d":"(0.8 -"}},{"$f":"[2]ALCOHOL!L301","v":{"v":4.14,"d":"4.1)"}},{"$f":"[2]ALCOHOL!D305","v":{"v":2.42,"d":"2.4"}},{"$f":"[2]ALCOHOL!E305","v":{"v":1.7,"d":"(1.7 -"}},{"$f":"[2]ALCOHOL!F305","v":{"v":3.28,"d":"3.3)"}},{"$f":"[2]ALCOHOL!J305","v":{"v":0.38,"d":"0.4"}},{"$f":"[2]ALCOHOL!K305","v":{"v":0,"d":"(0.0"}},{"$f":"[2]ALCOHOL!L305","v":{"v":1.38,"d":"1.4)"}}]
[null,null,"1995-1999",{"$f":"[2]ALCOHOL!D302","v":{"v":13.46,"d":"13.5"}},{"$f":"[2]ALCOHOL!E302","v":{"v":11.17,"d":"(11.2 -"}},{"$f":"[2]ALCOHOL!F302","v":{"v":15.76,"d":"15.8)"}},{"$f":"[2]ALCOHOL!J302","v":{"v":4.91,"d":"4.9"}},{"$f":"[2]ALCOHOL!K302","v":{"v":2.76,"d":"(2.8 -"}},{"$f":"[2]ALCOHOL!L302","v":{"v":7.37,"d":"7.4)"}},{"$f":"[2]ALCOHOL!D306","v":{"v":3.37,"d":"3.4"}},{"$f":"[2]ALCOHOL!E306","v":{"v":2.43,"d":"(2.4 -"}},{"$f":"[2]ALCOHOL!F306","v":{"v":4.39,"d":"4.4)"}},{"$f":"[2]ALCOHOL!J306","v":{"v":1.09,"d":"1.1"}},{"$f":"[2]ALCOHOL!K306","v":{"v":0,"d":"(0.0"}},{"$f":"[2]ALCOHOL!L306","v":{"v":2.44,"d":"2.4)"}}]
[null,null,"2000-2004",{"$f":"[2]ALCOHOL!D303","v":{"v":12.45,"d":"12.5"}},{"$f":"[2]ALCOHOL!E303","v":{"v":10.34,"d":"(10.3 -"}},{"$f":"[2]ALCOHOL!F303","v":{"v":14.66,"d":"14.7)"}},{"$f":"[2]ALCOHOL!J303","v":{"v":2.17,"d":"2.2"}},{"$f":"[2]ALCOHOL!K303","v":{"v":0.93,"d":"(0.9 -"}},{"$f":"[2]ALCOHOL!L303","v":{"v":3.54,"d":"3.5)"}},{"$f":"[2]ALCOHOL!D307","v":{"v":2.99,"d":"3.0"}},{"$f":"[2]ALCOHOL!E307","v":{"v":2.06,"d":"(2.1 -"}},{"$f":"[2]ALCOHOL!F307","v":{"v":4.09,"d":"4.1)"}},{"$f":"[2]ALCOHOL!J307","v":{"v":0.72,"d":"0.7"}},{"$f":"[2]ALCOHOL!K307","v":{"v":0,"d":"(0.0"}},{"$f":"[2]ALCOHOL!L307","v":{"v":1.99,"d":"2.0)"}}]
[null,null,"2005-2009",{"$f":"[2]ALCOHOL!D304","v":{"v":11.17,"d":"11.2"}},{"$f":"[2]ALCOHOL!E304","v":{"v":8.94,"d":"(8.9 -"}},{"$f":"[2]ALCOHOL!F304","v":{"v":13.68,"d":"13.7)"}},{"$f":"[2]ALCOHOL!J304","v":{"v":2.97,"d":"3.0"}},{"$f":"[2]ALCOHOL!K304","v":{"v":1.3,"d":"(1.3 -"}},{"$f":"[2]ALCOHOL!L304","v":{"v":4.87,"d":"4.9)"}},{"$f":"[2]ALCOHOL!D308","v":{"v":3.23,"d":"3.2"}},{"$f":"[2]ALCOHOL!E308","v":{"v":2.04,"d":"(2.0 -"}},{"$f":"[2]ALCOHOL!F308","v":{"v":4.42,"d":"4.4)"}},{"$f":"[2]ALCOHOL!J308","v":{"v":0.65,"d":"0.7"}},{"$f":"[2]ALCOHOL!K308","v":{"v":0,"d":"(0.0"}},{"$f":"[2]ALCOHOL!L308","v":{"v":1.71,"d":"1.7)"}}]
[null,"Basque Country","1980-1984"]
[null,null,"1985-1989"]
[null,null,"1990-1994"]
[null,null,"1995-1999",{"$f":"[2]ALCOHOL!D316","v":{"v":9.89,"d":"9.9"}},{"$f":"[2]ALCOHOL!E316","v":{"v":8.58,"d":"(8.6 -"}},{"$f":"[2]ALCOHOL!F316","v":{"v":11.39,"d":"11.4)"}},{"$f":"[2]ALCOHOL!J316","v":{"v":2.26,"d":"2.3"}},{"$f":"[2]ALCOHOL!K316","v":{"v":0.67,"d":"(0.7 -"}},{"$f":"[2]ALCOHOL!L316","v":{"v":4.24,"d":"4.2)"}},{"$f":"[2]ALCOHOL!D318","v":{"v":2.39,"d":"2.4"}},{"$f":"[2]ALCOHOL!E318","v":{"v":1.74,"d":"(1.7 -"}},{"$f":"[2]ALCOHOL!F318","v":{"v":3.05,"d":"3.1)"}},{"$f":"[2]ALCOHOL!J318","v":{"v":1.84,"d":"1.8"}},{"$f":"[2]ALCOHOL!K318","v":{"v":0,"d":"(0.0"}},{"$f":"[2]ALCOHOL!L318","v":{"v":4.57,"d":"4.6)"}}]
[null,null,"2000-2004",{"$f":"[2]ALCOHOL!D317","v":{"v":9.91,"d":"9.9"}},{"$f":"[2]ALCOHOL!E317","v":{"v":8.45,"d":"(8.5 -"}},{"$f":"[2]ALCOHOL!F317","v":{"v":11.43,"d":"11.4)"}},{"$f":"[2]ALCOHOL!J317","v":{"v":3.86,"d":"3.9"}},{"$f":"[2]ALCOHOL!K317","v":{"v":2.06,"d":"(2.1 -"}},{"$f":"[2]ALCOHOL!L317","v":{"v":5.83,"d":"5.8)"}},{"$f":"[2]ALCOHOL!D319","v":2.1},{"$f":"[2]ALCOHOL!E319","v":{"v":1.49,"d":"(1.5 -"}},{"$f":"[2]ALCOHOL!F319","v":{"v":2.74,"d":"2.7)"}},{"$f":"[2]ALCOHOL!J319","v":{"v":1.04,"d":"1.0"}},{"$f":"[2]ALCOHOL!K319","v":{"v":0,"d":"(0.0"}},{"$f":"[2]ALCOHOL!L319","v":{"v":2.28,"d":"2.3)"}}]
[null,null,"2005-2009"]
[null,"Madrid","1980-1984"]
[null,null,"1985-1989"]
[null,null,"1990-1994"]
[null,null,"1995-1999",{"$f":"[2]ALCOHOL!D327","v":{"v":6.58,"d":"6.6"}},{"$f":"[2]ALCOHOL!E327","v":{"v":5.07,"d":"(5.1 -"}},{"$f":"[2]ALCOHOL!F327","v":{"v":8.09,"d":"8.1)"}},{"$f":"[2]ALCOHOL!J327","v":{"v":0.47,"d":"0.5"}},{"$f":"[2]ALCOHOL!K327","v":{"v":0,"d":"(0.0"}},{"$f":"[2]ALCOHOL!L327","v":{"v":1.31,"d":"1.3)"}},{"$f":"[2]ALCOHOL!D329","v":1.3},{"$f":"[2]ALCOHOL!E329","v":{"v":0.77,"d":"(0.8 -"}},{"$f":"[2]ALCOHOL!F329","v":{"v":1.88,"d":"1.9)"}},{"$f":"[2]ALCOHOL!J329","v":{"v":0,"d":"0.0"}},{"$f":"[2]ALCOHOL!K329","v":{"v":0,"d":"(0.0"}},{"$f":"[2]ALCOHOL!L329","v":{"v":0,"d":"0.0)"}}]
[null,null,"2000-2004",{"$f":"[2]ALCOHOL!D328","v":{"v":7.92,"d":"7.9"}},{"$f":"[2]ALCOHOL!E328","v":{"v":6.38,"d":"(6.4 -"}},{"$f":"[2]ALCOHOL!F328","v":{"v":9.58,"d":"9.6)"}},{"$f":"[2]ALCOHOL!J328","v":{"v":3.07,"d":"3.1"}},{"$f":"[2]ALCOHOL!K328","v":{"v":1.38,"d":"(1.4 -"}},{"$f":"[2]ALCOHOL!L328","v":{"v":5,"d":"5.0)"}},{"$f":"[2]ALCOHOL!D330","v":{"v":1.28,"d":"1.3"}},{"$f":"[2]ALCOHOL!E330","v":{"v":0.76,"d":"(0.8 -"}},{"$f":"[2]ALCOHOL!F330","v":{"v":1.87,"d":"1.9)"}},{"$f":"[2]ALCOHOL!J330","v":{"v":0.31,"d":"0.3"}},{"$f":"[2]ALCOHOL!K330","v":{"v":0,"d":"(0.0"}},{"$f":"[2]ALCOHOL!L330","v":{"v":0.98,"d":"1.0)"}}]
[null,null,"2005-2009"]
[null,"Italy, Turin","1980-1984",{"$f":"[2]ALCOHOL!D181","v":{"v":7.34,"d":"7.3"}},{"$f":"[2]ALCOHOL!E181","v":{"v":5.73,"d":"(5.7 -"}},{"$f":"[2]ALCOHOL!F181","v":{"v":9.07,"d":"9.1)"}},{"$f":"[2]ALCOHOL!J181","v":{"v":3.14,"d":"3.1"}},{"$f":"[2]ALCOHOL!K181","v":{"v":0,"d":"(0.0"}},{"$f":"[2]ALCOHOL!L181","v":{"v":7.04,"d":"7.0)"}},{"$f":"[2]ALCOHOL!D189","v":{"v":1.13,"d":"1.1"}},{"$f":"[2]ALCOHOL!E189","v":{"v":0.55,"d":"(0.6 -"}},{"$f":"[2]ALCOHOL!F189","v":{"v":1.72,"d":"1.7)"}},{"$f":"[2]ALCOHOL!J189","v":{"v":0,"d":"0.0"}},{"$f":"[2]ALCOHOL!K189","v":{"v":0,"d":"(0.0"}},{"$f":"[2]ALCOHOL!L189","v":{"v":0,"d":"0.0)"}}]
[null,null,"1985-1989",{"$f":"[2]ALCOHOL!D182","v":{"v":6.27,"d":"6.3"}},{"$f":"[2]ALCOHOL!E182","v":{"v":4.54,"d":"(4.5 -"}},{"$f":"[2]ALCOHOL!F182","v":{"v":7.97,"d":"8.0)"}},{"$f":"[2]ALCOHOL!J182","v":{"v":2.17,"d":"2.2"}},{"$f":"[2]ALCOHOL!K182","v":{"v":0,"d":"(0.0"}},{"$f":"[2]ALCOHOL!L182","v":{"v":5.47,"d":"5.5)"}},{"$f":"[2]ALCOHOL!D190","v":{"v":1.52,"d":"1.5"}},{"$f":"[2]ALCOHOL!E190","v":{"v":0.79,"d":"(0.8 -"}},{"$f":"[2]ALCOHOL!F190","v":{"v":2.46,"d":"2.5)"}},{"$f":"[2]ALCOHOL!J190","v":{"v":2.01,"d":"2.0"}},{"$f":"[2]ALCOHOL!K190","v":{"v":0,"d":"(0.0"}},{"$f":"[2]ALCOHOL!L190","v":{"v":6.04,"d":"6.0)"}}]
[null,null,"1990-1994",{"$f":"[2]ALCOHOL!D183","v":{"v":5.08,"d":"5.1"}},{"$f":"[2]ALCOHOL!E183","v":{"v":3.54,"d":"(3.5 -"}},{"$f":"[2]ALCOHOL!F183","v":{"v":6.54,"d":"6.5)"}},{"$f":"[2]ALCOHOL!J183","v":{"v":1.92,"d":"1.9"}},{"$f":"[2]ALCOHOL!K183","v":{"v":0,"d":"(0.0"}},{"$f":"[2]ALCOHOL!L183","v":{"v":5.51,"d":"5.5)"}},{"$f":"[2]ALCOHOL!D191","v":{"v":1.74,"d":"1.7"}},{"$f":"[2]ALCOHOL!E191","v":{"v":0.97,"d":"(1.0 -"}},{"$f":"[2]ALCOHOL!F191","v":{"v":2.63,"d":"2.6)"}},{"$f":"[2]ALCOHOL!J191","v":{"v":0,"d":"0.0"}},{"$f":"[2]ALCOHOL!K191","v":{"v":0,"d":"(0.0"}},{"$f":"[2]ALCOHOL!L191","v":{"v":0,"d":"0.0)"}}]
[null,null,"1995-1999",{"$f":"[2]ALCOHOL!D184","v":{"v":6.54,"d":"6.5"}},{"$f":"[2]ALCOHOL!E184","v":{"v":4.48,"d":"(4.5 -"}},{"$f":"[2]ALCOHOL!F184","v":{"v":8.9,"d":"8.9)"}},{"$f":"[2]ALCOHOL!J184","v":{"v":1.76,"d":"1.8"}},{"$f":"[2]ALCOHOL!K184","v":{"v":0,"d":"(0.0"}},{"$f":"[2]ALCOHOL!L184","v":{"v":4.56,"d":"4.6)"}},{"$f":"[2]ALCOHOL!D192","v":{"v":2.36,"d":"2.4"}},{"$f":"[2]ALCOHOL!E192","v":{"v":1.34,"d":"(1.3 -"}},{"$f":"[2]ALCOHOL!F192","v":{"v":3.6,"d":"3.6)"}},{"$f":"[2]ALCOHOL!J192","v":{"v":0,"d":"0.0"}},{"$f":"[2]ALCOHOL!K192","v":{"v":0,"d":"(0.0"}},{"$f":"[2]ALCOHOL!L192","v":{"v":0,"d":"0.0)"}}]
[null,null,"2000-2004",{"$f":"[2]ALCOHOL!D185","v":{"v":8.59,"d":"8.6"}},{"$f":"[2]ALCOHOL!E185","v":{"v":6.42,"d":"(6.4 -"}},{"$f":"[2]ALCOHOL!F185","v":{"v":10.95,"d":"11.0)"}},{"$f":"[2]ALCOHOL!J185","v":{"v":4.45,"d":"4.5"}},{"$f":"[2]ALCOHOL!K185","v":{"v":1.33,"d":"(1.3 -"}},{"$f":"[2]ALCOHOL!L185","v":{"v":7.88,"d":"7.9)"}},{"$f":"[2]ALCOHOL!D193","v":{"v":2.63,"d":"2.6"}},{"$f":"[2]ALCOHOL!E193","v":{"v":1.52,"d":"(1.5 -"}},{"$f":"[2]ALCOHOL!F193","v":{"v":3.9,"d":"3.9)"}},{"$f":"[2]ALCOHOL!J193","v":{"v":0,"d":"0.0"}},{"$f":"[2]ALCOHOL!K193","v":{"v":0,"d":"(0.0"}},{"$f":"[2]ALCOHOL!L193","v":{"v":0,"d":"0.0)"}}]
[null,null,"2005-2009",{"$f":"[2]ALCOHOL!D186","v":{"v":4.95,"d":"5.0"}},{"$f":"[2]ALCOHOL!E186","v":{"v":2.84,"d":"(2.8 -"}},{"$f":"[2]ALCOHOL!F186","v":{"v":7.75,"d":"7.8)"}},{"$f":"[2]ALCOHOL!J186","v":{"v":0,"d":"0.0"}},{"$f":"[2]ALCOHOL!K186","v":{"v":0,"d":"(0.0"}},{"$f":"[2]ALCOHOL!L186","v":{"v":0,"d":"0.0)"}},{"$f":"[2]ALCOHOL!D194","v":1.5},{"$f":"[2]ALCOHOL!E194","v":{"v":0.4,"d":"(0.4 -"}},{"$f":"[2]ALCOHOL!F194","v":{"v":2.91,"d":"2.9)"}},{"$f":"[2]ALCOHOL!J194","v":{"v":0.79,"d":"0.8"}},{"$f":"[2]ALCOHOL!K194","v":{"v":0,"d":"(0.0"}},{"$f":"[2]ALCOHOL!L194","v":{"v":2.37,"d":"2.4)"}}]
["EAST","Slovenia","1980-1984"]
[null,null,"1985-1989"]
[null,null,"1990-1994",{"$f":"[2]ALCOHOL!D286","v":{"v":107.26,"d":"107.3"}},{"$f":"[2]ALCOHOL!E286","v":{"v":101.36,"d":"(101.4 -"}},{"$f":"[2]ALCOHOL!F286","v":{"v":113.09,"d":"113.1)"}},{"$f":"[2]ALCOHOL!J286","v":{"v":18.07,"d":"18.1"}},{"$f":"[2]ALCOHOL!K286","v":{"v":12.46,"d":"(12.5 -"}},{"$f":"[2]ALCOHOL!L286","v":{"v":24.6,"d":"24.6)"}},{"$f":"[2]ALCOHOL!D290","v":{"v":28.64,"d":"28.6"}},{"$f":"[2]ALCOHOL!E290","v":{"v":25.94,"d":"(25.9 -"}},{"$f":"[2]ALCOHOL!F290","v":{"v":31.23,"d":"31.2)"}},{"$f":"[2]ALCOHOL!J290","v":4.1},{"$f":"[2]ALCOHOL!K290","v":{"v":0.67,"d":"(0.7 -"}},{"$f":"[2]ALCOHOL!L290","v":{"v":8.41,"d":"8.4)"}}]
[null,null,"1995-1999"]
[null,null,"2000-2004",{"$f":"[2]ALCOHOL!D288","v":{"v":133.92,"d":"133.9"}},{"$f":"[2]ALCOHOL!E288","v":{"v":125.91,"d":"(125.9 -"}},{"$f":"[2]ALCOHOL!F288","v":{"v":142.35,"d":"142.4)"}},{"$f":"[2]ALCOHOL!J288","v":{"v":24.73,"d":"24.7"}},{"$f":"[2]ALCOHOL!K288","v":{"v":19.78,"d":"(19.8 -"}},{"$f":"[2]ALCOHOL!L288","v":{"v":29.98,"d":"30.0)"}},{"$f":"[2]ALCOHOL!D292","v":{"v":32.13,"d":"32.1"}},{"$f":"[2]ALCOHOL!E292","v":{"v":28.65,"d":"(28.7 -"}},{"$f":"[2]ALCOHOL!F292","v":{"v":35.71,"d":"35.7)"}},{"$f":"[2]ALCOHOL!J292","v":{"v":7.52,"d":"7.5"}},{"$f":"[2]ALCOHOL!K292","v":{"v":4.33,"d":"(4.3 -"}},{"$f":"[2]ALCOHOL!L292","v":{"v":10.94,"d":"10.9)"}}]
[null,null,"2005-2009"]
[null,"Hungary","1980-1984",{"$f":"[2]ALCOHOL!D165","v":{"v":59.29,"d":"59.3"}},{"$f":"[2]ALCOHOL!E165","v":{"v":57.45,"d":"(57.5 -"}},{"$f":"[2]ALCOHOL!F165","v":{"v":61.04,"d":"61.0)"}},{"$f":"[2]ALCOHOL!J165","v":{"v":19.62,"d":"19.6"}},{"$f":"[2]ALCOHOL!K165","v":{"v":16.46,"d":"(16.5 -"}},{"$f":"[2]ALCOHOL!L165","v":{"v":23.04,"d":"23.0)"}},{"$f":"[2]ALCOHOL!D169","v":{"v":13.96,"d":"14.0"}},{"$f":"[2]ALCOHOL!E169","v":{"v":13.23,"d":"(13.2 -"}},{"$f":"[2]ALCOHOL!F169","v":{"v":14.75,"d":"14.8)"}},{"$f":"[2]ALCOHOL!J169","v":{"v":4.66,"d":"4.7"}},{"$f":"[2]ALCOHOL!K169","v":{"v":2,"d":"(2.0 -"}},{"$f":"[2]ALCOHOL!L169","v":{"v":7.82,"d":"7.8)"}}]
[null,null,"1985-1989"]
[null,null,"1990-1994",{"$f":"[2]ALCOHOL!D166","v":{"v":179.06,"d":"179.1"}},{"$f":"[2]ALCOHOL!E166","v":{"v":175.51,"d":"(175.5 -"}},{"$f":"[2]ALCOHOL!F166","v":{"v":182.38,"d":"182.4)"}},{"$f":"[2]ALCOHOL!J166","v":{"v":40.77,"d":"40.8"}},{"$f":"[2]ALCOHOL!K166","v":{"v":36.98,"d":"(37.0 -"}},{"$f":"[2]ALCOHOL!L166","v":{"v":44.44,"d":"44.4)"}},{"$f":"[2]ALCOHOL!D170","v":{"v":50.14,"d":"50.1"}},{"$f":"[2]ALCOHOL!E170","v":{"v":48.47,"d":"(48.5 -"}},{"$f":"[2]ALCOHOL!F170","v":{"v":51.78,"d":"51.8)"}},{"$f":"[2]ALCOHOL!J170","v":{"v":15.78,"d":"15.8"}},{"$f":"[2]ALCOHOL!K170","v":{"v":12.57,"d":"(12.6 -"}},{"$f":"[2]ALCOHOL!L170","v":{"v":19,"d":"19.0)"}}]
[null,null,"1995-1999"]
[null,null,"2000-2004",{"$f":"[2]ALCOHOL!D167","v":{"v":251.08,"d":"251.1"}},{"$f":"[2]ALCOHOL!E167","v":{"v":247.46,"d":"(247.5 -"}},{"$f":"[2]ALCOHOL!F167","v":{"v":255.12,"d":"255.1)"}},{"$f":"[2]ALCOHOL!J167","v":{"v":63.66,"d":"63.7"}},{"$f":"[2]ALCOHOL!K167","v":{"v":59.72,"d":"(59.7 -"}},{"$f":"[2]ALCOHOL!L167","v":{"v":67.68,"d":"67.7)"}},{"$f":"[2]ALCOHOL!D171","v":{"v":64.98,"d":"65.0"}},{"$f":"[2]ALCOHOL!E171","v":{"v":62.91,"d":"(62.9 -"}},{"$f":"[2]ALCOHOL!F171","v":{"v":66.89,"d":"66.9)"}},{"$f":"[2]ALCOHOL!J171","v":{"v":21.64,"d":"21.6"}},{"$f":"[2]ALCOHOL!K171","v":{"v":18.86,"d":"(18.9 -"}},{"$f":"[2]ALCOHOL!L171","v":{"v":24.42,"d":"24.4)"}}]
[null,null,"2005-2009"]
[null,"Czech Republic","1980-1984",{"$f":"[2]ALCOHOLcomp!D37","v":{"v":0.44,"d":"0.4"}},{"$f":"[2]ALCOHOLcomp!E37","v":{"v":0.29,"d":"(0.3 -"}},{"$f":"[2]ALCOHOLcomp!F37","v":{"v":0.58,"d":"0.6)"}},{"$f":"[2]ALCOHOLcomp!J37","v":{"v":0.38,"d":"0.4"}},{"$f":"[2]ALCOHOLcomp!K37","v":{"v":0,"d":"(0.0"}},{"$f":"[2]ALCOHOLcomp!L37","v":{"v":1,"d":"1.0)"}},{"$f":"[2]ALCOHOLcomp!D39","v":{"v":0.11,"d":"0.1"}},{"$f":"[2]ALCOHOLcomp!E39","v":{"v":0.03,"d":"(0.0 -"}},{"$f":"[2]ALCOHOLcomp!F39","v":{"v":0.18,"d":"0.2)"}},{"$f":"[2]ALCOHOLcomp!J39","v":{"v":0,"d":"0.0"}},{"$f":"[2]ALCOHOLcomp!K39","v":{"v":0,"d":"(0.0"}},{"$f":"[2]ALCOHOLcomp!L39","v":{"v":0,"d":"0.0)"}}]
[null,null,"1985-1989"]
[null,null,"1990-1994"]
[null,null,"1995-1999"]
[null,null,"2000-2004",{"$f":"[2]ALCOHOLcomp!D38","v":{"v":4.88,"d":"4.9"}},{"$f":"[2]ALCOHOLcomp!E38","v":{"v":4.49,"d":"(4.5 -"}},{"$f":"[2]ALCOHOLcomp!F38","v":{"v":5.43,"d":"5.4)"}},{"$f":"[2]ALCOHOLcomp!J38","v":{"v":1.14,"d":"1.1"}},{"$f":"[2]ALCOHOLcomp!K38","v":{"v":0.76,"d":"(0.8 -"}},{"$f":"[2]ALCOHOLcomp!L38","v":{"v":1.58,"d":"1.6)"}},{"$f":"[2]ALCOHOLcomp!D40","v":{"v":1.35,"d":"1.4"}},{"$f":"[2]ALCOHOLcomp!E40","v":{"v":1.1,"d":"(1.1 -"}},{"$f":"[2]ALCOHOLcomp!F40","v":{"v":1.57,"d":"1.6)"}},{"$f":"[2]ALCOHOLcomp!J40","v":{"v":0.34,"d":"0.3"}},{"$f":"[2]ALCOHOLcomp!K40","v":{"v":0.13,"d":"(0.1 -"}},{"$f":"[2]ALCOHOLcomp!L40","v":{"v":0.7,"d":"0.7)"}}]
[null,null,"2005-2009"]
[null,"Poland","1980-1984"]
[null,null,"1985-1989"]
[null,null,"1990-1994",{"$f":"[2]ALCOHOLcomp!D260","v":{"v":25.01,"d":"25.0"}},{"$f":"[2]ALCOHOLcomp!E260","v":{"v":24.17,"d":"(24.2 -"}},{"$f":"[2]ALCOHOLcomp!F260","v":{"v":25.88,"d":"25.9)"}},{"$f":"[2]ALCOHOLcomp!J260","v":2.2},{"$f":"[2]ALCOHOLcomp!K260","v":{"v":1.58,"d":"(1.6 -"}},{"$f":"[2]ALCOHOLcomp!L260","v":{"v":2.88,"d":"2.9)"}},{"$f":"[2]ALCOHOLcomp!D262","v":{"v":2.89,"d":"2.9"}},{"$f":"[2]ALCOHOLcomp!E262","v":{"v":2.6,"d":"(2.6 -"}},{"$f":"[2]ALCOHOLcomp!F262","v":{"v":3.21,"d":"3.2)"}},{"$f":"[2]ALCOHOLcomp!J262","v":0.4},{"$f":"[2]ALCOHOLcomp!K262","v":{"v":0.13,"d":"(0.1 -"}},{"$f":"[2]ALCOHOLcomp!L262","v":{"v":0.77,"d":"0.8)"}}]
[null,null,"1995-1999"]
[null,null,"2000-2004",{"$f":"[2]ALCOHOLcomp!D261","v":{"v":16.51,"d":"16.5"}},{"$f":"[2]ALCOHOLcomp!E261","v":{"v":15.77,"d":"(15.8 -"}},{"$f":"[2]ALCOHOLcomp!F261","v":{"v":17.19,"d":"17.2)"}},{"$f":"[2]ALCOHOLcomp!J261","v":{"v":1.85,"d":"1.9"}},{"$f":"[2]ALCOHOLcomp!K261","v":{"v":1.36,"d":"(1.4 -"}},{"$f":"[2]ALCOHOLcomp!L261","v":{"v":2.46,"d":"2.5)"}},{"$f":"[2]ALCOHOLcomp!D263","v":{"v":2.24,"d":"2.2"}},{"$f":"[2]ALCOHOLcomp!E263","v":{"v":1.97,"d":"(2.0 -"}},{"$f":"[2]ALCOHOLcomp!F263","v":{"v":2.56,"d":"2.6)"}},{"$f":"[2]ALCOHOLcomp!J263","v":{"v":0.23,"d":"0.2"}},{"$f":"[2]ALCOHOLcomp!K263","v":{"v":0.06,"d":"(0.1 -"}},{"$f":"[2]ALCOHOLcomp!L263","v":{"v":0.42,"d":"0.4)"}}]
[null,null,"2005-2009"]
[null,"Lithuania","1980-1984"]
[null,null,"1985-1989",{"$f":"[2]ALCOHOLcomp!D224","v":{"v":23.81203408071749,"d":"23.8"}},{"$f":"[2]ALCOHOLcomp!E224","v":{"v":20.95442582328008,"d":"(21.0 -"}},{"$f":"[2]ALCOHOLcomp!F224","v":{"v":26.612925319160592,"d":"26.6)"}},{"$f":"[2]ALCOHOLcomp!J224","v":{"v":3.59,"d":"3.6"}},{"$f":"[2]ALCOHOLcomp!K224","v":{"v":1.23,"d":"(1.2 -"}},{"$f":"[2]ALCOHOLcomp!L224","v":{"v":6.37,"d":"6.4)"}},{"$f":"[2]ALCOHOLcomp!D227","v":{"v":6.988237879009815,"d":"7.0"}},{"$f":"[2]ALCOHOLcomp!E227","v":{"v":5.302442396313364,"d":"(5.3 -"}},{"$f":"[2]ALCOHOLcomp!F227","v":{"v":8.726833374597673,"d":"8.7)"}},{"$f":"[2]ALCOHOLcomp!J227","v":{"v":1.7811522633744854,"d":"1.8"}},{"$f":"[2]ALCOHOLcomp!K227","v":{"v":0.33019148936170206,"d":"(0.3 -"}},{"$f":"[2]ALCOHOLcomp!L227","v":{"v":3.5091964285714288,"d":"3.5)"}}]
[null,null,"1990-1994"]
[null,null,"1995-1999"]
[null,null,"2000-2004",{"$f":"[2]ALCOHOLcomp!D225","v":{"v":112.47,"d":"112.5"}},{"$f":"[2]ALCOHOLcomp!E225","v":{"v":103.39,"d":"(103.4 -"}},{"$f":"[2]ALCOHOLcomp!F225","v":{"v":122.5,"d":"122.5)"}},{"$f":"[2]ALCOHOLcomp!J225","v":{"v":27.69,"d":"27.7"}},{"$f":"[2]ALCOHOLcomp!K225","v":{"v":21.72,"d":"(21.7 -"}},{"$f":"[2]ALCOHOLcomp!L225","v":{"v":33.35,"d":"33.4)"}},{"$f":"[2]ALCOHOLcomp!D228","v":50.7},{"$f":"[2]ALCOHOLcomp!E228","v":{"v":43.42,"d":"(43.4 -"}},{"$f":"[2]ALCOHOLcomp!F228","v":{"v":59.54,"d":"59.5)"}},{"$f":"[2]ALCOHOLcomp!J228","v":{"v":9.69,"d":"9.7"}},{"$f":"[2]ALCOHOLcomp!K228","v":{"v":7.39,"d":"(7.4 -"}},{"$f":"[2]ALCOHOLcomp!L228","v":{"v":11.91,"d":"11.9)"}}]
[null,null,"2005-2009",{"$f":"[2]ALCOHOLcomp!D226","v":162.5},{"$f":"[2]ALCOHOLcomp!E226","v":{"v":148.63,"d":"(148.6 -"}},{"$f":"[2]ALCOHOLcomp!F226","v":{"v":175.6,"d":"175.6)"}},{"$f":"[2]ALCOHOLcomp!J226","v":{"v":43.24,"d":"43.2"}},{"$f":"[2]ALCOHOLcomp!K226","v":{"v":37,"d":"(37.0 -"}},{"$f":"[2]ALCOHOLcomp!L226","v":{"v":49.24,"d":"49.2)"}},{"$f":"[2]ALCOHOLcomp!D229","v":{"v":66.35,"d":"66.4"}},{"$f":"[2]ALCOHOLcomp!E229","v":{"v":55.29,"d":"(55.3 -"}},{"$f":"[2]ALCOHOLcomp!F229","v":{"v":78,"d":"78.0)"}},{"$f":"[2]ALCOHOLcomp!J229","v":11.9},{"$f":"[2]ALCOHOLcomp!K229","v":{"v":9.33,"d":"(9.3 -"}},{"$f":"[2]ALCOHOLcomp!L229","v":{"v":14.55,"d":"14.6)"}}]
[null,"Estonia","1980-1984"]
[null,null,"1985-1989",{"$f":"[2]ALCOHOLcomp!D107","v":{"v":48.55,"d":"48.6"}},{"$f":"[2]ALCOHOLcomp!E107","v":{"v":43.85,"d":"(43.9 -"}},{"$f":"[2]ALCOHOLcomp!F107","v":{"v":54,"d":"54.0)"}},{"$f":"[2]ALCOHOLcomp!J107","v":{"v":15.53,"d":"15.5"}},{"$f":"[2]ALCOHOLcomp!K107","v":{"v":10.75,"d":"(10.8 -"}},{"$f":"[2]ALCOHOLcomp!L107","v":{"v":20.68,"d":"20.7)"}},{"$f":"[2]ALCOHOLcomp!D109","v":{"v":12.54,"d":"12.5"}},{"$f":"[2]ALCOHOLcomp!E109","v":{"v":9.84,"d":"(9.8 -"}},{"$f":"[2]ALCOHOLcomp!F109","v":{"v":15.42,"d":"15.4)"}},{"$f":"[2]ALCOHOLcomp!J109","v":{"v":1.19,"d":"1.2"}},{"$f":"[2]ALCOHOLcomp!K109","v":{"v":0,"d":"(0.0"}},{"$f":"[2]ALCOHOLcomp!L109","v":{"v":2.68,"d":"2.7)"}}]
[null,null,"1990-1994"]
[null,null,"1995-1999"]
[null,null,"2000-2004",{"$f":"[2]ALCOHOLcomp!D108","v":{"v":125.39,"d":"125.4"}},{"$f":"[2]ALCOHOLcomp!E108","v":{"v":113.4,"d":"(113.4 -"}},{"$f":"[2]ALCOHOLcomp!F108","v":{"v":137.18,"d":"137.2)"}},{"$f":"[2]ALCOHOLcomp!J108","v":{"v":31.34,"d":"31.3"}},{"$f":"[2]ALCOHOLcomp!K108","v":{"v":24.37,"d":"(24.4 -"}},{"$f":"[2]ALCOHOLcomp!L108","v":{"v":38.46,"d":"38.5)"}},{"$f":"[2]ALCOHOLcomp!D110","v":{"v":59.83,"d":"59.8"}},{"$f":"[2]ALCOHOLcomp!E110","v":{"v":49.15,"d":"(49.2 -"}},{"$f":"[2]ALCOHOLcomp!F110","v":{"v":71.45,"d":"71.5)"}},{"$f":"[2]ALCOHOLcomp!J110","v":{"v":6.72,"d":"6.7"}},{"$f":"[2]ALCOHOLcomp!K110","v":{"v":4.29,"d":"(4.3 -"}},{"$f":"[2]ALCOHOLcomp!L110","v":{"v":9.34,"d":"9.3)"}}]
[null,null,"2005-2009"]
[]
[null,"* different codes of alcohol-related causes; or some specific alcohol-related causes are missing"]
[null,"# age range 40–79 years"]
[null,"NA = not available; regression gives 'infinite' value"]
[]
[null,"In the Czech Republic, only mortality due to alcohol poisoning was included in this trend table, because this is the only cause of death comparable between multiple time points. Note that the number of observations in the first period is very small and it shouldn't be included "]
[null,"In Estonia, only mortality due to liver cirrhosis and alcohol poisoning was included in this trend table, because these are the only causes of death comparable between multiple time points. "]
[null,"In Poland, only mortality due to alcohol poisoning was included in this trend table, because this is the only cause of death comparable between multiple time points. Note that the number of observations in the first period is very small and it shouldn't be included "]
[null,"In Lithuania, only mortality due to liver cirrhosis and alcohol poisoning was included in this trend table, because these are the only causes of death comparable between multiple time points. "]
[null,"In Belgium, only mortality due to alcohol psychosis, dependency and abuse, alcoholic cadiomyopathy, and alcohol poisoning was included in this trend table, because these are the only causes of death comparable between multiple time points. "]

{"sheet":"Figure 3","index":11,"n_rows":44,"n_cols":22,"rows_kept":44,"merged":[[37,8,37,9],[37,10,37,11],[37,12,37,13],[37,14,37,15],[37,16,37,17],[37,18,37,19],[38,8,38,9],[38,10,38,11],[38,12,38,13],[38,14,38,15],[38,16,38,17],[38,18,38,19],[39,12,39,13],[39,14,39,15],[39,16,39,17],[39,18,39,19],[40,8,40,9],[40,10,40,11],[40,12,40,13],[40,14,40,15],[40,16,40,17],[40,18,40,19],[41,12,41,13],[41,14,41,15],[41,16,41,17],[41,18,41,19],[42,8,42,9],[42,10,42,11],[42,12,42,13],[42,14,42,15],[42,16,42,17],[42,18,42,19],[43,10,43,11],[43,16,43,17],[43,18,43,19]]}
[]
["Figure 3. Change in alcohol affordability vs. changes in absolute inequalities in alcohol-related mortality between the early 90s and late 2000s, men"]
[]
[]
[null,"Country (period)",null,"Alcohol affordability","SII change"]
[null,"Finland","1990-1994 vs 2005-2009",155,{"$f":"('[4]Abs_rel diff'!$BJ$124-'[4]Abs_rel diff'!$BJ$121)/'[4]Abs_rel diff'!$BJ$121","v":{"v":0.6898443424915713,"d":"+69.0%"}}]
[null,"Sweden","1990-1994 vs 2005-2009",120,{"$f":"('[4]Abs_rel diff'!$BJ$340-'[4]Abs_rel diff'!$BJ$337)/'[4]Abs_rel diff'!$BJ$337","v":{"v":-0.13691033748013642,"d":"-13.7%"}}]
[null,"France","1990-1994 vs 2005-2009",116,{"$f":"('[4]Abs_rel diff'!$BJ$147-'[4]Abs_rel diff'!$BJ$144)/'[4]Abs_rel diff'!$BJ$144","v":{"v":-0.28190058892374903,"d":"-28.2%"}}]
[null,"Spain (B)","1990-1994 vs 2005-2009",130,{"$f":"('[4]Abs_rel diff'!$BJ$303-'[4]Abs_rel diff'!$BJ$300)/'[4]Abs_rel diff'!$BJ$300","v":{"v":-0.1330859357464574,"d":"-13.3%"}}]
[null,"Italy (T)","1990-1994 vs 2005-2009",98,{"$f":"('[4]Abs_rel diff'!$BJ$185-'[4]Abs_rel diff'!$BJ$182)/'[4]Abs_rel diff'!$BJ$182","v":{"v":-0.36228603762908473,"d":"-36.2%"}}]
[null,"Lithuania","1985-1989 vs 2005-2009",265,{"$f":"('[4]Abs_rel diff'!$BM$225-'[4]Abs_rel diff'!$BM$223)/'[4]Abs_rel diff'!$BM$223","v":{"v":4.128068169078017,"d":"+412.8%"}}]
{"$rows_empty":18}
["Figure 3b. Change in alcohol affordability vs. changes in absolute inequalities in alcohol-related mortality between the early 90s and late 2000s, women"]
[]
[]
[null,"Country (period)",null,"Alcohol affordability","SII change"]
[null,"Finland","1990-1994 vs 2005-2009",155,148.30803012137454]
[null,"Sweden","1990-1994 vs 2005-2009",120,8.99187439746591]
[null,"France","1990-1994 vs 2005-2009",116,69.65661334462268,{"$nulls":3},"Slope Index of Inequality"]
[null,"Spain (B)","1990-1994 vs 2005-2009",130,27.12833545108004,{"$nulls":3},"(95% CI)"]
[null,"Italy (T)","1990-1994 vs 2005-2009",98,-33.68455074337427,{"$nulls":3},"1980-4",null,"1985-9",null,"1990-4",null,"1995-9",null,"2000-4",null,"2005-9"]
[null,"Lithuania","1985-1989 vs 2005-2009",265,494.1598604982754,null,"North","Finland",{"$f":"'[4]Abs_rel diff'!$BJ$127","v":{"v":4.3062,"d":"4.3"}},null,{"$f":"'[4]Abs_rel diff'!$BJ$128","v":{"v":10.3528,"d":"10.4"}},null,{"$f":"'[4]Abs_rel diff'!$BJ$129","v":{"v":14.8466,"d":"14.8"}},null,{"$f":"'[4]Abs_rel diff'!$BJ$130","v":{"v":20.4037,"d":"20.4"}},null,{"$f":"'[4]Abs_rel diff'!$BJ$131","v":{"v":28.9601,"d":"29.0"}},null,{"$f":"'[4]Abs_rel diff'!$BJ$132","v":{"v":36.8653,"d":"36.9"}},null,{"$f":"100*(S39-M39)/M39","v":{"v":148.30803012137454,"d":"148.3"}},148.30803012137454]
[{"$nulls":7},"Sweden",{"$nulls":4},{"$f":"'[4]Abs_rel diff'!$BJ$356","v":{"v":7.261,"d":"7.3"}},null,{"$f":"'[4]Abs_rel diff'!$BJ$357","v":{"v":4.7503,"d":"4.8"}},null,{"$f":"'[4]Abs_rel diff'!$BJ$358","v":{"v":4.8919,"d":"4.9"}},null,{"$f":"'[4]Abs_rel diff'!$BJ$359","v":{"v":7.9139,"d":"7.9"}},null,{"$f":"100*(S40-M40)/M40","v":{"v":8.99187439746591,"d":"9.0"}},8.99187439746591]
[{"$nulls":7},"France",{"$f":"('[4]Abs_rel diff'!$BJ$149+'[4]Abs_rel diff'!$BJ$150)/2","v":{"v":28.74749,"d":"28.7"}},null,{"$f":"('[4]Abs_rel diff'!$BJ$150+'[4]Abs_rel diff'!$BJ$151)/2","v":{"v":30.656150000000004,"d":"30.7"}},null,{"$f":"'[4]Abs_rel diff'!$BJ$152","v":{"v":10.58224,"d":"10.6"}},null,{"$f":"'[4]Abs_rel diff'!$BJ$153","v":{"v":22.0923,"d":"22.1"}},null,{"$f":"'[4]Abs_rel diff'!$BJ$154","v":{"v":19.05541,"d":"19.1"}},null,{"$f":"'[4]Abs_rel diff'!$BJ$155","v":{"v":17.95347,"d":"18.0"}},null,{"$f":"100*(S41-M41)/M41","v":{"v":69.65661334462268,"d":"69.7"}},69.65661334462268]
[{"$nulls":6},"South","Spain (Barcelona)",{"$nulls":4},{"$f":"'[4]Abs_rel diff'!$BJ$304","v":{"v":2.6758,"d":"2.7"}},null,{"$f":"'[4]Abs_rel diff'!$BJ$305","v":{"v":4.4796,"d":"4.5"}},null,{"$f":"'[4]Abs_rel diff'!$BJ$306","v":{"v":3.4028,"d":"3.4"}},null,{"$f":"'[4]Abs_rel diff'!$BJ$307","v":{"v":3.4017,"d":"3.4"}},null,{"v":27.12833545108004,"d":"27.1"},27.12833545108004]
[{"$nulls":7},"Italy (Turin)",{"$f":"'[4]Abs_rel diff'!$BJ$188","v":{"v":1.3989,"d":"1.4"}},null,{"$f":"'[4]Abs_rel diff'!$BJ$189","v":{"v":-1.2117,"d":"-1.2"}},null,{"$f":"'[4]Abs_rel diff'!$BJ$190","v":{"v":1.547,"d":"1.5"}},null,{"$f":"'[4]Abs_rel diff'!$BJ$191","v":{"v":3.4441,"d":"3.4"}},null,{"$f":"'[4]Abs_rel diff'!$BJ$192","v":{"v":2.5465,"d":"2.5"}},null,{"$f":"'[4]Abs_rel diff'!$BJ$193","v":{"v":1.0259,"d":"1.0"}},null,{"v":-33.68455074337427,"d":"-33.7"},-33.68455074337427]
[{"$nulls":7},"Lithuania",null,null,{"$f":"'[4]Abs_rel diff'!$BM$226","v":{"v":8.972854537041675,"d":"9.0"}},{"$nulls":5},{"$f":"'[4]Abs_rel diff'!$BM$227","v":{"v":40.4318,"d":"40.4"}},null,{"$f":"'[4]Abs_rel diff'!$BM$228","v":{"v":53.3131,"d":"53.3"}},null,{"$f":"100*(S44-K44)/K44","v":{"v":494.1598604982754,"d":"494.2"}},494.1598604982754]

{"sheet":"Table A1","index":12,"n_rows":65,"n_cols":8,"rows_kept":65,"merged":[[3,2,3,7],[27,2,27,7],[43,2,43,7],[43,12,43,17]]}
[]
[null,"Datasources: selected quantitative characteristics (most recent time-period)"]
[]
[null,null,"Men (Education, 35-79 years)"]
[null,"Country","Total person-years ","Missing education (%)","Low educated (%)","Mid educated (%)","High educated (%)","Deaths from alcohol-related causes"]
["North","Finland",{"$f":"[6]Sheet3!$S$8","v":{"v":6557045.1,"d":"6557045"}},{"v":0,"d":"0.0%"},{"v":0.33936929913750324,"d":"33.9%"},{"v":0.38145174569563356,"d":"38.1%"},{"v":0.2791789551668632,"d":"27.9%"},7001]
[null,"Sweden",{"$f":"[6]Sheet3!$S$18","v":{"v":9079495.7,"d":"9079496"}},{"v":0.011420689367141836,"d":"1.1%"},{"v":0.28535898119673236,"d":"28.5%"},{"v":0.45272385476969546,"d":"45.3%"},{"v":0.26191716403357224,"d":"26.2%"},2436]
[null,"Norway",{"$f":"[6]Sheet3!$S$12","v":{"v":2469730.2,"d":"2469730"}},{"v":0.020812151869868213,"d":"2.1%"},{"v":0.2498793588864513,"d":"25.0%"},{"v":0.4937904251107521,"d":"49.4%"},{"v":0.25633021600279665,"d":"25.6%"},699]
[null,"Denmark",{"$f":"[6]Sheet3!$S$6","v":{"v":6495868.22,"d":"6495868"}},{"v":0,"d":"0.0%"},{"v":0.3650562464766257,"d":"36.5%"},{"v":0.4184178446895895,"d":"41.8%"},{"v":0.21652590883378478,"d":"21.7%"},4851]
["West","Scotland (UK)",{"v":289329.54,"d":"289330"},{"v":0,"d":"0.0%"},{"v":0.5653290707889695,"d":"56.5%"},{"v":0.2122528864491334,"d":"21.2%"},{"v":0.22241804276189706,"d":"22.2%"},{"v":128.520181668,"d":"129"}]
[null,"England & Wales (UK)",{"v":495283.7,"d":"495284"},{"v":0.1113917134765388,"d":"11.1%"},{"v":0.534745379143366,"d":"53.5%"},{"v":0.23495000831604237,"d":"23.5%"},{"v":0.23030461254059187,"d":"23.0%"},93]
[null,"Belgium",5250670,{"v":0.023730685798193374,"d":"2.4%"},{"v":0.5198097255050069,"d":"52.0%"},{"v":0.23753157390811047,"d":"23.8%"},{"v":0.24265870058688258,"d":"24.3%"},1452]
[null,"France",461084,{"v":0,"d":"0.0%"},{"v":0.350337465624485,"d":"35.0%"},{"v":0.4662924759913595,"d":"46.6%"},{"v":0.1833700583841556,"d":"18.3%"},186]
[null,"Switzerland",4144956,{"v":0.0422860942311571,"d":"4.2%"},{"v":0.13722786863028325,"d":"13.7%"},{"v":0.53582629540603,"d":"53.6%"},{"v":0.32694583596368676,"d":"32.7%"},1131]
[null,"Austria",2037796,{"v":0,"d":"0.0%"},{"v":0.2167958421745847,"d":"21.7%"},{"v":0.687148566392318,"d":"68.7%"},{"v":0.09605559143309733,"d":"9.6%"},403]
["South","Barcelona (Spain)",1655103,{"v":0,"d":"0.0%"},{"v":0.4836581167456043,"d":"48.4%"},{"v":0.26457628316787535,"d":"26.5%"},{"v":0.25176560008652027,"d":"25.2%"},128]
[null,"Basque Country (Spain)",{"v":2842171.18,"d":"2842171"},{"v":0,"d":"0.0%"},{"v":0.591392739405654,"d":"59.1%"},{"v":0.22760297287934644,"d":"22.8%"},{"v":0.18100428771499963,"d":"18.1%"},229]
[null,"Madrid (Spain)",{"v":2105042.932499998,"d":"2105043"},{"v":0.016977920947937732,"d":"1.7%"},{"v":0.5706549853765304,"d":"57.1%"},{"v":0.21350972154072592,"d":"21.4%"},{"v":0.2158352930827436,"d":"21.6%"},105]
[null,"Turin (Italy)",{"v":847799.55,"d":"847800"},{"v":3.6600632779293172E-5,"d":"0.0%"},{"v":0.5451364719227838,"d":"54.5%"},{"v":0.30321190742020004,"d":"30.3%"},{"v":0.15165162065701615,"d":"15.2%"},38]
["East","Slovenia",2238797,{"v":0,"d":"0.0%"},{"v":0.28455058676601763,"d":"28.5%"},{"v":0.5579500955200494,"d":"55.8%"},{"v":0.15749931771393297,"d":"15.7%"},2820]
[null,"Hungary",9546032,{"v":0,"d":"0.0%"},{"v":0.6517761515989052,"d":"65.2%"},{"v":0.2054189636070778,"d":"20.5%"},{"v":0.14280488479401704,"d":"14.3%"},18978]
[null,"Czech Republic",14643606,{"v":0,"d":"0.0%"},{"v":0.6270992267888115,"d":"62.7%"},{"v":0.23839210096201716,"d":"23.8%"},{"v":0.1345086722491714,"d":"13.5%"},4982]
[null,"Poland",21370641,{"v":0.022636195142672604,"d":"2.3%"},{"v":0.5945343900152493,"d":"59.5%"},{"v":0.29148986318739345,"d":"29.1%"},{"v":0.11397574679735725,"d":"11.4%"},7917]
[null,"Lithuania",{"v":2590080.66,"d":"2590081"},{"v":8.308162109515153E-3,"d":"0.8%"},{"v":0.17459773520578348,"d":"17.5%"},{"v":0.650537512462616,"d":"65.1%"},{"v":0.17486475233160045,"d":"17.5%"},2759]
[null,"Estonia",1518780,{"v":0.023848088597426882,"d":"2.4%"},{"v":0.32387896611267,"d":"32.4%"},{"v":0.5033759173321821,"d":"50.3%"},{"v":0.17274511655514785,"d":"17.3%"},2139]
[]
[]
[null,null,"Men (occupation; 35-64 years)"]
[null,null,"Total person-years","Missing occupation (%)","Manual occupation (%)","Non-manual occupation (%)","Farmers and self-employed (%)","Deaths from alcohol-related causes"]
["North","Finland",{"v":5108542.899999984,"d":"5108543"},{"v":0.03487744029711498,"d":"3%"},{"v":0.46299496792329964,"d":"46%"},{"v":0.3852766425237868,"d":"39%"},{"v":0.15172838955291362,"d":"15%"},5763.999999999982]
[null,"Sweden",{"v":7865436.400000003,"d":"7865436"},{"v":0.14888689456569748,"d":"15%"},{"v":0.44031751428363153,"d":"44%"},{"v":0.46634182185165585,"d":"47%"},{"v":0.09334066386471271,"d":"9%"},2019.999999999999]
[null,"Denmark",{"v":5337839.320000003,"d":"5337839"},{"v":0.1634918770840783,"d":"16%"},{"v":0.5526426991708973,"d":"55%"},{"v":0.30845607633497396,"d":"31%"},{"v":0.13890122449412878,"d":"14%"},4019.9999999999995]
["West","England & Wales",{"v":379135.100000018,"d":"379135"},{"v":0.035644549924286624,"d":"4%"},{"v":0.3797711291200403,"d":"38%"},{"v":0.4695012047995096,"d":"47%"},{"v":0.15072766608045013,"d":"15%"},75.00000000000037]
[null,"France",{"v":376841.2,"d":"376841"},{"v":0.056,"d":"6%"},{"v":0.334,"d":"33%"},{"v":0.482,"d":"48%"},{"v":0.128,"d":"13%"},151]
[null,"Switzerland",{"v":3190993.9999999935,"d":"3190994"},{"v":0.2082532903540399,"d":"21%"},{"v":0.14382540939710456,"d":"14%"},{"v":0.6731868595532324,"d":"67%"},{"v":0.1829877310496631,"d":"18%"},640.9999999999969]
[null,"Austria",{"v":1645943.80000001,"d":"1645944"},{"v":0.19419156352725803,"d":"19%"},{"v":0.37484138388199256,"d":"37%"},{"v":0.4832790903279875,"d":"48%"},{"v":0.14187952579001992,"d":"14%"},299.9999999999992]
["South","Basque Country",{"v":2186155.1608524933,"d":"2186155"},{"v":0.026956058913960756,"d":"3%"},{"v":0.5956731425654666,"d":"60%"},{"v":0.3776964432808272,"d":"38%"},{"v":0.026630414153706334,"d":"3%"},165.99999999999943]
[null,"Madrid",{"v":1679355.5487500015,"d":"1679356"},{"v":0.1881959527482102,"d":"19%"},{"v":0.3818048742767939,"d":"38%"},{"v":0.6083230040967322,"d":"61%"},{"v":0.009872121626473883,"d":"1%"},76]
[null,"Turin",{"v":580479.5927061936,"d":"580480"},{"v":0.07597470430739567,"d":"8%"},{"v":0.38063343839436775,"d":"38%"},{"v":0.4474845231603848,"d":"45%"},{"v":0.17188203844524752,"d":"17%"},21.999999999999783]
["East","Lithuania",{"v":2332126.3497604406,"d":"2332126"},{"v":0.35520728265997664,"d":"36%"},{"v":0.48058006750254245,"d":"48%"},{"v":0.29337079724239384,"d":"29%"},{"v":0.22604913525506373,"d":"23%"},2537.9999999999873]
[null,"Estonia",1224675,{"v":0.3539102210790618,"d":"35%"},{"v":0.5643285939968403,"d":"56%"},{"v":0.39745339652448664,"d":"40%"},{"v":0.03821800947867299,"d":"4%"},1160.0000000000002]
[]
[]
[null,null,"Women (Education; 35-79 years)"]
[null,"Country","Total person-years","Missing education (%)","Low educated (%)","Mid educated (%)","High educated (%)","Deaths from alcohol-related causes"]
["North","Finland",{"v":6890309.2,"d":"6890309"},{"v":0,"d":"0.0%"},{"v":0.331762600726249,"d":"33.2%"},{"v":0.35409781029855675,"d":"35.4%"},{"v":0.31413958897519434,"d":"31.4%"},1950]
[null,"Sweden",{"v":9159386.8,"d":"9159387"},{"v":0.01141875567477945,"d":"1.1%"},{"v":0.2646312264503305,"d":"26.5%"},{"v":0.45025428507626564,"d":"45.0%"},{"v":0.2851144884734038,"d":"28.5%"},710]
[null,"Norway",{"v":2507264.5,"d":"2507265"},{"v":0.014203128549062135,"d":"1.4%"},{"v":0.30226744970522773,"d":"30.2%"},{"v":0.46018412370504197,"d":"46.0%"},{"v":0.23754842658973033,"d":"23.8%"},253]
[null,"Denmark",{"v":6751910.71,"d":"6751911"},{"v":0,"d":"0.0%"},{"v":0.4535789514313645,"d":"45.4%"},{"v":0.3201486442642841,"d":"32.0%"},{"v":0.22627240430435133,"d":"22.6%"},1728]
["West","Scotland (UK)",{"v":318447.20999999996,"d":"318447"},{"v":0,"d":"0.0%"},{"v":0.6139849678695568,"d":"61.4%"},{"v":0.17384454396695767,"d":"17.4%"},{"v":0.2121704881634856,"d":"21.2%"},{"v":53.212528791,"d":"53"}]
[null,"England & Wales (UK)",{"v":529241.2,"d":"529241"},{"v":0.05879341971108826,"d":"5.9%"},{"v":0.5545265418158845,"d":"55.5%"},{"v":0.24320908815512882,"d":"24.3%"},{"v":0.20226437002898667,"d":"20.2%"},55]
[null,"Belgium",5560886,{"v":0.01687626755880268,"d":"1.7%"},{"v":0.5584037355504506,"d":"55.8%"},{"v":0.22222029145941707,"d":"22.2%"},{"v":0.2193759729901323,"d":"21.9%"},644]
[null,"France",{"$f":"'[7]France ASMR'!$C$1842","v":510063},{"v":0,"d":"0.0%"},{"v":0.4547379441363126,"d":"45.5%"},{"v":0.36884267237576535,"d":"36.9%"},{"v":0.17641938348792208,"d":"17.6%"},58]
[null,"Switzerland",4588930,{"v":0.05495246168496796,"d":"5.5%"},{"v":0.29431370030647325,"d":"29.4%"},{"v":0.5765796884630612,"d":"57.7%"},{"v":0.12910661123046552,"d":"12.9%"},519]
[null,"Austria",{"v":2210423.2,"d":"2210423"},{"v":0,"d":"0.0%"},{"v":0.427699727364425,"d":"42.8%"},{"v":0.49902896422730264,"d":"49.9%"},{"v":0.07327130840827223,"d":"7.3%"},102]
["South","Barcelona (Spain)",1882551,{"v":0,"d":"0.0%"},{"v":0.554125758080392,"d":"55.4%"},{"v":0.2149126371609587,"d":"21.5%"},{"v":0.2309616047586493,"d":"23.1%"},44]
[null,"Basque Country (Spain)",{"v":3020581.97,"d":"3020582"},{"v":0,"d":"0.0%"},{"v":0.6871190322307327,"d":"68.7%"},{"v":0.1537668782416787,"d":"15.4%"},{"v":0.15911408952758863,"d":"15.9%"},54]
[null,"Madrid (Spain)",{"v":2401405.0987500013,"d":"2401405"},{"v":0.016989087980714433,"d":"1.7%"},{"v":0.6664139319273397,"d":"66.6%"},{"v":0.1727993750430545,"d":"17.3%"},{"v":0.16078669302960585,"d":"16.1%"},21]
[null,"Turin (Italy)",{"v":974982.53,"d":"974983"},{"v":1.4348975052917102E-5,"d":"0.0%"},{"v":0.6106851099010846,"d":"61.1%"},{"v":0.2612004896075929,"d":"26.1%"},{"v":0.1281144004913225,"d":"12.8%"},9]
["East","Slovenia",2523941,{"v":0,"d":"0.0%"},{"v":0.43644086767479906,"d":"43.6%"},{"v":0.4213933685454612,"d":"42.1%"},{"v":0.1421657637797397,"d":"14.2%"},913]
[null,"Hungary",11485316,{"v":0,"d":"0.0%"},{"v":0.6358933441622329,"d":"63.6%"},{"v":0.2557547393558871,"d":"25.6%"},{"v":0.10835191648187999,"d":"10.8%"},5892]
[null,"Czech Republic",16340922,{"v":0,"d":"0.0%"},{"v":0.6453403302457474,"d":"64.5%"},{"v":0.2781852823237269,"d":"27.8%"},{"v":0.07647438743052565,"d":"7.6%"},1461]
[null,"Poland",22533243,{"v":0.01951876168024283,"d":"2.0%"},{"v":0.46707531318597906,"d":"46.7%"},{"v":0.40798446705087155,"d":"40.8%"},{"v":0.12494021976314941,"d":"12.5%"},1038]
[null,"Lithuania",{"v":3066024.9,"d":"3066025"},{"v":0.005360921889447147,"d":"0.5%"},{"v":0.1337234196651431,"d":"13.4%"},{"v":0.6535954405489596,"d":"65.4%"},{"v":0.21268113978589726,"d":"21.3%"},1078]
[null,"Estonia",1997440,{"v":0.022401173502082667,"d":"2.2%"},{"v":0.2925648910864216,"d":"29.3%"},{"v":0.5302697041780718,"d":"53.0%"},{"v":0.17716540473550657,"d":"17.7%"},774]

{"sheet":"Table A2","index":13,"n_rows":8,"n_cols":4,"rows_kept":8,"merged":[[2,1,2,3]]}
["Web appendix table A2. ICD-code numbers"]
[]
[null,"Revisions of International Classification of Diseases"]
["Cause of death","ICD-8","ICD-9","ICD-10"]
["Alcoholic psychosis, dependence and abuse","291, 303","291, 303, 305.0","F10"]
["Alcoholic cardiomyopathy",425,425.5,"I42.6"]
["Alcoholic cirrhosis of liver","571.0","571.0–571.3","K70"]
["Accidental poisoning by alcohol","E860","E860","X45"]

{"sheet":"Table A3","index":14,"n_rows":16,"n_cols":9,"rows_kept":16,"merged":[[2,2,2,8],[3,3,3,4],[3,6,3,7]]}
["Web appendix table A2. Occupational class inequalities in mortality from alcohol-related causes, latest observed period, by country and sex (Rate Ratio and Rate Difference, with 95% Confidence Intervals)"]
[]
[null,null,"Men"]
["Country","Period","RR","95% CI",null,"RD","95% CI",null,"% of RD in total mortality "]
["Finland","2006–2010",{"$f":"'[8]Abs_rel diff'!BE71","v":{"v":2.5435,"d":"2.5"}},{"$f":"'[8]Abs_rel diff'!BF71","v":{"v":2.3862,"d":"(2.4 -"}},{"$f":"'[8]Abs_rel diff'!BG71","v":{"v":2.7269,"d":"2.7)"}},{"$f":"'[8]Abs_rel diff'!J71","v":{"v":87.85,"d":"87.9"}},{"$f":"'[8]Abs_rel diff'!K71","v":{"v":82.38,"d":"(82.4 -"}},{"$f":"'[8]Abs_rel diff'!L71","v":{"v":94.05,"d":"94.1)"}},{"$f":"'[8]Abs_rel diff'!$J$71/'[8]Abs_rel diff'!$Y$71","v":{"v":0.23731698092819709,"d":"23.7%"}}]
["Sweden","1995-1999",{"$f":"'[8]Abs_rel diff'!BE165","v":{"v":2.9863,"d":"3.0"}},{"$f":"'[8]Abs_rel diff'!BF165","v":{"v":2.6223,"d":"(2.6 -"}},{"$f":"'[8]Abs_rel diff'!BG165","v":{"v":3.3732,"d":"3.4)"}},{"$f":"'[8]Abs_rel diff'!J165","v":{"v":17.68,"d":"17.7"}},{"$f":"'[8]Abs_rel diff'!K165","v":{"v":15.55,"d":"(15.6 -"}},{"$f":"'[8]Abs_rel diff'!L165","v":{"v":19.71,"d":"19.7)"}},{"$f":"'[8]Abs_rel diff'!$G$165/'[8]Abs_rel diff'!$Y$165","v":{"v":0.0751960324375042,"d":"7.5%"}}]
["Denmark","2001–2005",{"$f":"'[8]Abs_rel diff'!BE21","v":{"v":2.0415,"d":"2.0"}},{"$f":"'[8]Abs_rel diff'!BF21","v":{"v":1.7766,"d":"(1.8 -"}},{"$f":"'[8]Abs_rel diff'!BG21","v":{"v":2.4069,"d":"2.4)"}},{"$f":"'[8]Abs_rel diff'!J21","v":{"v":19.04,"d":"19.0"}},{"$f":"'[8]Abs_rel diff'!K21","v":{"v":15.55,"d":"(15.6 -"}},{"$f":"'[8]Abs_rel diff'!L21","v":{"v":22.48,"d":"22.5)"}},{"$f":"'[8]Abs_rel diff'!$J$21/'[8]Abs_rel diff'!$Y$21","v":{"v":0.12226289090091826,"d":"12.2%"}}]
["England & Wales","2006–2009",{"$f":"'[8]Abs_rel diff'!BE39","v":{"v":2.4064,"d":"2.4"}},{"$f":"'[8]Abs_rel diff'!BF39","v":{"v":1.4521,"d":"(1.5 -"}},{"$f":"'[8]Abs_rel diff'!BG39","v":{"v":4.5245,"d":"4.5)"}},{"$f":"'[8]Abs_rel diff'!J39","v":{"v":16.33,"d":"16.3"}},{"$f":"'[8]Abs_rel diff'!K39","v":{"v":6.57,"d":"(6.6 -"}},{"$f":"'[8]Abs_rel diff'!L39","v":{"v":26.94,"d":"26.9)"}},{"$f":"'[8]Abs_rel diff'!$J$39/'[8]Abs_rel diff'!$Y$39","v":{"v":0.08802759959031857,"d":"8.8%"}}]
["France","2004–2007",{"$f":"'[8]Abs_rel diff'!BE94","v":{"v":2.2921125644074514,"d":"2.3"}},{"$f":"'[8]Abs_rel diff'!BF94","v":{"v":1.607717041800643,"d":"(1.6 -"}},{"$f":"'[8]Abs_rel diff'!BG94","v":{"v":3.4094783498124785,"d":"3.4)"}},{"$f":"'[8]Abs_rel diff'!J94","v":{"v":32.599999999999994,"d":"32.6"}},{"$f":"'[8]Abs_rel diff'!K94","v":{"v":17.61,"d":"(17.6 -"}},{"$f":"'[8]Abs_rel diff'!L94","v":{"v":48.81,"d":"48.8)"}},{"$f":"'[8]Abs_rel diff'!$J$94/'[8]Abs_rel diff'!$Y$94","v":{"v":0.1323589118960617,"d":"13.2%"}}]
["Switzerland","2006–2008",{"$f":"'[8]Abs_rel diff'!BE178","v":{"v":2.7305,"d":"2.7"}},{"$f":"'[8]Abs_rel diff'!BF178","v":{"v":2.0285,"d":"(2.0 -"}},{"$f":"'[8]Abs_rel diff'!BG178","v":{"v":3.5994,"d":"3.6)"}},{"$f":"'[8]Abs_rel diff'!J178","v":{"v":13.68,"d":"13.7"}},{"$f":"'[8]Abs_rel diff'!K178","v":{"v":9.03,"d":"(9.0 -"}},{"$f":"'[8]Abs_rel diff'!L178","v":{"v":18.4,"d":"18.4)"}},{"$f":"'[8]Abs_rel diff'!$J$178/'[8]Abs_rel diff'!$Y$178","v":{"v":0.07211386399578282,"d":"7.2%"}}]
["Austria","2001–2002",{"$f":"'[8]Abs_rel diff'!BE8","v":{"v":3.138,"d":"3.1"}},{"$f":"'[8]Abs_rel diff'!BF8","v":{"v":2.0995,"d":"(2.1 -"}},{"$f":"'[8]Abs_rel diff'!BG8","v":{"v":5.0739,"d":"5.1)"}},{"$f":"'[8]Abs_rel diff'!J8","v":{"v":14.01,"d":"14.0"}},{"$f":"'[8]Abs_rel diff'!K8","v":{"v":8.14,"d":"(8.1 -"}},{"$f":"'[8]Abs_rel diff'!L8","v":{"v":20.9,"d":"20.9)"}},{"$f":"'[8]Abs_rel diff'!$J$8/'[8]Abs_rel diff'!$Y$8","v":{"v":0.11160678722217797,"d":"11.2%"}}]
["Basque Country","2001-2006",{"$f":"'[8]Abs_rel diff'!BE144","v":{"v":1.8353,"d":"1.8"}},{"$f":"'[8]Abs_rel diff'!BF144","v":{"v":1.2696,"d":"(1.3 -"}},{"$f":"'[8]Abs_rel diff'!BG144","v":{"v":2.8676,"d":"2.9)"}},{"$f":"'[8]Abs_rel diff'!J144","v":4.1},{"$f":"'[8]Abs_rel diff'!K144","v":{"v":1.69,"d":"(1.7 -"}},{"$f":"'[8]Abs_rel diff'!L144","v":{"v":6.58,"d":"6.6)"}},{"$f":"'[8]Abs_rel diff'!$J$144/'[8]Abs_rel diff'!$Y$144","v":{"v":0.032664117272147866,"d":"3.3%"}}]
["Madrid","2001–2003",{"$f":"'[8]Abs_rel diff'!BE154","v":{"v":0.9474,"d":"0.9"}},{"$f":"'[8]Abs_rel diff'!BF154","v":{"v":0.3922,"d":"(0.4 -"}},{"$f":"'[8]Abs_rel diff'!BG154","v":{"v":1.8757,"d":"1.9)"}},{"$f":"'[8]Abs_rel diff'!J154","v":{"v":-0.14,"d":"-0.1"}},{"$f":"'[8]Abs_rel diff'!K154","v":{"v":-2,"d":"(-2.0 -"}},{"$f":"'[8]Abs_rel diff'!L154","v":{"v":1.68,"d":"1.7)"}},{"$f":"'[8]Abs_rel diff'!$J$154/'[8]Abs_rel diff'!$Y$154","v":{"v":-2.4462694391053645E-3,"d":"-0.2%"}}]
["Turin","2006–2010",{"$f":"'[8]Abs_rel diff'!BE117","v":{"v":3.2151,"d":"3.2"}},{"$f":"'[8]Abs_rel diff'!BF117","v":{"v":0.9871,"d":"(1.0 -"}},{"$f":"'[8]Abs_rel diff'!BG117","v":{"v":16.7483,"d":"16.7)"}},{"$f":"'[8]Abs_rel diff'!J117","v":{"v":3.18,"d":"3.2"}},{"$f":"'[8]Abs_rel diff'!K117","v":{"v":-0.03,"d":"(-0.0 -"}},{"$f":"'[8]Abs_rel diff'!L117","v":{"v":6.94,"d":"6.9)"}},{"$f":"'[8]Abs_rel diff'!$J$117/'[8]Abs_rel diff'!$Y$117","v":{"v":0.02369068017581763,"d":"2.4%"}}]
["Lithuania","2006–2009",{"$f":"'[8]Abs_rel diff'!BE134","v":{"v":2.2271,"d":"2.2"}},{"$f":"'[8]Abs_rel diff'!BF134","v":{"v":1.8568,"d":"(1.9 -"}},{"$f":"'[8]Abs_rel diff'!BG134","v":{"v":2.7757,"d":"2.8)"}},{"$f":"'[8]Abs_rel diff'!J134","v":{"v":33.75,"d":"33.8"}},{"$f":"'[8]Abs_rel diff'!K134","v":{"v":26.48,"d":"(26.5 -"}},{"$f":"'[8]Abs_rel diff'!L134","v":{"v":41.49,"d":"41.5)"}},{"$f":"'[8]Abs_rel diff'!$J$134/'[8]Abs_rel diff'!$Y$134","v":{"v":0.07722758683813098,"d":"7.7%"}}]
["Estonia","1998–2002",{"$f":"'[8]Abs_rel diff'!BE55","v":{"v":1.758,"d":"1.8"}},{"$f":"'[8]Abs_rel diff'!BF55","v":{"v":1.3119,"d":"(1.3 -"}},{"$f":"'[8]Abs_rel diff'!BG55","v":{"v":2.5671,"d":"2.6)"}},{"$f":"'[8]Abs_rel diff'!J55","v":{"v":14.07,"d":"14.1"}},{"$f":"'[8]Abs_rel diff'!K55","v":{"v":7.03,"d":"(7.0 -"}},{"$f":"'[8]Abs_rel diff'!L55","v":{"v":21.56,"d":"21.6)"}},{"$f":"'[8]Abs_rel diff'!$J$55/'[8]Abs_rel diff'!$Y$55","v":{"v":0.061900571931368234,"d":"6.2%"}}]

{"sheet":"Table A4","index":15,"n_rows":26,"n_cols":29,"rows_kept":26}
["Web appendix table A5. Trends in relative and absolute occupational class inequalities in mortality from alcohol-related causes, by country and sex (with 95% Confidence Intervals)"]
["a. Men"]
[]
[null,null,"Rate ratio",{"$nulls":14},"Rate difference"]
[null,null,"% CI",{"$nulls":14},"% CI"]
[null,null,"1980-4",null,"1985-9",null,"1990-4",null,"1995-9",null,"2000-4",null,"2005-9",{"$nulls":4},"1980-4",null,"1985-9",null,"1990-4",null,"1995-9",null,"2000-4",null,"2005-9"]
["North","Finland",{"$f":"'[8]Abs_rel diff'!$BE$66","v":{"v":1.9587,"d":"2.0"}},null,{"$f":"'[8]Abs_rel diff'!$BE$67","v":{"v":1.9177,"d":"1.9"}},null,{"$f":"'[8]Abs_rel diff'!$BE$68","v":{"v":2.1517,"d":"2.2"}},null,{"$f":"'[8]Abs_rel diff'!$BE$69","v":{"v":2.4977,"d":"2.5"}},null,{"$f":"'[8]Abs_rel diff'!$BE$70","v":{"v":2.3031,"d":"2.3"}},null,{"$f":"'[8]Abs_rel diff'!$BE$71","v":{"v":2.5435,"d":"2.5"}},null,null,"North","Finland",{"$f":"'[8]Abs_rel diff'!$J$66","v":{"v":32.72,"d":"32.7"}},null,{"$f":"'[8]Abs_rel diff'!$J$67","v":{"v":41.87,"d":"41.9"}},null,{"$f":"'[8]Abs_rel diff'!$J$68","v":{"v":50.04,"d":"50.0"}},null,{"$f":"'[8]Abs_rel diff'!$J$69","v":{"v":70.39,"d":"70.4"}},null,{"$f":"'[8]Abs_rel diff'!$J$70","v":{"v":67.57,"d":"67.6"}},null,{"$f":"'[8]Abs_rel diff'!$J$71","v":{"v":87.85,"d":"87.9"}}]
[null,null,{"$f":"'[8]Abs_rel diff'!$BF$66","v":{"v":1.7582,"d":"1.8"}},{"$f":"'[8]Abs_rel diff'!$BG$66","v":{"v":2.2074,"d":"2.2"}},{"$f":"'[8]Abs_rel diff'!$BF$67","v":{"v":1.746,"d":"1.7"}},{"$f":"'[8]Abs_rel diff'!$BG$67","v":{"v":2.1079,"d":"2.1"}},{"$f":"'[8]Abs_rel diff'!$BF$68","v":{"v":1.9821,"d":"2.0"}},{"$f":"'[8]Abs_rel diff'!$BG$68","v":{"v":2.35,"d":"2.4"}},{"$f":"'[8]Abs_rel diff'!$BF$69","v":{"v":2.2962,"d":"2.3"}},{"$f":"'[8]Abs_rel diff'!$BG$69","v":{"v":2.7079,"d":"2.7"}},{"$f":"'[8]Abs_rel diff'!$BF$70","v":{"v":2.1494,"d":"2.1"}},{"$f":"'[8]Abs_rel diff'!$BG$70","v":{"v":2.4691,"d":"2.5"}},{"$f":"'[8]Abs_rel diff'!$BF$71","v":{"v":2.3862,"d":"2.4"}},{"$f":"'[8]Abs_rel diff'!$BG$71","v":{"v":2.7269,"d":"2.7"}},{"$nulls":3},{"$f":"'[8]Abs_rel diff'!$K$66","v":{"v":28.01,"d":"28.0"}},{"$f":"'[8]Abs_rel diff'!$L$66","v":{"v":37.62,"d":"37.6"}},{"$f":"'[8]Abs_rel diff'!$K$67","v":{"v":36.19,"d":"36.2"}},{"$f":"'[8]Abs_rel diff'!$L$67","v":{"v":47.55,"d":"47.6"}},{"$f":"'[8]Abs_rel diff'!$K$68","v":{"v":45.11,"d":"45.1"}},{"$f":"'[8]Abs_rel diff'!$L$68","v":{"v":55.09,"d":"55.1"}},{"$f":"'[8]Abs_rel diff'!$K$69","v":{"v":64.14,"d":"64.1"}},{"$f":"'[8]Abs_rel diff'!$L$69","v":{"v":76.12,"d":"76.1"}},{"$f":"'[8]Abs_rel diff'!$K$70","v":62.2},{"$f":"'[8]Abs_rel diff'!$L$70","v":{"v":72.76,"d":"72.8"}},{"$f":"'[8]Abs_rel diff'!$K$71","v":{"v":82.38,"d":"82.4"}},{"$f":"'[8]Abs_rel diff'!$L$71","v":{"v":94.05,"d":"94.1"}}]
[null,"Sweden",{"$nulls":4},{"$f":"'[8]Abs_rel diff'!$BE$164","v":{"v":2.7188,"d":"2.7"}},null,{"$f":"'[8]Abs_rel diff'!$BE$165","v":{"v":2.9863,"d":"3.0"}},{"$nulls":7},"Sweden",{"$nulls":4},{"$f":"'[8]Abs_rel diff'!$J$164","v":13.6},null,{"$f":"'[8]Abs_rel diff'!$J$165","v":{"v":17.68,"d":"17.7"}}]
[{"$nulls":6},{"$f":"'[8]Abs_rel diff'!$BF$164","v":{"v":2.2946,"d":"2.3"}},{"$f":"'[8]Abs_rel diff'!$BG$164","v":{"v":3.264,"d":"3.3"}},{"$f":"'[8]Abs_rel diff'!$BF$165","v":{"v":2.6223,"d":"2.6"}},{"$f":"'[8]Abs_rel diff'!$BG$165","v":{"v":3.3732,"d":"3.4"}},{"$nulls":11},{"$f":"'[8]Abs_rel diff'!$K$164","v":{"v":11.32,"d":"11.3"}},{"$f":"'[8]Abs_rel diff'!$L$164","v":{"v":16.01,"d":"16.0"}},{"$f":"'[8]Abs_rel diff'!$K$165","v":{"v":15.55,"d":"15.6"}},{"$f":"'[8]Abs_rel diff'!$L$165","v":{"v":19.71,"d":"19.7"}}]
[null,"Denmark",{"$nulls":4},{"$f":"'[8]Abs_rel diff'!$BE$19","v":{"v":1.6214,"d":"1.6"}},null,{"$f":"'[8]Abs_rel diff'!$BE$20","v":{"v":1.9726,"d":"2.0"}},null,{"$f":"'[8]Abs_rel diff'!$BE$21","v":{"v":2.0415,"d":"2.0"}},{"$nulls":5},"Denmark",{"$nulls":4},{"$f":"'[8]Abs_rel diff'!$J$19","v":{"v":14.08,"d":"14.1"}},null,{"$f":"'[8]Abs_rel diff'!$J$20","v":{"v":18.83,"d":"18.8"}},null,{"$f":"'[8]Abs_rel diff'!$J$21","v":{"v":19.04,"d":"19.0"}}]
[{"$nulls":6},{"$f":"'[8]Abs_rel diff'!$BF$19","v":{"v":1.4181,"d":"1.4"}},{"$f":"'[8]Abs_rel diff'!$BG$19","v":{"v":1.857,"d":"1.9"}},{"$f":"'[8]Abs_rel diff'!$BF$20","v":{"v":1.6998,"d":"1.7"}},{"$f":"'[8]Abs_rel diff'!$BG$20","v":{"v":2.2941,"d":"2.3"}},{"$f":"'[8]Abs_rel diff'!$BF$21","v":{"v":1.7766,"d":"1.8"}},{"$f":"'[8]Abs_rel diff'!$BG$21","v":{"v":2.4069,"d":"2.4"}},{"$nulls":9},{"$f":"'[8]Abs_rel diff'!$K$19","v":{"v":10.41,"d":"10.4"}},{"$f":"'[8]Abs_rel diff'!$L$19","v":{"v":17.73,"d":"17.7"}},{"$f":"'[8]Abs_rel diff'!$K$20","v":{"v":14.86,"d":"14.9"}},{"$f":"'[8]Abs_rel diff'!$L$20","v":{"v":22.66,"d":"22.7"}},{"$f":"'[8]Abs_rel diff'!$K$21","v":{"v":15.55,"d":"15.6"}},{"$f":"'[8]Abs_rel diff'!$L$21","v":{"v":22.48,"d":"22.5"}}]
["West","England & Wales",{"$f":"'[8]Abs_rel diff'!$BE$34","v":{"v":1.4069,"d":"1.4"}},null,{"$f":"'[8]Abs_rel diff'!$BE$35","v":{"v":1.0461,"d":"1.0"}},null,{"$f":"'[8]Abs_rel diff'!$BE$36","v":{"v":1.013,"d":"1.0"}},null,{"$f":"'[8]Abs_rel diff'!$BE$37","v":{"v":1.7363,"d":"1.7"}},null,{"$f":"'[8]Abs_rel diff'!$BE$38","v":{"v":1.953,"d":"2.0"}},null,{"$f":"'[8]Abs_rel diff'!$BE$39","v":{"v":2.4064,"d":"2.4"}},null,null,"West","England & Wales",{"$f":"'[8]Abs_rel diff'!$J$34","v":{"v":1.58,"d":"1.6"}},null,{"$f":"'[8]Abs_rel diff'!$J$35","v":{"v":0.28,"d":"0.3"}},null,{"$f":"'[8]Abs_rel diff'!$J$36","v":{"v":0.11,"d":"0.1"}},null,{"$f":"'[8]Abs_rel diff'!$J$37","v":{"v":8.67,"d":"8.7"}},null,{"$f":"'[8]Abs_rel diff'!$J$38","v":{"v":12.27,"d":"12.3"}},null,{"$f":"'[8]Abs_rel diff'!$J$39","v":{"v":16.33,"d":"16.3"}}]
[null,null,{"$f":"'[8]Abs_rel diff'!$BF$34","v":{"v":0.5933,"d":"0.6"}},{"$f":"'[8]Abs_rel diff'!$BG$34","v":{"v":4.7595,"d":"4.8"}},{"$f":"'[8]Abs_rel diff'!$BF$35","v":{"v":0.4845,"d":"0.5"}},{"$f":"'[8]Abs_rel diff'!$BG$35","v":{"v":2.6173,"d":"2.6"}},{"$f":"'[8]Abs_rel diff'!$BF$36","v":{"v":0.5323,"d":"0.5"}},{"$f":"'[8]Abs_rel diff'!$BG$36","v":{"v":1.9576,"d":"2.0"}},{"$f":"'[8]Abs_rel diff'!$BF$37","v":{"v":1.1083,"d":"1.1"}},{"$f":"'[8]Abs_rel diff'!$BG$37","v":{"v":2.9703,"d":"3.0"}},{"$f":"'[8]Abs_rel diff'!$BF$38","v":{"v":1.277,"d":"1.3"}},{"$f":"'[8]Abs_rel diff'!$BG$38","v":{"v":3.2181,"d":"3.2"}},{"$f":"'[8]Abs_rel diff'!$BF$39","v":{"v":1.4521,"d":"1.5"}},{"$f":"'[8]Abs_rel diff'!$BG$39","v":{"v":4.5245,"d":"4.5"}},{"$nulls":3},{"$f":"'[8]Abs_rel diff'!$K$34","v":{"v":-2.46,"d":"-2.5"}},{"$f":"'[8]Abs_rel diff'!$L$34","v":5.7},{"$f":"'[8]Abs_rel diff'!$K$35","v":{"v":-4.35,"d":"-4.4"}},{"$f":"'[8]Abs_rel diff'!$L$35","v":{"v":5.27,"d":"5.3"}},{"$f":"'[8]Abs_rel diff'!$K$36","v":{"v":-5.45,"d":"-5.5"}},{"$f":"'[8]Abs_rel diff'!$L$36","v":{"v":5.36,"d":"5.4"}},{"$f":"'[8]Abs_rel diff'!$K$37","v":{"v":1.62,"d":"1.6"}},{"$f":"'[8]Abs_rel diff'!$L$37","v":{"v":16.21,"d":"16.2"}},{"$f":"'[8]Abs_rel diff'!$K$38","v":{"v":4.08,"d":"4.1"}},{"$f":"'[8]Abs_rel diff'!$L$38","v":20.9},{"$f":"'[8]Abs_rel diff'!$K$39","v":{"v":6.57,"d":"6.6"}},{"$f":"'[8]Abs_rel diff'!$L$39","v":{"v":26.94,"d":"26.9"}}]
[null,"France",{"$f":"('[8]Abs_rel diff'!$BE$88+'[8]Abs_rel diff'!$BE$89)/2","v":{"v":2.4816571807222383,"d":"2.5"}},null,{"$f":"('[8]Abs_rel diff'!$BE$89+'[8]Abs_rel diff'!$BE$90)/2","v":{"v":3.4289693860369743,"d":"3.4"}},null,{"$f":"'[8]Abs_rel diff'!$BE$91","v":{"v":3.8691131498470943,"d":"3.9"}},null,{"$f":"'[8]Abs_rel diff'!$BE$92","v":{"v":3.6258218768679016,"d":"3.6"}},null,{"$f":"'[8]Abs_rel diff'!$BE$93","v":{"v":2.7695293546821933,"d":"2.8"}},null,{"$f":"'[8]Abs_rel diff'!$BE$94","v":{"v":2.2921125644074514,"d":"2.3"}},{"$nulls":3},"France",{"$f":"('[8]Abs_rel diff'!$J$88+'[8]Abs_rel diff'!$J$89)/2","v":{"v":45.305,"d":"45.3"}},null,{"$f":"('[8]Abs_rel diff'!$J$89+'[8]Abs_rel diff'!$J$90)/2","v":{"v":57.39,"d":"57.4"}},null,{"$f":"'[8]Abs_rel diff'!$J$91","v":{"v":46.91,"d":"46.9"}},null,{"$f":"'[8]Abs_rel diff'!$J$92","v":{"v":43.92999999999999,"d":"43.9"}},null,{"$f":"'[8]Abs_rel diff'!$J$93","v":{"v":36.47,"d":"36.5"}},null,{"$f":"'[8]Abs_rel diff'!$J$94","v":{"v":32.599999999999994,"d":"32.6"}}]
[null,null,{"$f":"('[8]Abs_rel diff'!$BF$88+'[8]Abs_rel diff'!$BF$89)/2","v":{"v":1.5670033280755795,"d":"1.6"}},{"$f":"('[8]Abs_rel diff'!$BG$88+'[8]Abs_rel diff'!$BG$89)/2","v":{"v":4.563158706130226,"d":"4.6"}},{"$f":"('[8]Abs_rel diff'!$BF$89+'[8]Abs_rel diff'!$BF$90)/2","v":{"v":2.260141188828473,"d":"2.3"}},{"$f":"('[8]Abs_rel diff'!$BG$89+'[8]Abs_rel diff'!$BG$90)/2","v":{"v":5.860720785708422,"d":"5.9"}},{"$f":"'[8]Abs_rel diff'!$BF$91","v":{"v":2.5595085743537243,"d":"2.6"}},{"$f":"'[8]Abs_rel diff'!$BG$91","v":{"v":5.767012687427912,"d":"5.8"}},{"$f":"'[8]Abs_rel diff'!$BF$92","v":{"v":2.3062730627306274,"d":"2.3"}},{"$f":"'[8]Abs_rel diff'!$BG$92","v":{"v":5.9171597633136095,"d":"5.9"}},{"$f":"'[8]Abs_rel diff'!$BF$93","v":{"v":1.952362358453729,"d":"2.0"}},{"$f":"'[8]Abs_rel diff'!$BG$93","v":{"v":4.006410256410256,"d":"4.0"}},{"$f":"'[8]Abs_rel diff'!$BF$94","v":{"v":1.607717041800643,"d":"1.6"}},{"$f":"'[8]Abs_rel diff'!$BG$94","v":{"v":3.4094783498124785,"d":"3.4"}},{"$nulls":3},{"$f":"('[8]Abs_rel diff'!$K$88+'[8]Abs_rel diff'!$K$89)/2","v":{"v":22.34,"d":"22.3"}},{"$f":"('[8]Abs_rel diff'!$L$88+'[8]Abs_rel diff'!$L$89)/2","v":{"v":69.315,"d":"69.3"}},{"$f":"('[8]Abs_rel diff'!$K$89+'[8]Abs_rel diff'!$K$90)/2","v":{"v":37.269999999999996,"d":"37.3"}},{"$f":"('[8]Abs_rel diff'!$L$89+'[8]Abs_rel diff'!$L$90)/2","v":{"v":78.265,"d":"78.3"}},{"$f":"'[8]Abs_rel diff'!$K$91","v":{"v":31.37,"d":"31.4"}},{"$f":"'[8]Abs_rel diff'!$L$91","v":{"v":61.68,"d":"61.7"}},{"$f":"'[8]Abs_rel diff'!$K$92","v":{"v":27.66,"d":"27.7"}},{"$f":"'[8]Abs_rel diff'!$L$92","v":60.1},{"$f":"'[8]Abs_rel diff'!$K$93","v":{"v":23.14,"d":"23.1"}},{"$f":"'[8]Abs_rel diff'!$L$93","v":{"v":52,"d":"52.0"}},{"$f":"'[8]Abs_rel diff'!$K$94","v":{"v":17.61,"d":"17.6"}},{"$f":"'[8]Abs_rel diff'!$L$94","v":{"v":48.81,"d":"48.8"}}]
[null,"Switzerland",{"$nulls":4},{"$f":"'[8]Abs_rel diff'!$BE$175","v":{"v":2.5936,"d":"2.6"}},null,{"$f":"'[8]Abs_rel diff'!$BE$176","v":{"v":2.5005,"d":"2.5"}},null,{"$f":"'[8]Abs_rel diff'!$BE$177","v":{"v":3.0455,"d":"3.0"}},null,{"$f":"'[8]Abs_rel diff'!$BE$178","v":{"v":2.7305,"d":"2.7"}},{"$nulls":3},"Switzerland",{"$nulls":4},{"$f":"'[8]Abs_rel diff'!$J$175","v":20.9},null,{"$f":"'[8]Abs_rel diff'!$J$176","v":{"v":27.12,"d":"27.1"}},null,{"$f":"'[8]Abs_rel diff'!$J$177","v":{"v":13.83,"d":"13.8"}},null,{"$f":"'[8]Abs_rel diff'!$J$178","v":{"v":13.68,"d":"13.7"}}]
[{"$nulls":6},{"$f":"'[8]Abs_rel diff'!$BF$175","v":{"v":2.2019,"d":"2.2"}},{"$f":"'[8]Abs_rel diff'!$BG$175","v":{"v":3.03,"d":"3.0"}},{"$f":"'[8]Abs_rel diff'!$BF$176","v":{"v":2.1743,"d":"2.2"}},{"$f":"'[8]Abs_rel diff'!$BG$176","v":{"v":2.8672,"d":"2.9"}},{"$f":"'[8]Abs_rel diff'!$BF$177","v":{"v":2.4284,"d":"2.4"}},{"$f":"'[8]Abs_rel diff'!$BG$177","v":{"v":3.8262,"d":"3.8"}},{"$f":"'[8]Abs_rel diff'!$BF$178","v":{"v":2.0285,"d":"2.0"}},{"$f":"'[8]Abs_rel diff'!$BG$178","v":{"v":3.5994,"d":"3.6"}},{"$nulls":7},{"$f":"'[8]Abs_rel diff'!$K$175","v":{"v":16.63,"d":"16.6"}},{"$f":"'[8]Abs_rel diff'!$L$175","v":{"v":25.23,"d":"25.2"}},{"$f":"'[8]Abs_rel diff'!$K$176","v":{"v":22.07,"d":"22.1"}},{"$f":"'[8]Abs_rel diff'!$L$176","v":{"v":32.18,"d":"32.2"}},{"$f":"'[8]Abs_rel diff'!$K$177","v":{"v":9.97,"d":"10.0"}},{"$f":"'[8]Abs_rel diff'!$L$177","v":{"v":17.65,"d":"17.7"}},{"$f":"'[8]Abs_rel diff'!$K$178","v":{"v":9.03,"d":"9.0"}},{"$f":"'[8]Abs_rel diff'!$L$178","v":18.4}]
[null,"Austria",{"$nulls":4},{"$f":"'[8]Abs_rel diff'!$BE$6","v":{"v":3.5639,"d":"3.6"}},null,{"$f":"'[8]Abs_rel diff'!$BE$7","v":{"v":2.7694,"d":"2.8"}},null,{"$f":"'[8]Abs_rel diff'!$BE$8","v":{"v":3.138,"d":"3.1"}},{"$nulls":5},"Austria",{"$nulls":4},{"$f":"'[8]Abs_rel diff'!$J$6","v":{"v":11.08,"d":"11.1"}},null,{"$f":"'[8]Abs_rel diff'!$J$7","v":{"v":14.67,"d":"14.7"}},null,{"$f":"'[8]Abs_rel diff'!$J$8","v":{"v":14.01,"d":"14.0"}}]
[{"$nulls":6},{"$f":"'[8]Abs_rel diff'!$BF$6","v":{"v":1.7083,"d":"1.7"}},{"$f":"'[8]Abs_rel diff'!$BG$6","v":{"v":6.8397,"d":"6.8"}},{"$f":"'[8]Abs_rel diff'!$BF$7","v":{"v":1.6099,"d":"1.6"}},{"$f":"'[8]Abs_rel diff'!$BG$7","v":{"v":5.0676,"d":"5.1"}},{"$f":"'[8]Abs_rel diff'!$BF$8","v":{"v":2.0995,"d":"2.1"}},{"$f":"'[8]Abs_rel diff'!$BG$8","v":{"v":5.0739,"d":"5.1"}},{"$nulls":9},{"$f":"'[8]Abs_rel diff'!$K$6","v":{"v":4.13,"d":"4.1"}},{"$f":"'[8]Abs_rel diff'!$L$6","v":{"v":18.83,"d":"18.8"}},{"$f":"'[8]Abs_rel diff'!$K$7","v":{"v":6,"d":"6.0"}},{"$f":"'[8]Abs_rel diff'!$L$7","v":{"v":23.61,"d":"23.6"}},{"$f":"'[8]Abs_rel diff'!$K$8","v":{"v":8.14,"d":"8.1"}},{"$f":"'[8]Abs_rel diff'!$L$8","v":20.9}]
["South","Spain (Madrid)",{"$nulls":6},{"$f":"'[8]Abs_rel diff'!$BE$153","v":{"v":2.5248,"d":"2.5"}},null,{"$f":"'[8]Abs_rel diff'!$BE$154","v":{"v":0.9474,"d":"0.9"}},{"$nulls":4},"South","Spain (Madrid)",{"$nulls":6},{"$f":"'[8]Abs_rel diff'!$J$153","v":{"v":4.54,"d":"4.5"}},null,{"$f":"'[8]Abs_rel diff'!$J$154","v":{"v":-0.14,"d":"-0.1"}}]
[{"$nulls":8},{"$f":"'[8]Abs_rel diff'!$BF$153","v":{"v":1.5861,"d":"1.6"}},{"$f":"'[8]Abs_rel diff'!$BG$153","v":{"v":4.2873,"d":"4.3"}},{"$f":"'[8]Abs_rel diff'!$BF$154","v":{"v":0.3922,"d":"0.4"}},{"$f":"'[8]Abs_rel diff'!$BG$154","v":{"v":1.8757,"d":"1.9"}},{"$nulls":11},{"$f":"'[8]Abs_rel diff'!$K$153","v":2.2},{"$f":"'[8]Abs_rel diff'!$L$153","v":{"v":7.06,"d":"7.1"}},{"$f":"'[8]Abs_rel diff'!$K$154","v":{"v":-2,"d":"-2.0"}},{"$f":"'[8]Abs_rel diff'!$L$154","v":{"v":1.68,"d":"1.7"}}]
[null,"Italy (Turin)",{"$f":"'[8]Abs_rel diff'!$BE$112","v":{"v":3.427,"d":"3.4"}},null,{"$f":"'[8]Abs_rel diff'!$BE$113","v":{"v":1.6315,"d":"1.6"}},null,{"$f":"'[8]Abs_rel diff'!$BE$114","v":{"v":2.9349,"d":"2.9"}},null,{"$f":"'[8]Abs_rel diff'!$BE$115","v":{"v":3.005,"d":"3.0"}},null,{"$f":"'[8]Abs_rel diff'!$BE$116","v":{"v":1.8982,"d":"1.9"}},null,{"$f":"'[8]Abs_rel diff'!$BE$117","v":{"v":3.2151,"d":"3.2"}},{"$nulls":3},"Italy (Turin)",{"$f":"'[8]Abs_rel diff'!$J$112","v":{"v":4.08,"d":"4.1"}},null,{"$f":"'[8]Abs_rel diff'!$J$113","v":{"v":2.56,"d":"2.6"}},null,{"$f":"'[8]Abs_rel diff'!$J$114","v":{"v":3.52,"d":"3.5"}},null,{"$f":"'[8]Abs_rel diff'!$J$115","v":{"v":4.69,"d":"4.7"}},null,{"$f":"'[8]Abs_rel diff'!$J$116","v":{"v":2.97,"d":"3.0"}},null,{"$f":"'[8]Abs_rel diff'!$J$117","v":{"v":3.18,"d":"3.2"}}]
[null,null,{"$f":"'[8]Abs_rel diff'!$BF$112","v":{"v":1.389,"d":"1.4"}},{"$f":"'[8]Abs_rel diff'!$BG$112","v":{"v":23.8754,"d":"23.9"}},{"$f":"'[8]Abs_rel diff'!$BF$113","v":{"v":0.8277,"d":"0.8"}},{"$f":"'[8]Abs_rel diff'!$BG$113","v":{"v":4.0378,"d":"4.0"}},{"$f":"'[8]Abs_rel diff'!$BF$114","v":{"v":1.2502,"d":"1.3"}},{"$f":"'[8]Abs_rel diff'!$BG$114","v":{"v":11.5703,"d":"11.6"}},{"$f":"'[8]Abs_rel diff'!$BF$115","v":{"v":1.2312,"d":"1.2"}},{"$f":"'[8]Abs_rel diff'!$BG$115","v":{"v":9.9613,"d":"10.0"}},{"$f":"'[8]Abs_rel diff'!$BF$116","v":{"v":0.8858,"d":"0.9"}},{"$f":"'[8]Abs_rel diff'!$BG$116","v":{"v":4.4979,"d":"4.5"}},{"$f":"'[8]Abs_rel diff'!$BF$117","v":{"v":0.9871,"d":"1.0"}},{"$f":"'[8]Abs_rel diff'!$BG$117","v":{"v":16.7483,"d":"16.7"}},{"$nulls":3},{"$f":"'[8]Abs_rel diff'!$K$112","v":{"v":1.18,"d":"1.2"}},{"$f":"'[8]Abs_rel diff'!$L$112","v":{"v":7.16,"d":"7.2"}},{"$f":"'[8]Abs_rel diff'!$K$113","v":{"v":-0.96,"d":"-1.0"}},{"$f":"'[8]Abs_rel diff'!$L$113","v":{"v":6.35,"d":"6.4"}},{"$f":"'[8]Abs_rel diff'!$K$114","v":{"v":0.72,"d":"0.7"}},{"$f":"'[8]Abs_rel diff'!$L$114","v":{"v":6.42,"d":"6.4"}},{"$f":"'[8]Abs_rel diff'!$K$115","v":{"v":0.82,"d":"0.8"}},{"$f":"'[8]Abs_rel diff'!$L$115","v":8.2},{"$f":"'[8]Abs_rel diff'!$K$116","v":{"v":-0.54,"d":"-0.5"}},{"$f":"'[8]Abs_rel diff'!$L$116","v":6.3},{"$f":"'[8]Abs_rel diff'!$K$117","v":{"v":-0.03,"d":"-0.0"}},{"$f":"'[8]Abs_rel diff'!$L$117","v":{"v":6.94,"d":"6.9"}}]
["East","Lithuania",{"$nulls":8},{"$f":"'[8]Abs_rel diff'!$BE$133","v":{"v":1.9379,"d":"1.9"}},null,{"$f":"'[8]Abs_rel diff'!$BE$134","v":{"v":2.2271,"d":"2.2"}},null,null,"East","Lithuania",{"$nulls":8},{"$f":"'[8]Abs_rel diff'!$J$133","v":16.2},null,{"$f":"'[8]Abs_rel diff'!$J$134","v":{"v":33.75,"d":"33.8"}}]
[{"$nulls":10},{"$f":"'[8]Abs_rel diff'!$BF$133","v":{"v":1.5347,"d":"1.5"}},{"$f":"'[8]Abs_rel diff'!$BG$133","v":{"v":2.524,"d":"2.5"}},{"$f":"'[8]Abs_rel diff'!$BF$134","v":{"v":1.8568,"d":"1.9"}},{"$f":"'[8]Abs_rel diff'!$BG$134","v":{"v":2.7757,"d":"2.8"}},{"$nulls":11},{"$f":"'[8]Abs_rel diff'!$K$133","v":10.6},{"$f":"'[8]Abs_rel diff'!$L$133","v":{"v":21.81,"d":"21.8"}},{"$f":"'[8]Abs_rel diff'!$K$134","v":{"v":26.48,"d":"26.5"}},{"$f":"'[8]Abs_rel diff'!$L$134","v":{"v":41.49,"d":"41.5"}}]

{"sheet":"Figure A1","index":16,"n_rows":70,"n_cols":9,"rows_kept":70,"merged":[[3,3,3,8],[4,3,4,5],[4,6,4,8]]}
["Web appendix figure A3. Trends in mortality from alcohol-related causes among manual and non-manual men, ca. 1980-2010, by country"]
[]
[null,"EDUCATION"]
[{"$nulls":3},"Men"]
[{"$nulls":3},"non-manual",null,null,"manual"]
[null,"Country","Period","ASMR","95%-CI",null,"ASMR","95%-CI"]
["NORTH","Finland","1980-1984",{"$f":"[8]Alcohol!D67","v":{"v":34.13,"d":"34.1"}},{"$f":"[8]Alcohol!E67","v":{"v":30.66,"d":"(30.7 -"}},{"$f":"[8]Alcohol!F67","v":{"v":37.74,"d":"37.7)"}},{"$f":"[8]Alcohol!G67","v":{"v":66.85,"d":"66.9"}},{"$f":"[8]Alcohol!H67","v":{"v":63.84,"d":"(63.8 -"}},{"$f":"[8]Alcohol!I67","v":{"v":70.49,"d":"70.5)"}}]
[null,null,"1985-1989",{"$f":"[8]Alcohol!D68","v":{"v":45.62,"d":"45.6"}},{"$f":"[8]Alcohol!E68","v":{"v":41.75,"d":"(41.8 -"}},{"$f":"[8]Alcohol!F68","v":{"v":49.57,"d":"49.6)"}},{"$f":"[8]Alcohol!G68","v":{"v":87.49,"d":"87.5"}},{"$f":"[8]Alcohol!H68","v":{"v":83.1,"d":"(83.1 -"}},{"$f":"[8]Alcohol!I68","v":{"v":91.62,"d":"91.6)"}}]
[null,null,"1990-1994",{"$f":"[8]Alcohol!D69","v":{"v":43.45,"d":"43.5"}},{"$f":"[8]Alcohol!E69","v":{"v":40.2,"d":"(40.2 -"}},{"$f":"[8]Alcohol!F69","v":{"v":46.72,"d":"46.7)"}},{"$f":"[8]Alcohol!G69","v":93.5},{"$f":"[8]Alcohol!H69","v":{"v":89.54,"d":"(89.5 -"}},{"$f":"[8]Alcohol!I69","v":{"v":97.74,"d":"97.7)"}}]
[null,null,"1995-1999",{"$f":"[8]Alcohol!D70","v":{"v":47,"d":"47.0"}},{"$f":"[8]Alcohol!E70","v":{"v":43.95,"d":"(44.0 -"}},{"$f":"[8]Alcohol!F70","v":{"v":50.63,"d":"50.6)"}},{"$f":"[8]Alcohol!G70","v":{"v":117.39,"d":"117.4"}},{"$f":"[8]Alcohol!H70","v":{"v":112.67,"d":"(112.7 -"}},{"$f":"[8]Alcohol!I70","v":{"v":121.87,"d":"121.9)"}}]
[null,null,"2000-2004",{"$f":"[8]Alcohol!D71","v":{"v":51.85,"d":"51.9"}},{"$f":"[8]Alcohol!E71","v":{"v":48.74,"d":"(48.7 -"}},{"$f":"[8]Alcohol!F71","v":{"v":55.18,"d":"55.2)"}},{"$f":"[8]Alcohol!G71","v":{"v":119.43,"d":"119.4"}},{"$f":"[8]Alcohol!H71","v":{"v":115.12,"d":"(115.1 -"}},{"$f":"[8]Alcohol!I71","v":{"v":123.5,"d":"123.5)"}}]
[null,null,"2005-2009",{"$f":"[8]Alcohol!D72","v":{"v":56.92,"d":"56.9"}},{"$f":"[8]Alcohol!E72","v":{"v":53.63,"d":"(53.6 -"}},{"$f":"[8]Alcohol!F72","v":{"v":60.14,"d":"60.1)"}},{"$f":"[8]Alcohol!G72","v":{"v":144.77,"d":"144.8"}},{"$f":"[8]Alcohol!H72","v":{"v":140.31,"d":"(140.3 -"}},{"$f":"[8]Alcohol!I72","v":{"v":149.65,"d":"149.7)"}}]
[null,"Sweden","1980-1984"]
[null,null,"1985-1989"]
[null,null,"1990-1994",{"$f":"[8]Alcohol!D165","v":{"v":7.91,"d":"7.9"}},{"$f":"[8]Alcohol!E165","v":{"v":6.73,"d":"(6.7 -"}},{"$f":"[8]Alcohol!F165","v":{"v":9.17,"d":"9.2)"}},{"$f":"[8]Alcohol!G165","v":{"v":21.51,"d":"21.5"}},{"$f":"[8]Alcohol!H165","v":{"v":19.52,"d":"(19.5 -"}},{"$f":"[8]Alcohol!I165","v":{"v":23.6,"d":"23.6)"}}]
[null,null,"1995-1999",{"$f":"[8]Alcohol!D166","v":8.9},{"$f":"[8]Alcohol!E166","v":{"v":7.96,"d":"(8.0 -"}},{"$f":"[8]Alcohol!F166","v":{"v":9.85,"d":"9.9)"}},{"$f":"[8]Alcohol!G166","v":{"v":26.58,"d":"26.6"}},{"$f":"[8]Alcohol!H166","v":{"v":24.78,"d":"(24.8 -"}},{"$f":"[8]Alcohol!I166","v":{"v":28.32,"d":"28.3)"}}]
[null,null,"2000-2004"]
[null,null,"2005-2009"]
[null,"Denmark","1980-1984"]
[null,null,"1985-1989"]
[null,null,"1990-1994",{"$f":"[8]Alcohol!D20","v":{"v":22.66,"d":"22.7"}},{"$f":"[8]Alcohol!E20","v":{"v":20.21,"d":"(20.2 -"}},{"$f":"[8]Alcohol!F20","v":{"v":25.46,"d":"25.5)"}},{"$f":"[8]Alcohol!G20","v":{"v":36.75,"d":"36.8"}},{"$f":"[8]Alcohol!H20","v":{"v":33.95,"d":"(34.0 -"}},{"$f":"[8]Alcohol!I20","v":{"v":39.44,"d":"39.4)"}}]
[null,null,"1995-1999",{"$f":"[8]Alcohol!D21","v":{"v":19.36,"d":"19.4"}},{"$f":"[8]Alcohol!E21","v":{"v":16.88,"d":"(16.9 -"}},{"$f":"[8]Alcohol!F21","v":{"v":21.81,"d":"21.8)"}},{"$f":"[8]Alcohol!G21","v":{"v":38.19,"d":"38.2"}},{"$f":"[8]Alcohol!H21","v":{"v":35.31,"d":"(35.3 -"}},{"$f":"[8]Alcohol!I21","v":{"v":41.15,"d":"41.2)"}}]
[null,null,"2000-2004",{"$f":"[8]Alcohol!D22","v":{"v":18.28,"d":"18.3"}},{"$f":"[8]Alcohol!E22","v":{"v":15.75,"d":"(15.8 -"}},{"$f":"[8]Alcohol!F22","v":{"v":20.59,"d":"20.6)"}},{"$f":"[8]Alcohol!G22","v":{"v":37.32,"d":"37.3"}},{"$f":"[8]Alcohol!H22","v":{"v":34.77,"d":"(34.8 -"}},{"$f":"[8]Alcohol!I22","v":{"v":39.72,"d":"39.7)"}}]
[null,null,"2005-2009"]
[null,"England & Wales","1980-1984",{"$f":"[8]Alcohol!D35","v":{"v":3.88,"d":"3.9"}},{"$f":"[8]Alcohol!E35","v":{"v":1.13,"d":"(1.1 -"}},{"$f":"[8]Alcohol!F35","v":{"v":6.78,"d":"6.8)"}},{"$f":"[8]Alcohol!G35","v":{"v":5.46,"d":"5.5"}},{"$f":"[8]Alcohol!H35","v":{"v":2.75,"d":"(2.8 -"}},{"$f":"[8]Alcohol!I35","v":{"v":8.49,"d":"8.5)"}}]
[null,null,"1985-1989",{"$f":"[8]Alcohol!D36","v":{"v":6.07,"d":"6.1"}},{"$f":"[8]Alcohol!E36","v":{"v":2.62,"d":"(2.6 -"}},{"$f":"[8]Alcohol!F36","v":{"v":9.68,"d":"9.7)"}},{"$f":"[8]Alcohol!G36","v":{"v":6.35,"d":"6.4"}},{"$f":"[8]Alcohol!H36","v":{"v":3.39,"d":"(3.4 -"}},{"$f":"[8]Alcohol!I36","v":{"v":9.79,"d":"9.8)"}}]
[null,null,"1990-1994",{"$f":"[8]Alcohol!D37","v":{"v":8.61,"d":"8.6"}},{"$f":"[8]Alcohol!E37","v":{"v":5.06,"d":"(5.1 -"}},{"$f":"[8]Alcohol!F37","v":{"v":13.01,"d":"13.0)"}},{"$f":"[8]Alcohol!G37","v":{"v":8.72,"d":"8.7"}},{"$f":"[8]Alcohol!H37","v":{"v":5.26,"d":"(5.3 -"}},{"$f":"[8]Alcohol!I37","v":{"v":12.44,"d":"12.4)"}}]
[null,null,"1995-1999",{"$f":"[8]Alcohol!D38","v":{"v":11.77,"d":"11.8"}},{"$f":"[8]Alcohol!E38","v":{"v":7.51,"d":"(7.5 -"}},{"$f":"[8]Alcohol!F38","v":{"v":16.2,"d":"16.2)"}},{"$f":"[8]Alcohol!G38","v":{"v":20.43,"d":"20.4"}},{"$f":"[8]Alcohol!H38","v":{"v":14.8,"d":"(14.8 -"}},{"$f":"[8]Alcohol!I38","v":{"v":26.59,"d":"26.6)"}}]
[null,null,"2000-2004",{"$f":"[8]Alcohol!D39","v":{"v":12.87,"d":"12.9"}},{"$f":"[8]Alcohol!E39","v":{"v":8.43,"d":"(8.4 -"}},{"$f":"[8]Alcohol!F39","v":{"v":17.87,"d":"17.9)"}},{"$f":"[8]Alcohol!G39","v":{"v":25.14,"d":"25.1"}},{"$f":"[8]Alcohol!H39","v":{"v":18.25,"d":"(18.3 -"}},{"$f":"[8]Alcohol!I39","v":{"v":32.59,"d":"32.6)"}}]
[null,null,"2005-2009",{"$f":"[8]Alcohol!D40","v":{"v":11.61,"d":"11.6"}},{"$f":"[8]Alcohol!E40","v":{"v":6.71,"d":"(6.7 -"}},{"$f":"[8]Alcohol!F40","v":{"v":17.12,"d":"17.1)"}},{"$f":"[8]Alcohol!G40","v":{"v":27.94,"d":"27.9"}},{"$f":"[8]Alcohol!H40","v":{"v":19.56,"d":"(19.6 -"}},{"$f":"[8]Alcohol!I40","v":{"v":37.2,"d":"37.2)"}}]
[null,"France","1980-1984",{"$f":"([8]Alcohol!D89+[8]Alcohol!D90)/2","v":{"v":30.845,"d":"30.8"}},{"$f":"([8]Alcohol!E89+[8]Alcohol!E90)/2","v":{"v":19.330000000000002,"d":"(19.3 -"}},{"$f":"([8]Alcohol!F89+[8]Alcohol!F90)/2","v":{"v":43.425,"d":"43.4)"}},{"$f":"([8]Alcohol!G89+[8]Alcohol!G90)/2","v":{"v":76.15,"d":"76.2"}},{"$f":"([8]Alcohol!H89+[8]Alcohol!H90)/2","v":{"v":57.769999999999996,"d":"(57.8 -"}},{"$f":"([8]Alcohol!I89+[8]Alcohol!I90)/2","v":{"v":96.19999999999999,"d":"96.2)"}}]
[null,null,"1985-1989",{"$f":"([8]Alcohol!D90+[8]Alcohol!D91)/2","v":{"v":26.96,"d":"27.0"}},{"$f":"([8]Alcohol!E90+[8]Alcohol!E91)/2","v":{"v":18.425,"d":"(18.4 -"}},{"$f":"([8]Alcohol!F90+[8]Alcohol!F91)/2","v":{"v":36.6,"d":"36.6)"}},{"$f":"([8]Alcohol!G90+[8]Alcohol!G91)/2","v":{"v":84.35,"d":"84.4"}},{"$f":"([8]Alcohol!H90+[8]Alcohol!H91)/2","v":{"v":66.985,"d":"(67.0 -"}},{"$f":"([8]Alcohol!I90+[8]Alcohol!I91)/2","v":{"v":102.495,"d":"102.5)"}}]
[null,null,"1990-1994",{"$f":"[8]Alcohol!D92","v":{"v":16.35,"d":"16.4"}},{"$f":"[8]Alcohol!E92","v":{"v":11.14,"d":"(11.1 -"}},{"$f":"[8]Alcohol!F92","v":{"v":22.6,"d":"22.6)"}},{"$f":"[8]Alcohol!G92","v":{"v":63.26,"d":"63.3"}},{"$f":"[8]Alcohol!H92","v":{"v":49.77,"d":"(49.8 -"}},{"$f":"[8]Alcohol!I92","v":{"v":77.23,"d":"77.2)"}}]
[null,null,"1995-1999",{"$f":"[8]Alcohol!D93","v":{"v":16.73,"d":"16.7"}},{"$f":"[8]Alcohol!E93","v":{"v":10.58,"d":"(10.6 -"}},{"$f":"[8]Alcohol!F93","v":{"v":23.95,"d":"24.0)"}},{"$f":"[8]Alcohol!G93","v":{"v":60.66,"d":"60.7"}},{"$f":"[8]Alcohol!H93","v":{"v":46.01,"d":"(46.0 -"}},{"$f":"[8]Alcohol!I93","v":{"v":75.55,"d":"75.6)"}}]
[null,null,"2000-2004",{"$f":"[8]Alcohol!D94","v":{"v":20.61,"d":"20.6"}},{"$f":"[8]Alcohol!E94","v":{"v":14.78,"d":"(14.8 -"}},{"$f":"[8]Alcohol!F94","v":{"v":27.04,"d":"27.0)"}},{"$f":"[8]Alcohol!G94","v":{"v":57.08,"d":"57.1"}},{"$f":"[8]Alcohol!H94","v":{"v":45.04,"d":"(45.0 -"}},{"$f":"[8]Alcohol!I94","v":{"v":71.14,"d":"71.1)"}}]
[null,null,"2005-2009",{"$f":"[8]Alcohol!D95","v":{"v":25.23,"d":"25.2"}},{"$f":"[8]Alcohol!E95","v":{"v":18.71,"d":"(18.7 -"}},{"$f":"[8]Alcohol!F95","v":{"v":32.64,"d":"32.6)"}},{"$f":"[8]Alcohol!G95","v":{"v":57.83,"d":"57.8"}},{"$f":"[8]Alcohol!H95","v":{"v":44.74,"d":"(44.7 -"}},{"$f":"[8]Alcohol!I95","v":{"v":72.58,"d":"72.6)"}}]
[null,"Switzerland","1980-1984"]
[null,null,"1985-1989"]
[null,null,"1990-1994",{"$f":"[8]Alcohol!D176","v":{"v":13.11,"d":"13.1"}},{"$f":"[8]Alcohol!E176","v":{"v":11.75,"d":"(11.8 -"}},{"$f":"[8]Alcohol!F176","v":{"v":14.49,"d":"14.5)"}},{"$f":"[8]Alcohol!G176","v":{"v":34.01,"d":"34.0"}},{"$f":"[8]Alcohol!H176","v":{"v":30.13,"d":"(30.1 -"}},{"$f":"[8]Alcohol!I176","v":{"v":37.83,"d":"37.8)"}}]
[null,null,"1995-1999",{"$f":"[8]Alcohol!D177","v":{"v":18.08,"d":"18.1"}},{"$f":"[8]Alcohol!E177","v":{"v":16.55,"d":"(16.6 -"}},{"$f":"[8]Alcohol!F177","v":{"v":19.62,"d":"19.6)"}},{"$f":"[8]Alcohol!G177","v":45.2},{"$f":"[8]Alcohol!H177","v":{"v":40.57,"d":"(40.6 -"}},{"$f":"[8]Alcohol!I177","v":{"v":49.91,"d":"49.9)"}}]
[null,null,"2000-2004",{"$f":"[8]Alcohol!D178","v":{"v":6.76,"d":"6.8"}},{"$f":"[8]Alcohol!E178","v":{"v":5.82,"d":"(5.8 -"}},{"$f":"[8]Alcohol!F178","v":{"v":7.72,"d":"7.7)"}},{"$f":"[8]Alcohol!G178","v":{"v":20.59,"d":"20.6"}},{"$f":"[8]Alcohol!H178","v":{"v":16.91,"d":"(16.9 -"}},{"$f":"[8]Alcohol!I178","v":{"v":24.13,"d":"24.1)"}}]
[null,null,"2005-2009",{"$f":"[8]Alcohol!D179","v":{"v":7.91,"d":"7.9"}},{"$f":"[8]Alcohol!E179","v":{"v":6.62,"d":"(6.6 -"}},{"$f":"[8]Alcohol!F179","v":{"v":9.25,"d":"9.3)"}},{"$f":"[8]Alcohol!G179","v":{"v":21.59,"d":"21.6"}},{"$f":"[8]Alcohol!H179","v":{"v":17.29,"d":"(17.3 -"}},{"$f":"[8]Alcohol!I179","v":{"v":26.15,"d":"26.2)"}}]
[null,"Austria","1980-1984",{"$f":"[8]Alcohol!D7","v":{"v":4.32,"d":"4.3"}},{"$f":"[8]Alcohol!E7","v":{"v":2.57,"d":"(2.6 -"}},{"$f":"[8]Alcohol!F7","v":{"v":6.51,"d":"6.5)"}},{"$f":"[8]Alcohol!G7","v":15.4},{"$f":"[8]Alcohol!H7","v":{"v":8.8,"d":"(8.8 -"}},{"$f":"[8]Alcohol!I7","v":{"v":23.29,"d":"23.3)"}}]
[null,null,"1985-1989"]
[null,null,"1990-1994",{"$f":"[8]Alcohol!D8","v":{"v":8.29,"d":"8.3"}},{"$f":"[8]Alcohol!E8","v":{"v":4.78,"d":"(4.8 -"}},{"$f":"[8]Alcohol!F8","v":{"v":12.52,"d":"12.5)"}},{"$f":"[8]Alcohol!G8","v":{"v":22.96,"d":"23.0"}},{"$f":"[8]Alcohol!H8","v":{"v":15.63,"d":"(15.6 -"}},{"$f":"[8]Alcohol!I8","v":{"v":31.55,"d":"31.6)"}}]
[null,null,"1995-1999"]
[null,null,"2000-2004",{"$f":"[8]Alcohol!D9","v":{"v":6.55,"d":"6.6"}},{"$f":"[8]Alcohol!E9","v":{"v":4.7,"d":"(4.7 -"}},{"$f":"[8]Alcohol!F9","v":{"v":8.46,"d":"8.5)"}},{"$f":"[8]Alcohol!G9","v":{"v":20.57,"d":"20.6"}},{"$f":"[8]Alcohol!H9","v":{"v":15.29,"d":"(15.3 -"}},{"$f":"[8]Alcohol!I9","v":{"v":27.3,"d":"27.3)"}}]
[null,null,"2005-2009"]
[null,"Madrid","1980-1984"]
[null,null,"1985-1989"]
[null,null,"1990-1994"]
[null,null,"1995-1999",{"$f":"[8]Alcohol!D154","v":{"v":2.98,"d":"3.0"}},{"$f":"[8]Alcohol!E154","v":{"v":1.83,"d":"(1.8 -"}},{"$f":"[8]Alcohol!F154","v":{"v":4.23,"d":"4.2)"}},{"$f":"[8]Alcohol!G154","v":{"v":7.51,"d":"7.5"}},{"$f":"[8]Alcohol!H154","v":{"v":5.29,"d":"(5.3 -"}},{"$f":"[8]Alcohol!I154","v":{"v":9.88,"d":"9.9)"}}]
[null,null,"2000-2004",{"$f":"[8]Alcohol!D155","v":{"v":2.67,"d":"2.7"}},{"$f":"[8]Alcohol!E155","v":{"v":1.63,"d":"(1.6 -"}},{"$f":"[8]Alcohol!F155","v":{"v":3.86,"d":"3.9)"}},{"$f":"[8]Alcohol!G155","v":{"v":2.53,"d":"2.5"}},{"$f":"[8]Alcohol!H155","v":{"v":1.17,"d":"(1.2 -"}},{"$f":"[8]Alcohol!I155","v":{"v":4.12,"d":"4.1)"}}]
[null,null,"2005-2009"]
[null,"Italy, Turin","1980-1984",{"$f":"[8]Alcohol!D113","v":{"v":1.68,"d":"1.7"}},{"$f":"[8]Alcohol!E113","v":{"v":0.29,"d":"(0.3 -"}},{"$f":"[8]Alcohol!F113","v":{"v":3.67,"d":"3.7)"}},{"$f":"[8]Alcohol!G113","v":{"v":5.75,"d":"5.8"}},{"$f":"[8]Alcohol!H113","v":{"v":3.5,"d":"(3.5 -"}},{"$f":"[8]Alcohol!I113","v":{"v":8.5,"d":"8.5)"}}]
[null,null,"1985-1989",{"$f":"[8]Alcohol!D114","v":{"v":4.06,"d":"4.1"}},{"$f":"[8]Alcohol!E114","v":{"v":1.79,"d":"(1.8 -"}},{"$f":"[8]Alcohol!F114","v":{"v":6.7,"d":"6.7)"}},{"$f":"[8]Alcohol!G114","v":{"v":6.63,"d":"6.6"}},{"$f":"[8]Alcohol!H114","v":{"v":4.04,"d":"(4.0 -"}},{"$f":"[8]Alcohol!I114","v":{"v":9.39,"d":"9.4)"}}]
[null,null,"1990-1994",{"$f":"[8]Alcohol!D115","v":{"v":1.82,"d":"1.8"}},{"$f":"[8]Alcohol!E115","v":{"v":0.58,"d":"(0.6 -"}},{"$f":"[8]Alcohol!F115","v":{"v":3.34,"d":"3.3)"}},{"$f":"[8]Alcohol!G115","v":{"v":5.34,"d":"5.3"}},{"$f":"[8]Alcohol!H115","v":{"v":3.1,"d":"(3.1 -"}},{"$f":"[8]Alcohol!I115","v":{"v":7.89,"d":"7.9)"}}]
[null,null,"1995-1999",{"$f":"[8]Alcohol!D116","v":{"v":2.34,"d":"2.3"}},{"$f":"[8]Alcohol!E116","v":{"v":0.69,"d":"(0.7 -"}},{"$f":"[8]Alcohol!F116","v":{"v":4.32,"d":"4.3)"}},{"$f":"[8]Alcohol!G116","v":{"v":7.03,"d":"7.0"}},{"$f":"[8]Alcohol!H116","v":{"v":3.94,"d":"(3.9 -"}},{"$f":"[8]Alcohol!I116","v":{"v":10.41,"d":"10.4)"}}]
[null,null,"2000-2004",{"$f":"[8]Alcohol!D117","v":{"v":3.31,"d":"3.3"}},{"$f":"[8]Alcohol!E117","v":{"v":1.5,"d":"(1.5 -"}},{"$f":"[8]Alcohol!F117","v":{"v":5.36,"d":"5.4)"}},{"$f":"[8]Alcohol!G117","v":{"v":6.28,"d":"6.3"}},{"$f":"[8]Alcohol!H117","v":{"v":3.67,"d":"(3.7 -"}},{"$f":"[8]Alcohol!I117","v":{"v":9.23,"d":"9.2)"}}]
[null,null,"2005-2009",{"$f":"[8]Alcohol!D118","v":{"v":1.44,"d":"1.4"}},{"$f":"[8]Alcohol!E118","v":{"v":0.31,"d":"(0.3 -"}},{"$f":"[8]Alcohol!F118","v":{"v":3,"d":"3.0)"}},{"$f":"[8]Alcohol!G118","v":{"v":4.62,"d":"4.6"}},{"$f":"[8]Alcohol!H118","v":{"v":1.72,"d":"(1.7 -"}},{"$f":"[8]Alcohol!I118","v":{"v":8.1,"d":"8.1)"}}]
[null,"Lithuania","1980-1984"]
[null,null,"1985-1989"]
[null,null,"1990-1994"]
[null,null,"1995-1999"]
[null,null,"2000-2004",{"$f":"[8]Alcohol!D134","v":{"v":17.27,"d":"17.3"}},{"$f":"[8]Alcohol!E134","v":{"v":13.67,"d":"(13.7 -"}},{"$f":"[8]Alcohol!F134","v":{"v":21.38,"d":"21.4)"}},{"$f":"[8]Alcohol!G134","v":{"v":33.46,"d":"33.5"}},{"$f":"[8]Alcohol!H134","v":{"v":29.82,"d":"(29.8 -"}},{"$f":"[8]Alcohol!I134","v":{"v":37.5,"d":"37.5)"}}]
[null,null,"2005-2009",{"$f":"[8]Alcohol!D135","v":27.5},{"$f":"[8]Alcohol!E135","v":{"v":22.6,"d":"(22.6 -"}},{"$f":"[8]Alcohol!F135","v":{"v":32.07,"d":"32.1)"}},{"$f":"[8]Alcohol!G135","v":{"v":61.25,"d":"61.3"}},{"$f":"[8]Alcohol!H135","v":{"v":55.13,"d":"(55.1 -"}},{"$f":"[8]Alcohol!I135","v":{"v":66.66,"d":"66.7)"}}]
[]
[null,"* different codes of alcohol-related causes; or some specific alcohol-related causes are missing"]
[null,"# age range 40–79 years"]
[null,"NA = not available; regression gives 'infinite' value"]

{"sheet":"Sheet1","index":17,"n_rows":0,"n_cols":0,"rows_kept":0}

{"sheet":"Sheet2","index":18,"n_rows":0,"n_cols":0,"rows_kept":0}